PDS_VERSION_ID = PDS3
/* FILE DATA ELEMENTS */
RECORD_TYPE = STREAM
/* POINTERS TO DATA OBJECTS */
^COMPRESSED_FILE = "H8756_0000_S13.JP2"
/* IDENTIFICATION DATA ELEMENTS */
DATA_SET_ID = "MEX-M-HRSC-5-REFDR-MAPPROJECTED-V3.0"
DATA_SET_NAME = "MARS EXPRESS HRSC MAP PROJECTED REFDR V3.0"
DETECTOR_ID = MEX_HRSC_S1
EVENT_TYPE = "MARS-REGIONAL-VARIABLE-Gl-At"
INSTRUMENT_HOST_ID = MEX
INSTRUMENT_HOST_NAME = "MARS EXPRESS"
INSTRUMENT_ID = HRSC
INSTRUMENT_NAME = "HIGH RESOLUTION STEREO CAMERA"
MISSION_NAME = "MARS EXPRESS"
MISSION_PHASE_NAME = ME_Phase_22
PROCESSING_LEVEL_ID = 3
PRODUCT_CREATION_TIME = 2016-07-14T20:31:06.000Z
PRODUCT_ID = "H8756_0000_S13.JP2"
RELEASE_ID = 0093
REVISION_ID = 0000
/* QUALITY DATA ELEMENTS */
DATA_QUALITY_ID = 1
DATA_QUALITY_DESC = "Data calculated based on original SPICE kernels"
/* TIME DATA ELEMENTS */
SPACECRAFT_CLOCK_START_COUNT = "1/0237168878.09133"
SPACECRAFT_CLOCK_STOP_COUNT = "1/0237169073.39026"
START_TIME = 2010-11-07T00:15:42.304Z
STOP_TIME = 2010-11-07T00:17:54.282Z
/* ORBITAL DATA ELEMENTS */
ASCENDING_NODE_LONGITUDE = 50.08
MAXIMUM_RESOLUTION = 29.3
FOOTPRINT_POINT_LATITUDE = (-83.9123,-83.8445,-83.7682,-83.6882, -83.6048,-83.5179,-83.4278,-83.2597, -83.1293,-82.933,-82.8009,-82.6678, -82.4671,-82.3327,-82.1979,-82.0627, -81.9273,-81.7914,-81.6551,-81.5187, -81.3819,-81.245,-81.1075,-80.9694, -80.8318,-80.694,-80.5564,-80.3344, -80.1683,-80.0024,-79.8365,-79.6703, -79.4204,-79.2539,-79.0873,-78.8374, -78.6716,-78.5076,-78.2582,-78.0087, -77.8422,-77.6754,-77.4213,-77.1708, -76.9225,-76.7566,-76.5912,-76.3426, -76.1765,-76.0101,-75.8597,-75.9014, -75.9501,-75.9954,-76.0387,-76.0863, -76.1998,-76.3682,-76.5368,-76.7062, -76.9595,-77.1286,-77.2963,-77.5516, -77.7217,-77.8915,-78.065,-78.3224, -78.4936,-78.7496,-78.9261,-79.1836, -79.3553,-79.5195,-79.7757,-79.9467, -80.2026,-80.3736,-80.5446,-80.7162, -80.9496,-81.0937,-81.2351,-81.378, -81.5929,-81.736,-81.8789,-82.0219, -82.1648,-82.3076,-82.4505,-82.5933, -82.7356,-82.8778,-83.0199,-83.2329, -83.3749,-83.5872,-83.727,-83.9123)
FOOTPRINT_POINT_LONGITUDE = (118.211,116.745,115.224,113.745,112.31 ,110.917,109.565,109.336,109.961,110.85 ,111.417,111.964,112.749,113.247, 113.727,114.19,114.636,115.067,115.483, 115.885,116.273,116.648,117.012,117.365 ,117.705,118.034,118.351,118.843, 119.196,119.535,119.861,120.177,120.632 ,120.922,121.202,121.605,121.861, 122.104,122.463,122.805,123.025,123.24, 123.558,123.854,124.134,124.316,124.491 ,124.746,124.911,125.072,125.726, 126.433,127.311,128.197,129.092,130.276 ,130.924,130.808,130.689,130.568, 130.379,130.248,130.112,129.904,129.76, 129.612,129.463,129.228,129.064,128.806 ,128.635,128.358,128.166,127.957, 127.642,127.424,127.08,126.841,126.592, 126.335,125.971,125.736,125.49,125.237, 124.842,124.567,124.281,123.985,123.678 ,123.36,123.029,122.685,122.326,121.953 ,121.565,120.951,120.519,119.835, 119.352,118.211)
ORBIT_NUMBER = 8756
ORBITAL_ECCENTRICITY = 0.578
ORBITAL_INCLINATION = 86.84
ORBITAL_SEMIMAJOR_AXIS = 8760.89
PERIAPSIS_ALTITUDE = 321.23
PERIAPSIS_ARGUMENT_ANGLE = 266.01
PERIAPSIS_TIME = 2010-11-07T00:12:47.000Z
SPACECRAFT_ORIENTATION = (0.0,1.0,0.0)
^MEX_ORIENTATION_DESC = "MEX_ORIENTATION_DESC.TXT"
SPACECRAFT_POINTING_MODE = ACROSSTRACK
^MEX_POINTING_DESC = "MEX_POINTING_DESC.TXT"
RIGHT_ASCENSION = -1e+32
DECLINATION = -1e+32
OFFSET_ANGLE = -0.3
SPACECRAFT_SOLAR_DISTANCE = 2.20387e+08
TARGET_NAME = MARS
/* CAMERA DATA ELEMENTS */
DETECTOR_TEMPERATURE = 17.1471
FOCAL_PLANE_TEMPERATURE = 7.7677
INST_CMPRS_NAME = "DISCRETE COSINE TRANSFORMATION (DCT)"
INST_CMPRS_RATIO = 10.2119
INST_CMPRS_QUALITY = 0
INST_CMPRS_QUANTZ_TBL_ID = 0
INSTRUMENT_TEMPERATURE = 10.8262
LENS_TEMPERATURE = 7.9716
MACROPIXEL_SIZE = 2
MISSING_FRAMES = 0
PIXEL_SUBSAMPLING_FLAG = N
SIGNAL_CHAIN_ID = 1
/* RADIOMETRIC DATA ELEMENTS */
BANDWIDTH = 180.0
CENTER_FILTER_WAVELENGTH = 677.0
RADIANCE_OFFSET = 0.790541
RADIANCE_SCALING_FACTOR = 0.0210629
REFLECTANCE_SCALING_FACTOR = 0.000533741
MEX:REFLECTANCE_OFFSET = 0.0200326
/* IMAGE OBJECT DEFINITIONS */
OBJECT = IMAGE
  INTERCHANGE_FORMAT = BINARY
  LINES = 19329
  LINE_SAMPLES = 8296
  SAMPLE_TYPE = UNSIGNED_INTEGER
  SAMPLE_BITS = 8
  BANDS = 1
  BAND_STORAGE_TYPE = BAND_SEQUENTIAL
  MAXIMUM = 255
  MEAN = 55.0183
  MINIMUM = 1
  STANDARD_DEVIATION = 43.5128
END_OBJECT = IMAGE
/* MAP OBJECT DEFINITIONS */
OBJECT = IMAGE_MAP_PROJECTION
  ^DATA_SET_MAP_PROJECTION_CATALOG= "DSMAP.CAT"
  A_AXIS_RADIUS = 3396.0
  B_AXIS_RADIUS = 3396.0
  C_AXIS_RADIUS = 3396.0
  CENTER_LATITUDE = 0.0
  CENTER_LONGITUDE = 123.0
  COORDINATE_SYSTEM_NAME = PLANETOGRAPHIC
  COORDINATE_SYSTEM_TYPE = "BODY-FIXED ROTATING"
  EASTERNMOST_LONGITUDE = 130.924
  FIRST_STANDARD_PARALLEL = "N/A"
  LINE_FIRST_PIXEL = 1
  LINE_LAST_PIXEL = 19329
  LINE_PROJECTION_OFFSET = -179896.25
  MAP_PROJECTION_ROTATION = 0.0
  MAP_PROJECTION_TYPE = SINUSOIDAL
  MAP_RESOLUTION = 2370.85521546667
  MAP_SCALE = 0.025
  MAXIMUM_LATITUDE = -75.8597
  MINIMUM_LATITUDE = -83.9123
  POSITIVE_LONGITUDE_DIRECTION = EAST
  REFERENCE_LATITUDE = "N/A"
  REFERENCE_LONGITUDE = "N/A"
  SAMPLE_FIRST_PIXEL = 1
  SAMPLE_LAST_PIXEL = 8296
  SAMPLE_PROJECTION_OFFSET = 3972.75
  SECOND_STANDARD_PARALLEL = "N/A"
  WESTERNMOST_LONGITUDE = 109.336
END_OBJECT = IMAGE_MAP_PROJECTION
/* The JPEG2000 image data file associated with this label. */
OBJECT = COMPRESSED_FILE
  FILE_NAME = "H8756_0000_S13.JP2"
  RECORD_TYPE = UNDEFINED
  FILE_RECORDS = UNK
  ENCODING_TYPE = "JP2"
  INTERCHANGE_FORMAT = BINARY
  UNCOMPRESSED_FILE_NAME = "H8756_0000_S13.IMG"
  REQUIRED_STORAGE_BYTES = "160386568"
  ^DESCRIPTION = "JP2INFO.TXT"
END_OBJECT = COMPRESSED_FILE
END
