PDS_VERSION_ID = PDS3
/* FILE DATA ELEMENTS */
RECORD_TYPE = STREAM
/* POINTERS TO DATA OBJECTS */
^COMPRESSED_FILE = "H8749_0000_P23.JP2"
/* IDENTIFICATION DATA ELEMENTS */
DATA_SET_ID = "MEX-M-HRSC-5-REFDR-MAPPROJECTED-V3.0"
DATA_SET_NAME = "MARS EXPRESS HRSC MAP PROJECTED REFDR V3.0"
DETECTOR_ID = MEX_HRSC_P2
EVENT_TYPE = "MARS-REGIONAL-VARIABLE-Gl-At"
INSTRUMENT_HOST_ID = MEX
INSTRUMENT_HOST_NAME = "MARS EXPRESS"
INSTRUMENT_ID = HRSC
INSTRUMENT_NAME = "HIGH RESOLUTION STEREO CAMERA"
MISSION_NAME = "MARS EXPRESS"
MISSION_PHASE_NAME = ME_Phase_22
PROCESSING_LEVEL_ID = 3
PRODUCT_CREATION_TIME = 2016-07-14T20:31:06.000Z
PRODUCT_ID = "H8749_0000_P23.JP2"
RELEASE_ID = 0093
REVISION_ID = 0000
/* QUALITY DATA ELEMENTS */
DATA_QUALITY_ID = 1
DATA_QUALITY_DESC = "Data calculated based on original SPICE kernels"
/* TIME DATA ELEMENTS */
SPACECRAFT_CLOCK_START_COUNT = "1/0236992626.09036"
SPACECRAFT_CLOCK_STOP_COUNT = "1/0236992823.63590"
START_TIME = 2010-11-04T23:17:18.817Z
STOP_TIME = 2010-11-04T23:19:24.031Z
/* ORBITAL DATA ELEMENTS */
ASCENDING_NODE_LONGITUDE = 50.22
MAXIMUM_RESOLUTION = 27.3
FOOTPRINT_POINT_LATITUDE = (-82.5174,-82.4463,-82.3716,-82.2935, -82.2121,-82.1272,-81.8913,-81.547, -81.4054,-81.1885,-81.043,-80.8971, -80.7501,-80.6028,-80.382,-80.2326, -80.0823,-79.9324,-79.7864,-79.6376, -79.4877,-79.3372,-79.1866,-79.0357, -78.8843,-78.7328,-78.5035,-78.3503, -78.1973,-78.0444,-77.8148,-77.6617, -77.4315,-77.2018,-77.0483,-76.8975, -76.665,-76.507,-76.3526,-76.1985, -75.9666,-75.8117,-75.6569,-75.3839, -75.1068,-74.9219,-74.7375,-74.5544, -74.3684,-74.3056,-74.3708,-74.4123, -74.473,-74.5086,-74.6264,-74.8144, -75.0028,-75.1914,-75.3794,-75.5683, -75.7571,-75.944,-76.1804,-76.338, -76.4959,-76.6539,-76.8907,-77.0489, -77.2076,-77.3642,-77.5181,-77.675, -77.9106,-78.0675,-78.2244,-78.3815, -78.5385,-78.6965,-78.8535,-79.0099, -79.1658,-79.3217,-79.4774,-79.6329, -79.8659,-80.0212,-80.1761,-80.3308, -80.4851,-80.717,-80.8714,-81.0252, -81.1787,-81.3321,-81.5614,-81.7899, -81.9418,-82.2355,-82.5266,-82.5174)
FOOTPRINT_POINT_LONGITUDE = (112.339,111.15,109.981,108.832,107.705 ,106.596,106.82,108.086,108.571,109.279 ,109.731,110.169,110.592,111.001, 111.592,111.969,112.334,112.688,113.035 ,113.37,113.695,114.01,114.315,114.613, 114.901,115.181,115.586,115.846,116.1, 116.348,116.706,116.938,117.274,117.598 ,117.807,118.014,118.309,118.496, 118.683,118.866,119.131,119.302,119.47, 119.756,120.036,120.216,120.393,120.566 ,120.731,121.612,122.627,123.322, 124.439,125.138,125.56,125.433,125.301, 125.166,125.027,124.884,124.736,124.587 ,124.392,124.258,124.12,123.978,123.759 ,123.607,123.45,123.294,123.141,122.976 ,122.719,122.542,122.36,122.172,121.978 ,121.776,121.571,121.361,121.146, 120.925,120.696,120.461,120.094,119.84, 119.578,119.307,119.028,118.588,118.282 ,117.966,117.64,117.301,116.77,116.21, 115.818,115.014,114.149,112.339)
ORBIT_NUMBER = 8749
ORBITAL_ECCENTRICITY = 0.578
ORBITAL_INCLINATION = 86.84
ORBITAL_SEMIMAJOR_AXIS = 8760.6
PERIAPSIS_ALTITUDE = 320.98
PERIAPSIS_ARGUMENT_ANGLE = 267.19
PERIAPSIS_TIME = 2010-11-04T23:15:11.000Z
SPACECRAFT_ORIENTATION = (0.0,1.0,0.0)
^MEX_ORIENTATION_DESC = "MEX_ORIENTATION_DESC.TXT"
SPACECRAFT_POINTING_MODE = ACROSSTRACK
^MEX_POINTING_DESC = "MEX_POINTING_DESC.TXT"
RIGHT_ASCENSION = -1e+32
DECLINATION = -1e+32
OFFSET_ANGLE = 0.2
SPACECRAFT_SOLAR_DISTANCE = 2.20772e+08
TARGET_NAME = MARS
/* CAMERA DATA ELEMENTS */
DETECTOR_TEMPERATURE = 18.1666
FOCAL_PLANE_TEMPERATURE = 7.7677
INST_CMPRS_NAME = "DISCRETE COSINE TRANSFORMATION (DCT)"
INST_CMPRS_RATIO = 8.3229
INST_CMPRS_QUALITY = 0
INST_CMPRS_QUANTZ_TBL_ID = 0
INSTRUMENT_TEMPERATURE = 10.8262
LENS_TEMPERATURE = 7.9716
MACROPIXEL_SIZE = 2
MISSING_FRAMES = 0
PIXEL_SUBSAMPLING_FLAG = N
SIGNAL_CHAIN_ID = 3
/* RADIOMETRIC DATA ELEMENTS */
BANDWIDTH = 177.0
CENTER_FILTER_WAVELENGTH = 676.5
RADIANCE_OFFSET = 0.986505
RADIANCE_SCALING_FACTOR = 0.0144687
REFLECTANCE_SCALING_FACTOR = 0.000373917
MEX:REFLECTANCE_OFFSET = 0.0254944
/* IMAGE OBJECT DEFINITIONS */
OBJECT = IMAGE
  INTERCHANGE_FORMAT = BINARY
  LINES = 19583
  LINE_SAMPLES = 8437
  SAMPLE_TYPE = UNSIGNED_INTEGER
  SAMPLE_BITS = 8
  BANDS = 1
  BAND_STORAGE_TYPE = BAND_SEQUENTIAL
  MAXIMUM = 255
  MEAN = 77.055
  MINIMUM = 1
  STANDARD_DEVIATION = 50.887
END_OBJECT = IMAGE
/* MAP OBJECT DEFINITIONS */
OBJECT = IMAGE_MAP_PROJECTION
  ^DATA_SET_MAP_PROJECTION_CATALOG= "DSMAP.CAT"
  A_AXIS_RADIUS = 3396.0
  B_AXIS_RADIUS = 3396.0
  C_AXIS_RADIUS = 3396.0
  CENTER_LATITUDE = 0.0
  CENTER_LONGITUDE = 119.0
  COORDINATE_SYSTEM_NAME = PLANETOGRAPHIC
  COORDINATE_SYSTEM_TYPE = "BODY-FIXED ROTATING"
  EASTERNMOST_LONGITUDE = 125.56
  FIRST_STANDARD_PARALLEL = "N/A"
  LINE_FIRST_PIXEL = 1
  LINE_LAST_PIXEL = 19583
  LINE_PROJECTION_OFFSET = -176042.75
  MAP_PROJECTION_ROTATION = 0.0
  MAP_PROJECTION_TYPE = SINUSOIDAL
  MAP_RESOLUTION = 2370.85521546667
  MAP_SCALE = 0.025
  MAXIMUM_LATITUDE = -74.3056
  MINIMUM_LATITUDE = -82.5266
  POSITIVE_LONGITUDE_DIRECTION = EAST
  REFERENCE_LATITUDE = "N/A"
  REFERENCE_LONGITUDE = "N/A"
  SAMPLE_FIRST_PIXEL = 1
  SAMPLE_LAST_PIXEL = 8437
  SAMPLE_PROJECTION_OFFSET = 4196.25
  SECOND_STANDARD_PARALLEL = "N/A"
  WESTERNMOST_LONGITUDE = 106.596
END_OBJECT = IMAGE_MAP_PROJECTION
/* The JPEG2000 image data file associated with this label. */
OBJECT = COMPRESSED_FILE
  FILE_NAME = "H8749_0000_P23.JP2"
  RECORD_TYPE = UNDEFINED
  FILE_RECORDS = UNK
  ENCODING_TYPE = "JP2"
  INTERCHANGE_FORMAT = BINARY
  UNCOMPRESSED_FILE_NAME = "H8749_0000_P23.IMG"
  REQUIRED_STORAGE_BYTES = "165255519"
  ^DESCRIPTION = "JP2INFO.TXT"
END_OBJECT = COMPRESSED_FILE
END
