PDS_VERSION_ID = PDS3
/* FILE DATA ELEMENTS */
RECORD_TYPE = STREAM
/* POINTERS TO DATA OBJECTS */
^COMPRESSED_FILE = "H8737_0000_P13.JP2"
/* IDENTIFICATION DATA ELEMENTS */
DATA_SET_ID = "MEX-M-HRSC-5-REFDR-MAPPROJECTED-V3.0"
DATA_SET_NAME = "MARS EXPRESS HRSC MAP PROJECTED REFDR V3.0"
DETECTOR_ID = MEX_HRSC_P1
EVENT_TYPE = "MARS-REGIONAL-MAPPING-Im-Fl-Gl"
INSTRUMENT_HOST_ID = MEX
INSTRUMENT_HOST_NAME = "MARS EXPRESS"
INSTRUMENT_ID = HRSC
INSTRUMENT_NAME = "HIGH RESOLUTION STEREO CAMERA"
MISSION_NAME = "MARS EXPRESS"
MISSION_PHASE_NAME = ME_Phase_22
PROCESSING_LEVEL_ID = 3
PRODUCT_CREATION_TIME = 2016-07-14T20:31:06.000Z
PRODUCT_ID = "H8737_0000_P13.JP2"
RELEASE_ID = 0093
REVISION_ID = 0000
/* QUALITY DATA ELEMENTS */
DATA_QUALITY_ID = 1
DATA_QUALITY_DESC = "Data calculated based on original SPICE kernels"
/* TIME DATA ELEMENTS */
SPACECRAFT_CLOCK_START_COUNT = "1/0236690818.09052"
SPACECRAFT_CLOCK_STOP_COUNT = "1/0236691365.63738"
START_TIME = 2010-11-01T11:28:27.897Z
STOP_TIME = 2010-11-01T11:35:12.102Z
/* ORBITAL DATA ELEMENTS */
ASCENDING_NODE_LONGITUDE = 50.44
MAXIMUM_RESOLUTION = 46.9
FOOTPRINT_POINT_LATITUDE = (-58.2762,-58.2351,-58.2034,-57.7397, -57.0577,-56.3686,-56.0186,-55.6617, -55.3089,-54.9524,-54.4073,-54.0421, -53.6746,-53.1162,-52.7432,-52.3651, -51.9828,-51.599,-51.0141,-50.623, -50.2267,-49.8288,-49.4261,-49.0197, -48.6086,-48.1957,-47.7786,-47.3578, -46.9333,-46.5039,-46.0762,-45.6548, -45.2351,-44.818,-44.4028,-43.9902, -43.5806,-43.1735,-42.7689,-42.3664, -41.9664,-41.5676,-41.1699,-40.7763, -40.3867,-39.9994,-39.6151,-39.2348, -38.8588,-38.8572,-38.8617,-38.8619, -38.8627,-38.8601,-38.853,-39.4256, -40.0062,-40.3956,-40.9857,-41.3811, -41.7818,-42.1836,-42.5887,-42.9954, -43.4052,-43.8169,-44.2312,-44.648, -45.0673,-45.489,-45.9142,-46.3421, -46.7729,-47.2035,-47.6296,-48.0522, -48.4705,-48.8851,-49.2959,-49.7029, -50.1069,-50.7104,-51.111,-51.4992, -51.8931,-52.2785,-52.659,-53.0355, -53.4076,-53.9601,-54.5128,-54.8815, -55.2424,-55.601,-55.9567,-56.3134, -57.0095,-57.696,-58.3711,-58.2762)
FOOTPRINT_POINT_LONGITUDE = (277.27,276.125,275.376,275.201,275.277 ,275.347,275.38,275.413,275.443,275.472 ,275.513,275.541,275.567,275.605, 275.626,275.648,275.67,275.689,275.718, 275.734,275.75,275.763,275.777,275.79, 275.802,275.812,275.821,275.829,275.836 ,275.842,275.848,275.851,275.852, 275.853,275.853,275.853,275.85,275.848, 275.844,275.839,275.834,275.829,275.824 ,275.817,275.808,275.799,275.789, 275.777,275.764,276.249,277.0,277.573, 278.236,279.077,280.056,280.315,280.289 ,280.27,280.243,280.223,280.205,280.186 ,280.167,280.146,280.126,280.104, 280.082,280.059,280.036,280.012,279.988 ,279.963,279.938,279.913,279.886,279.86 ,279.832,279.805,279.777,279.748,279.72 ,279.679,279.655,279.621,279.596, 279.565,279.532,279.497,279.462,279.408 ,279.359,279.324,279.289,279.254, 279.218,279.181,279.104,279.027,278.947 ,277.27)
ORBIT_NUMBER = 8737
ORBITAL_ECCENTRICITY = 0.578
ORBITAL_INCLINATION = 86.83
ORBITAL_SEMIMAJOR_AXIS = 8760.76
PERIAPSIS_ALTITUDE = 320.71
PERIAPSIS_ARGUMENT_ANGLE = 269.24
PERIAPSIS_TIME = 2010-11-01T11:19:24.000Z
SPACECRAFT_ORIENTATION = (0.0,1.0,0.0)
^MEX_ORIENTATION_DESC = "MEX_ORIENTATION_DESC.TXT"
SPACECRAFT_POINTING_MODE = ACROSSTRACK
^MEX_POINTING_DESC = "MEX_POINTING_DESC.TXT"
RIGHT_ASCENSION = -1e+32
DECLINATION = -1e+32
OFFSET_ANGLE = -0.18
SPACECRAFT_SOLAR_DISTANCE = 2.21436e+08
TARGET_NAME = MARS
/* CAMERA DATA ELEMENTS */
DETECTOR_TEMPERATURE = 17.5549
FOCAL_PLANE_TEMPERATURE = 7.7677
INST_CMPRS_NAME = "DISCRETE COSINE TRANSFORMATION (DCT)"
INST_CMPRS_RATIO = 14.2741
INST_CMPRS_QUALITY = 0
INST_CMPRS_QUANTZ_TBL_ID = 0
INSTRUMENT_TEMPERATURE = 11.0301
LENS_TEMPERATURE = 8.5833
MACROPIXEL_SIZE = 2
MISSING_FRAMES = 2
PIXEL_SUBSAMPLING_FLAG = N
SIGNAL_CHAIN_ID = 3
/* RADIOMETRIC DATA ELEMENTS */
BANDWIDTH = 174.0
CENTER_FILTER_WAVELENGTH = 675.0
RADIANCE_OFFSET = 3.84436
RADIANCE_SCALING_FACTOR = 0.0196874
REFLECTANCE_SCALING_FACTOR = 0.000519236
MEX:REFLECTANCE_OFFSET = 0.101391
/* IMAGE OBJECT DEFINITIONS */
OBJECT = IMAGE
  INTERCHANGE_FORMAT = BINARY
  LINES = 23121
  LINE_SAMPLES = 3847
  SAMPLE_TYPE = UNSIGNED_INTEGER
  SAMPLE_BITS = 8
  BANDS = 1
  BAND_STORAGE_TYPE = BAND_SEQUENTIAL
  MAXIMUM = 255
  MEAN = 86.3506
  MINIMUM = 1
  STANDARD_DEVIATION = 49.2719
END_OBJECT = IMAGE
/* MAP OBJECT DEFINITIONS */
OBJECT = IMAGE_MAP_PROJECTION
  ^DATA_SET_MAP_PROJECTION_CATALOG= "DSMAP.CAT"
  A_AXIS_RADIUS = 3396.0
  B_AXIS_RADIUS = 3396.0
  C_AXIS_RADIUS = 3396.0
  CENTER_LATITUDE = 0.0
  CENTER_LONGITUDE = 278.0
  COORDINATE_SYSTEM_NAME = PLANETOGRAPHIC
  COORDINATE_SYSTEM_TYPE = "BODY-FIXED ROTATING"
  EASTERNMOST_LONGITUDE = 280.315
  FIRST_STANDARD_PARALLEL = "N/A"
  LINE_FIRST_PIXEL = 1
  LINE_LAST_PIXEL = 23121
  LINE_PROJECTION_OFFSET = -46078.75
  MAP_PROJECTION_ROTATION = 0.0
  MAP_PROJECTION_TYPE = SINUSOIDAL
  MAP_RESOLUTION = 1185.42760773333
  MAP_SCALE = 0.05
  MAXIMUM_LATITUDE = -38.853
  MINIMUM_LATITUDE = -58.3711
  POSITIVE_LONGITUDE_DIRECTION = EAST
  REFERENCE_LATITUDE = "N/A"
  REFERENCE_LONGITUDE = "N/A"
  SAMPLE_FIRST_PIXEL = 1
  SAMPLE_LAST_PIXEL = 3847
  SAMPLE_PROJECTION_OFFSET = 1899.25
  SECOND_STANDARD_PARALLEL = "N/A"
  WESTERNMOST_LONGITUDE = 275.201
END_OBJECT = IMAGE_MAP_PROJECTION
/* The JPEG2000 image data file associated with this label. */
OBJECT = COMPRESSED_FILE
  FILE_NAME = "H8737_0000_P13.JP2"
  RECORD_TYPE = UNDEFINED
  FILE_RECORDS = UNK
  ENCODING_TYPE = "JP2"
  INTERCHANGE_FORMAT = BINARY
  UNCOMPRESSED_FILE_NAME = "H8737_0000_P13.IMG"
  REQUIRED_STORAGE_BYTES = "88969569"
  ^DESCRIPTION = "JP2INFO.TXT"
END_OBJECT = COMPRESSED_FILE
END
