PDS_VERSION_ID = PDS3
/* FILE DATA ELEMENTS */
RECORD_TYPE = STREAM
/* POINTERS TO DATA OBJECTS */
^COMPRESSED_FILE = "H8730_0000_P13.JP2"
/* IDENTIFICATION DATA ELEMENTS */
DATA_SET_ID = "MEX-M-HRSC-5-REFDR-MAPPROJECTED-V3.0"
DATA_SET_NAME = "MARS EXPRESS HRSC MAP PROJECTED REFDR V3.0"
DETECTOR_ID = MEX_HRSC_P1
EVENT_TYPE = "MARS-REGIONAL-MAPPING-Te-Im-Fl"
INSTRUMENT_HOST_ID = MEX
INSTRUMENT_HOST_NAME = "MARS EXPRESS"
INSTRUMENT_ID = HRSC
INSTRUMENT_NAME = "HIGH RESOLUTION STEREO CAMERA"
MISSION_NAME = "MARS EXPRESS"
MISSION_PHASE_NAME = ME_Phase_22
PROCESSING_LEVEL_ID = 3
PRODUCT_CREATION_TIME = 2016-07-14T20:31:06.000Z
PRODUCT_ID = "H8730_0000_P13.JP2"
RELEASE_ID = 0093
REVISION_ID = 0000
/* QUALITY DATA ELEMENTS */
DATA_QUALITY_ID = 1
DATA_QUALITY_DESC = "Data calculated based on original SPICE kernels"
/* TIME DATA ELEMENTS */
SPACECRAFT_CLOCK_START_COUNT = "1/0236514570.09053"
SPACECRAFT_CLOCK_STOP_COUNT = "1/0236514979.22761"
START_TIME = 2010-10-30T10:31:01.109Z
STOP_TIME = 2010-10-30T10:35:38.396Z
/* ORBITAL DATA ELEMENTS */
ASCENDING_NODE_LONGITUDE = 50.58
MAXIMUM_RESOLUTION = 47.3
FOOTPRINT_POINT_LATITUDE = (-56.7639,-56.749,-56.7321,-56.7131, -56.6922,-56.6694,-56.2292,-55.8686, -55.5023,-55.1348,-54.7667,-54.5173, -54.1429,-53.8918,-53.5113,-53.1279, -52.8706,-52.6109,-52.3511,-52.0883, -51.6926,-51.4274,-51.1599,-50.8914, -50.6211,-50.3488,-49.9375,-49.5226, -49.2444,-48.9576,-48.6757,-48.392, -48.1064,-47.8186,-47.5294,-47.2391, -46.9462,-46.6516,-46.3552,-46.057, -45.7575,-45.456,-45.1519,-44.8463, -44.5391,-44.2294,-43.9186,-43.6045, -43.2882,-42.9692,-42.9053,-42.9095, -42.9178,-42.9237,-42.9282,-42.93, -42.9306,-43.0911,-43.4105,-43.7282, -44.0433,-44.357,-44.6686,-44.977, -45.4377,-45.7415,-46.1941,-46.4954, -46.7943,-47.0902,-47.3845,-47.6766, -47.9665,-48.254,-48.6852,-48.9694, -49.3977,-49.6776,-49.9551,-50.2308, -50.6426,-50.9157,-51.3234,-51.5952, -51.8615,-52.2585,-52.521,-52.78, -53.0371,-53.2952,-53.5532,-53.8092, -54.0643,-54.3173,-54.568,-55.1912, -55.6824,-56.0486,-56.6514,-56.7639)
FOOTPRINT_POINT_LONGITUDE = (275.314,274.747,274.185,273.627, 273.072,272.52,272.39,272.415,272.439, 272.462,272.484,272.498,272.518,272.53, 272.548,272.565,272.576,272.587,272.597 ,272.607,272.62,272.628,272.636,272.644 ,272.651,272.657,272.666,272.674, 272.679,272.683,272.687,272.69,272.693, 272.696,272.697,272.699,272.7,272.7, 272.7,272.699,272.698,272.697,272.694, 272.692,272.688,272.684,272.68,272.675, 272.67,272.665,273.26,273.66,274.181, 274.784,275.39,275.796,276.406,276.824, 276.812,276.799,276.786,276.774,276.762 ,276.748,276.729,276.716,276.695, 276.684,276.672,276.659,276.646,276.632 ,276.618,276.603,276.584,276.569, 276.547,276.533,276.518,276.501,276.479 ,276.465,276.445,276.433,276.417, 276.393,276.376,276.357,276.336,276.319 ,276.303,276.286,276.271,276.253, 276.235,276.19,276.152,276.124,276.076, 275.314)
ORBIT_NUMBER = 8730
ORBITAL_ECCENTRICITY = 0.578
ORBITAL_INCLINATION = 86.83
ORBITAL_SEMIMAJOR_AXIS = 8760.65
PERIAPSIS_ALTITUDE = 320.62
PERIAPSIS_ARGUMENT_ANGLE = 270.42
PERIAPSIS_TIME = 2010-10-30T10:21:50.000Z
SPACECRAFT_ORIENTATION = (0.0,1.0,0.0)
^MEX_ORIENTATION_DESC = "MEX_ORIENTATION_DESC.TXT"
SPACECRAFT_POINTING_MODE = ACROSSTRACK
^MEX_POINTING_DESC = "MEX_POINTING_DESC.TXT"
RIGHT_ASCENSION = -1e+32
DECLINATION = -1e+32
OFFSET_ANGLE = -0.687
SPACECRAFT_SOLAR_DISTANCE = 2.21826e+08
TARGET_NAME = MARS
/* CAMERA DATA ELEMENTS */
DETECTOR_TEMPERATURE = 17.5549
FOCAL_PLANE_TEMPERATURE = 7.7677
INST_CMPRS_NAME = "DISCRETE COSINE TRANSFORMATION (DCT)"
INST_CMPRS_RATIO = 11.7433
INST_CMPRS_QUALITY = 0
INST_CMPRS_QUANTZ_TBL_ID = 0
INSTRUMENT_TEMPERATURE = 11.0301
LENS_TEMPERATURE = 8.3794
MACROPIXEL_SIZE = 2
MISSING_FRAMES = 0
PIXEL_SUBSAMPLING_FLAG = N
SIGNAL_CHAIN_ID = 3
/* RADIOMETRIC DATA ELEMENTS */
BANDWIDTH = 174.0
CENTER_FILTER_WAVELENGTH = 675.0
RADIANCE_OFFSET = 3.82968
RADIANCE_SCALING_FACTOR = 0.0151435
REFLECTANCE_SCALING_FACTOR = 0.000400805
MEX:REFLECTANCE_OFFSET = 0.101361
/* IMAGE OBJECT DEFINITIONS */
OBJECT = IMAGE
  INTERCHANGE_FORMAT = BINARY
  LINES = 16486
  LINE_SAMPLES = 3349
  SAMPLE_TYPE = UNSIGNED_INTEGER
  SAMPLE_BITS = 8
  BANDS = 1
  BAND_STORAGE_TYPE = BAND_SEQUENTIAL
  MAXIMUM = 255
  MEAN = 76.0827
  MINIMUM = 1
  STANDARD_DEVIATION = 44.2666
END_OBJECT = IMAGE
/* MAP OBJECT DEFINITIONS */
OBJECT = IMAGE_MAP_PROJECTION
  ^DATA_SET_MAP_PROJECTION_CATALOG= "DSMAP.CAT"
  A_AXIS_RADIUS = 3396.0
  B_AXIS_RADIUS = 3396.0
  C_AXIS_RADIUS = 3396.0
  CENTER_LATITUDE = 0.0
  CENTER_LONGITUDE = 275.0
  COORDINATE_SYSTEM_NAME = PLANETOGRAPHIC
  COORDINATE_SYSTEM_TYPE = "BODY-FIXED ROTATING"
  EASTERNMOST_LONGITUDE = 276.824
  FIRST_STANDARD_PARALLEL = "N/A"
  LINE_FIRST_PIXEL = 1
  LINE_LAST_PIXEL = 16486
  LINE_PROJECTION_OFFSET = -50880.75
  MAP_PROJECTION_ROTATION = 0.0
  MAP_PROJECTION_TYPE = SINUSOIDAL
  MAP_RESOLUTION = 1185.42760773333
  MAP_SCALE = 0.05
  MAXIMUM_LATITUDE = -42.9053
  MINIMUM_LATITUDE = -56.7639
  POSITIVE_LONGITUDE_DIRECTION = EAST
  REFERENCE_LATITUDE = "N/A"
  REFERENCE_LONGITUDE = "N/A"
  SAMPLE_FIRST_PIXEL = 1
  SAMPLE_LAST_PIXEL = 3349
  SAMPLE_PROJECTION_OFFSET = 1899.25
  SECOND_STANDARD_PARALLEL = "N/A"
  WESTERNMOST_LONGITUDE = 272.39
END_OBJECT = IMAGE_MAP_PROJECTION
/* The JPEG2000 image data file associated with this label. */
OBJECT = COMPRESSED_FILE
  FILE_NAME = "H8730_0000_P13.JP2"
  RECORD_TYPE = UNDEFINED
  FILE_RECORDS = UNK
  ENCODING_TYPE = "JP2"
  INTERCHANGE_FORMAT = BINARY
  UNCOMPRESSED_FILE_NAME = "H8730_0000_P13.IMG"
  REQUIRED_STORAGE_BYTES = "55235057"
  ^DESCRIPTION = "JP2INFO.TXT"
END_OBJECT = COMPRESSED_FILE
END
