PDS_VERSION_ID = PDS3
/* FILE DATA ELEMENTS */
RECORD_TYPE = STREAM
/* POINTERS TO DATA OBJECTS */
^COMPRESSED_FILE = "H8728_0000_P23.JP2"
/* IDENTIFICATION DATA ELEMENTS */
DATA_SET_ID = "MEX-M-HRSC-5-REFDR-MAPPROJECTED-V3.0"
DATA_SET_NAME = "MARS EXPRESS HRSC MAP PROJECTED REFDR V3.0"
DETECTOR_ID = MEX_HRSC_P2
EVENT_TYPE = "MARS-REGIONAL-MAPPING-Im-Fl-Mw"
INSTRUMENT_HOST_ID = MEX
INSTRUMENT_HOST_NAME = "MARS EXPRESS"
INSTRUMENT_ID = HRSC
INSTRUMENT_NAME = "HIGH RESOLUTION STEREO CAMERA"
MISSION_NAME = "MARS EXPRESS"
MISSION_PHASE_NAME = ME_Phase_22
PROCESSING_LEVEL_ID = 3
PRODUCT_CREATION_TIME = 2016-07-14T20:31:06.000Z
PRODUCT_ID = "H8728_0000_P23.JP2"
RELEASE_ID = 0093
REVISION_ID = 0000
/* QUALITY DATA ELEMENTS */
DATA_QUALITY_ID = 1
DATA_QUALITY_DESC = "Data calculated based on original SPICE kernels"
/* TIME DATA ELEMENTS */
SPACECRAFT_CLOCK_START_COUNT = "1/0236464230.09133"
SPACECRAFT_CLOCK_STOP_COUNT = "1/0236464776.35170"
START_TIME = 2010-10-29T20:30:49.702Z
STOP_TIME = 2010-10-29T20:36:07.210Z
/* ORBITAL DATA ELEMENTS */
ASCENDING_NODE_LONGITUDE = 50.61
MAXIMUM_RESOLUTION = 43.7
FOOTPRINT_POINT_LATITUDE = (-55.2012,-55.1471,-55.0826,-54.6935, -54.2344,-53.616,-53.3034,-52.9911, -52.5078,-52.0256,-51.7021,-51.3743, -51.0454,-50.7123,-50.2099,-49.8741, -49.5333,-49.1915,-48.842,-48.4985, -47.9628,-47.6061,-47.2455,-46.8837, -46.5182,-46.1493,-45.7785,-45.4051, -45.0273,-44.648,-44.0702,-43.6845, -43.2868,-42.888,-42.4897,-42.0825, -41.6745,-41.2628,-40.846,-40.4285, -40.006,-39.5783,-39.1472,-38.7127, -38.2727,-37.8287,-37.3847,-36.9428, -36.4713,-36.4996,-36.5191,-36.5344, -36.5484,-36.5553,-37.0046,-37.4461, -37.8922,-38.3388,-38.7823,-39.2201, -39.6537,-40.0835,-40.5096,-40.9308, -41.3495,-41.763,-42.1744,-42.5818, -42.9769,-43.3779,-43.7772,-44.1704, -44.5617,-44.9429,-45.5151,-45.8911, -46.266,-46.6354,-47.0018,-47.549, -48.0877,-48.4444,-48.7966,-49.1434, -49.6618,-50.0059,-50.3465,-50.8564, -51.1845,-51.515,-51.8468,-52.1716, -52.4968,-52.9774,-53.4512,-53.7701, -54.2336,-54.5432,-55.1548,-55.2012)
FOOTPRINT_POINT_LONGITUDE = (117.24,116.254,115.257,114.76,114.816, 114.891,114.929,114.966,115.011,115.06, 115.092,115.122,115.152,115.181,115.223 ,115.252,115.279,115.305,115.327, 115.356,115.384,115.405,115.425,115.445 ,115.464,115.482,115.499,115.516, 115.532,115.549,115.57,115.586,115.594, 115.603,115.614,115.62,115.628,115.635, 115.64,115.647,115.652,115.655,115.657, 115.659,115.659,115.658,115.657,115.655 ,116.017,116.712,117.294,117.837, 118.558,119.133,119.379,119.363,119.345 ,119.326,119.307,119.287,119.267, 119.247,119.226,119.205,119.183,119.161 ,119.138,119.115,119.094,119.07,119.044 ,119.02,118.994,118.97,118.931,118.904, 118.877,118.85,118.822,118.779,118.736, 118.706,118.676,118.646,118.599,118.568 ,118.535,118.485,118.453,118.419, 118.384,118.349,118.314,118.26,118.205, 118.166,118.11,118.071,117.991,117.24)
ORBIT_NUMBER = 8728
ORBITAL_ECCENTRICITY = 0.578
ORBITAL_INCLINATION = 86.84
ORBITAL_SEMIMAJOR_AXIS = 8760.35
PERIAPSIS_ALTITUDE = 320.36
PERIAPSIS_ARGUMENT_ANGLE = 270.75
PERIAPSIS_TIME = 2010-10-29T20:22:30.000Z
SPACECRAFT_ORIENTATION = (0.0,1.0,0.0)
^MEX_ORIENTATION_DESC = "MEX_ORIENTATION_DESC.TXT"
SPACECRAFT_POINTING_MODE = ACROSSTRACK
^MEX_POINTING_DESC = "MEX_POINTING_DESC.TXT"
RIGHT_ASCENSION = -1e+32
DECLINATION = -1e+32
OFFSET_ANGLE = 0.72
SPACECRAFT_SOLAR_DISTANCE = 2.21938e+08
TARGET_NAME = MARS
/* CAMERA DATA ELEMENTS */
DETECTOR_TEMPERATURE = 18.3705
FOCAL_PLANE_TEMPERATURE = 7.5638
INST_CMPRS_NAME = "DISCRETE COSINE TRANSFORMATION (DCT)"
INST_CMPRS_RATIO = 7.28066
INST_CMPRS_QUALITY = 0
INST_CMPRS_QUANTZ_TBL_ID = 0
INSTRUMENT_TEMPERATURE = 10.8262
LENS_TEMPERATURE = 7.9716
MACROPIXEL_SIZE = 2
MISSING_FRAMES = 0
PIXEL_SUBSAMPLING_FLAG = N
SIGNAL_CHAIN_ID = 3
/* RADIOMETRIC DATA ELEMENTS */
BANDWIDTH = 177.0
CENTER_FILTER_WAVELENGTH = 676.5
RADIANCE_OFFSET = 5.17923
RADIANCE_SCALING_FACTOR = 0.017314
REFLECTANCE_SCALING_FACTOR = 0.000452184
MEX:REFLECTANCE_OFFSET = 0.135264
/* IMAGE OBJECT DEFINITIONS */
OBJECT = IMAGE
  INTERCHANGE_FORMAT = BINARY
  LINES = 22132
  LINE_SAMPLES = 4085
  SAMPLE_TYPE = UNSIGNED_INTEGER
  SAMPLE_BITS = 8
  BANDS = 1
  BAND_STORAGE_TYPE = BAND_SEQUENTIAL
  MAXIMUM = 255
  MEAN = 115.111
  MINIMUM = 1
  STANDARD_DEVIATION = 49.1625
END_OBJECT = IMAGE
/* MAP OBJECT DEFINITIONS */
OBJECT = IMAGE_MAP_PROJECTION
  ^DATA_SET_MAP_PROJECTION_CATALOG= "DSMAP.CAT"
  A_AXIS_RADIUS = 3396.0
  B_AXIS_RADIUS = 3396.0
  C_AXIS_RADIUS = 3396.0
  CENTER_LATITUDE = 0.0
  CENTER_LONGITUDE = 117.0
  COORDINATE_SYSTEM_NAME = PLANETOGRAPHIC
  COORDINATE_SYSTEM_TYPE = "BODY-FIXED ROTATING"
  EASTERNMOST_LONGITUDE = 119.379
  FIRST_STANDARD_PARALLEL = "N/A"
  LINE_FIRST_PIXEL = 1
  LINE_LAST_PIXEL = 22132
  LINE_PROJECTION_OFFSET = -43241.25
  MAP_PROJECTION_ROTATION = 0.0
  MAP_PROJECTION_TYPE = SINUSOIDAL
  MAP_RESOLUTION = 1185.42760773333
  MAP_SCALE = 0.05
  MAXIMUM_LATITUDE = -36.4713
  MINIMUM_LATITUDE = -55.2012
  POSITIVE_LONGITUDE_DIRECTION = EAST
  REFERENCE_LATITUDE = "N/A"
  REFERENCE_LONGITUDE = "N/A"
  SAMPLE_FIRST_PIXEL = 1
  SAMPLE_LAST_PIXEL = 4085
  SAMPLE_PROJECTION_OFFSET = 1634.75
  SECOND_STANDARD_PARALLEL = "N/A"
  WESTERNMOST_LONGITUDE = 114.76
END_OBJECT = IMAGE_MAP_PROJECTION
/* The JPEG2000 image data file associated with this label. */
OBJECT = COMPRESSED_FILE
  FILE_NAME = "H8728_0000_P23.JP2"
  RECORD_TYPE = UNDEFINED
  FILE_RECORDS = UNK
  ENCODING_TYPE = "JP2"
  INTERCHANGE_FORMAT = BINARY
  UNCOMPRESSED_FILE_NAME = "H8728_0000_P23.IMG"
  REQUIRED_STORAGE_BYTES = "90433730"
  ^DESCRIPTION = "JP2INFO.TXT"
END_OBJECT = COMPRESSED_FILE
END
