PDS_VERSION_ID = PDS3
/* FILE DATA ELEMENTS */
RECORD_TYPE = STREAM
/* POINTERS TO DATA OBJECTS */
^COMPRESSED_FILE = "H8728_0000_GR3.JP2"
/* IDENTIFICATION DATA ELEMENTS */
DATA_SET_ID = "MEX-M-HRSC-5-REFDR-MAPPROJECTED-V3.0"
DATA_SET_NAME = "MARS EXPRESS HRSC MAP PROJECTED REFDR V3.0"
DETECTOR_ID = MEX_HRSC_GREEN
EVENT_TYPE = "MARS-REGIONAL-MAPPING-Im-Fl-Mw"
INSTRUMENT_HOST_ID = MEX
INSTRUMENT_HOST_NAME = "MARS EXPRESS"
INSTRUMENT_ID = HRSC
INSTRUMENT_NAME = "HIGH RESOLUTION STEREO CAMERA"
MISSION_NAME = "MARS EXPRESS"
MISSION_PHASE_NAME = ME_Phase_22
PROCESSING_LEVEL_ID = 3
PRODUCT_CREATION_TIME = 2016-07-14T20:31:06.000Z
PRODUCT_ID = "H8728_0000_GR3.JP2"
RELEASE_ID = 0093
REVISION_ID = 0000
/* QUALITY DATA ELEMENTS */
DATA_QUALITY_ID = 1
DATA_QUALITY_DESC = "Data calculated based on original SPICE kernels"
/* TIME DATA ELEMENTS */
SPACECRAFT_CLOCK_START_COUNT = "1/0236464230.09133"
SPACECRAFT_CLOCK_STOP_COUNT = "1/0236464776.35170"
START_TIME = 2010-10-29T20:31:35.022Z
STOP_TIME = 2010-10-29T20:37:33.874Z
/* ORBITAL DATA ELEMENTS */
ASCENDING_NODE_LONGITUDE = 50.61
MAXIMUM_RESOLUTION = 90.9
FOOTPRINT_POINT_LATITUDE = (-55.095,-55.0583,-55.013,-54.9864, -54.5183,-53.8854,-53.0795,-52.426, -51.7631,-51.4269,-51.0898,-50.7487, -50.405,-50.059,-49.71,-49.3582, -49.0046,-48.6481,-48.2877,-47.9256, -47.5595,-47.1908,-46.8189,-46.4444, -46.0662,-45.6849,-45.3003,-44.9123, -44.5206,-44.1265,-43.728,-43.3276, -42.9231,-42.5149,-42.103,-41.6881, -41.2748,-40.8638,-40.4545,-40.0473, -39.6423,-39.2393,-38.8382,-38.4391, -38.0421,-37.6471,-37.2541,-36.8631, -36.4773,-36.4893,-36.4967,-36.5042, -36.505,-36.5005,-36.8909,-37.2858, -37.6823,-38.0808,-38.4814,-38.8836, -39.2879,-39.6945,-40.1027,-40.513, -40.9255,-41.3396,-41.9649,-42.3815, -42.794,-43.2053,-43.61,-44.0122, -44.4102,-44.806,-45.1975,-45.586, -45.9709,-46.3524,-46.7311,-47.1073, -47.4795,-47.8487,-48.215,-48.5776, -48.9387,-49.2968,-49.6512,-50.0025, -50.3519,-50.6983,-51.0412,-51.3836, -51.7216,-52.0574,-52.7218,-53.2144, -53.8618,-54.3417,-54.8164,-55.095)
FOOTPRINT_POINT_LONGITUDE = (117.344,116.334,115.313,114.638, 114.687,114.763,114.855,114.916,114.98, 115.01,115.038,115.067,115.094,115.122, 115.15,115.175,115.197,115.221,115.245, 115.26,115.28,115.298,115.317,115.333, 115.35,115.365,115.381,115.394,115.41, 115.42,115.434,115.439,115.447,115.454, 115.46,115.463,115.468,115.471,115.473, 115.475,115.475,115.474,115.472,115.47, 115.466,115.462,115.457,115.452,115.446 ,116.111,116.658,117.668,118.325, 119.249,119.589,119.572,119.553,119.534 ,119.514,119.494,119.473,119.451, 119.429,119.406,119.383,119.359,119.322 ,119.296,119.269,119.245,119.217, 119.189,119.161,119.134,119.106,119.077 ,119.048,119.018,118.988,118.958, 118.926,118.894,118.863,118.83,118.799, 118.766,118.732,118.698,118.663,118.628 ,118.592,118.557,118.52,118.483,118.407 ,118.35,118.27,118.209,118.147,117.344)
ORBIT_NUMBER = 8728
ORBITAL_ECCENTRICITY = 0.578
ORBITAL_INCLINATION = 86.84
ORBITAL_SEMIMAJOR_AXIS = 8760.35
PERIAPSIS_ALTITUDE = 320.36
PERIAPSIS_ARGUMENT_ANGLE = 270.75
PERIAPSIS_TIME = 2010-10-29T20:22:30.000Z
SPACECRAFT_ORIENTATION = (0.0,1.0,0.0)
^MEX_ORIENTATION_DESC = "MEX_ORIENTATION_DESC.TXT"
SPACECRAFT_POINTING_MODE = ACROSSTRACK
^MEX_POINTING_DESC = "MEX_POINTING_DESC.TXT"
RIGHT_ASCENSION = -1e+32
DECLINATION = -1e+32
OFFSET_ANGLE = 0.72
SPACECRAFT_SOLAR_DISTANCE = 2.21938e+08
TARGET_NAME = MARS
/* CAMERA DATA ELEMENTS */
DETECTOR_TEMPERATURE = 18.1666
FOCAL_PLANE_TEMPERATURE = 7.5638
INST_CMPRS_NAME = "DISCRETE COSINE TRANSFORMATION (DCT)"
INST_CMPRS_RATIO = 15.6491
INST_CMPRS_QUALITY = 0
INST_CMPRS_QUANTZ_TBL_ID = 0
INSTRUMENT_TEMPERATURE = 10.8262
LENS_TEMPERATURE = 7.9716
MACROPIXEL_SIZE = 4
MISSING_FRAMES = 0
PIXEL_SUBSAMPLING_FLAG = N
SIGNAL_CHAIN_ID = 2
/* RADIOMETRIC DATA ELEMENTS */
BANDWIDTH = 88.0
CENTER_FILTER_WAVELENGTH = 538.0
RADIANCE_OFFSET = 2.02133
RADIANCE_SCALING_FACTOR = 0.00725606
REFLECTANCE_SCALING_FACTOR = 0.000307716
MEX:REFLECTANCE_OFFSET = 0.0857208
/* IMAGE OBJECT DEFINITIONS */
OBJECT = IMAGE
  INTERCHANGE_FORMAT = BINARY
  LINES = 11066
  LINE_SAMPLES = 2043
  SAMPLE_TYPE = UNSIGNED_INTEGER
  SAMPLE_BITS = 8
  BANDS = 1
  BAND_STORAGE_TYPE = BAND_SEQUENTIAL
  MAXIMUM = 255
  MEAN = 72.9043
  MINIMUM = 1
  STANDARD_DEVIATION = 31.8819
END_OBJECT = IMAGE
/* MAP OBJECT DEFINITIONS */
OBJECT = IMAGE_MAP_PROJECTION
  ^DATA_SET_MAP_PROJECTION_CATALOG= "DSMAP.CAT"
  A_AXIS_RADIUS = 3396.0
  B_AXIS_RADIUS = 3396.0
  C_AXIS_RADIUS = 3396.0
  CENTER_LATITUDE = 0.0
  CENTER_LONGITUDE = 117.0
  COORDINATE_SYSTEM_NAME = PLANETOGRAPHIC
  COORDINATE_SYSTEM_TYPE = "BODY-FIXED ROTATING"
  EASTERNMOST_LONGITUDE = 119.589
  FIRST_STANDARD_PARALLEL = "N/A"
  LINE_FIRST_PIXEL = 1
  LINE_LAST_PIXEL = 11066
  LINE_PROJECTION_OFFSET = -21620.875
  MAP_PROJECTION_ROTATION = 0.0
  MAP_PROJECTION_TYPE = SINUSOIDAL
  MAP_RESOLUTION = 592.713803866667
  MAP_SCALE = 0.1
  MAXIMUM_LATITUDE = -36.4773
  MINIMUM_LATITUDE = -55.095
  POSITIVE_LONGITUDE_DIRECTION = EAST
  REFERENCE_LATITUDE = "N/A"
  REFERENCE_LONGITUDE = "N/A"
  SAMPLE_FIRST_PIXEL = 1
  SAMPLE_LAST_PIXEL = 2043
  SAMPLE_PROJECTION_OFFSET = 817.125
  SECOND_STANDARD_PARALLEL = "N/A"
  WESTERNMOST_LONGITUDE = 114.638
END_OBJECT = IMAGE_MAP_PROJECTION
/* The JPEG2000 image data file associated with this label. */
OBJECT = COMPRESSED_FILE
  FILE_NAME = "H8728_0000_GR3.JP2"
  RECORD_TYPE = UNDEFINED
  FILE_RECORDS = UNK
  ENCODING_TYPE = "JP2"
  INTERCHANGE_FORMAT = BINARY
  UNCOMPRESSED_FILE_NAME = "H8728_0000_GR3.IMG"
  REQUIRED_STORAGE_BYTES = "22628268"
  ^DESCRIPTION = "JP2INFO.TXT"
END_OBJECT = COMPRESSED_FILE
END
