PDS_VERSION_ID = PDS3
/* FILE DATA ELEMENTS */
RECORD_TYPE = STREAM
/* POINTERS TO DATA OBJECTS */
^COMPRESSED_FILE = "H8721_0000_P23.JP2"
/* IDENTIFICATION DATA ELEMENTS */
DATA_SET_ID = "MEX-M-HRSC-5-REFDR-MAPPROJECTED-V3.0"
DATA_SET_NAME = "MARS EXPRESS HRSC MAP PROJECTED REFDR V3.0"
DETECTOR_ID = MEX_HRSC_P2
EVENT_TYPE = "MARS-REGIONAL-MAPPING-Im-Fl-Mw"
INSTRUMENT_HOST_ID = MEX
INSTRUMENT_HOST_NAME = "MARS EXPRESS"
INSTRUMENT_ID = HRSC
INSTRUMENT_NAME = "HIGH RESOLUTION STEREO CAMERA"
MISSION_NAME = "MARS EXPRESS"
MISSION_PHASE_NAME = ME_Phase_22
PROCESSING_LEVEL_ID = 3
PRODUCT_CREATION_TIME = 2016-07-14T20:31:06.000Z
PRODUCT_ID = "H8721_0000_P23.JP2"
RELEASE_ID = 0093
REVISION_ID = 0000
/* QUALITY DATA ELEMENTS */
DATA_QUALITY_ID = 1
DATA_QUALITY_DESC = "Data calculated based on original SPICE kernels"
/* TIME DATA ELEMENTS */
SPACECRAFT_CLOCK_START_COUNT = "1/0236287960.08248"
SPACECRAFT_CLOCK_STOP_COUNT = "1/0236288488.51581"
START_TIME = 2010-10-27T19:32:59.296Z
STOP_TIME = 2010-10-27T19:38:11.551Z
/* ORBITAL DATA ELEMENTS */
ASCENDING_NODE_LONGITUDE = 50.74
MAXIMUM_RESOLUTION = 42.5
FOOTPRINT_POINT_LATITUDE = (-55.0424,-55.0236,-54.9847,-54.8785, -54.275,-53.6567,-53.3437,-53.0327, -52.7186,-52.4026,-52.0837,-51.7622, -51.4443,-51.1218,-50.7939,-50.462, -50.1265,-49.7893,-49.4503,-49.1096, -48.7659,-48.2397,-47.8877,-47.5334, -46.9978,-46.6406,-46.2744,-45.9047, -45.5344,-45.1476,-44.7701,-44.3906, -44.0073,-43.4247,-42.8359,-42.4404, -42.0317,-41.6328,-41.2237,-40.8106, -40.3974,-39.9773,-39.5513,-39.1226, -38.6828,-38.2548,-37.8117,-37.1488, -36.4765,-36.4926,-36.505,-36.5129, -36.5181,-36.5213,-36.5218,-36.7405, -37.1825,-37.6301,-38.0715,-38.732, -39.1687,-39.597,-40.0238,-40.4461, -40.8658,-41.4855,-42.0985,-42.5048, -42.9018,-43.2987,-43.8896,-44.2769, -44.658,-45.2261,-45.6137,-45.9849, -46.3544,-46.7207,-47.0828,-47.4437, -47.7993,-48.1591,-48.5142,-48.8551, -49.2041,-49.5443,-50.051,-50.3881, -50.7206,-51.0529,-51.3809,-51.7081, -52.0307,-52.5117,-52.9915,-53.3039, -53.6167,-54.2333,-54.6903,-55.0424)
FOOTPRINT_POINT_LONGITUDE = (114.486,113.919,112.964,111.751, 111.814,111.871,111.898,111.927,111.954 ,111.981,112.007,112.032,112.06,112.087 ,112.11,112.132,112.151,112.171,112.191 ,112.21,112.229,112.252,112.268,112.284 ,112.307,112.323,112.335,112.346, 112.358,112.369,112.379,112.389,112.397 ,112.409,112.419,112.426,112.425, 112.433,112.436,112.438,112.441,112.441 ,112.44,112.438,112.431,112.434,112.428 ,112.42,112.621,113.184,113.675,114.166 ,114.586,115.076,115.565,116.027, 116.014,115.998,115.985,115.962,115.946 ,115.932,115.915,115.899,115.882, 115.856,115.829,115.81,115.792,115.773, 115.742,115.723,115.704,115.674,115.653 ,115.632,115.61,115.588,115.565,115.542 ,115.52,115.493,115.467,115.446,115.42, 115.396,115.359,115.333,115.307,115.28, 115.252,115.225,115.197,115.154,115.108 ,115.079,115.048,114.987,114.94, 114.486)
ORBIT_NUMBER = 8721
ORBITAL_ECCENTRICITY = 0.578
ORBITAL_INCLINATION = 86.84
ORBITAL_SEMIMAJOR_AXIS = 8760.47
PERIAPSIS_ALTITUDE = 320.22
PERIAPSIS_ARGUMENT_ANGLE = 271.93
PERIAPSIS_TIME = 2010-10-27T19:24:55.000Z
SPACECRAFT_ORIENTATION = (0.0,1.0,0.0)
^MEX_ORIENTATION_DESC = "MEX_ORIENTATION_DESC.TXT"
SPACECRAFT_POINTING_MODE = ACROSSTRACK
^MEX_POINTING_DESC = "MEX_POINTING_DESC.TXT"
RIGHT_ASCENSION = -1e+32
DECLINATION = -1e+32
OFFSET_ANGLE = 0.21
SPACECRAFT_SOLAR_DISTANCE = 2.2233e+08
TARGET_NAME = MARS
/* CAMERA DATA ELEMENTS */
DETECTOR_TEMPERATURE = 18.3705
FOCAL_PLANE_TEMPERATURE = 7.7677
INST_CMPRS_NAME = "DISCRETE COSINE TRANSFORMATION (DCT)"
INST_CMPRS_RATIO = 7.22044
INST_CMPRS_QUALITY = 0
INST_CMPRS_QUANTZ_TBL_ID = 0
INSTRUMENT_TEMPERATURE = 11.0301
LENS_TEMPERATURE = 8.1755
MACROPIXEL_SIZE = 2
MISSING_FRAMES = 2
PIXEL_SUBSAMPLING_FLAG = N
SIGNAL_CHAIN_ID = 3
/* RADIOMETRIC DATA ELEMENTS */
BANDWIDTH = 177.0
CENTER_FILTER_WAVELENGTH = 676.5
RADIANCE_OFFSET = 4.61458
RADIANCE_SCALING_FACTOR = 0.0193144
REFLECTANCE_SCALING_FACTOR = 0.000506208
MEX:REFLECTANCE_OFFSET = 0.120943
/* IMAGE OBJECT DEFINITIONS */
OBJECT = IMAGE
  INTERCHANGE_FORMAT = BINARY
  LINES = 21936
  LINE_SAMPLES = 3822
  SAMPLE_TYPE = UNSIGNED_INTEGER
  SAMPLE_BITS = 8
  BANDS = 1
  BAND_STORAGE_TYPE = BAND_SEQUENTIAL
  MAXIMUM = 255
  MEAN = 112.519
  MINIMUM = 1
  STANDARD_DEVIATION = 44.3027
END_OBJECT = IMAGE
/* MAP OBJECT DEFINITIONS */
OBJECT = IMAGE_MAP_PROJECTION
  ^DATA_SET_MAP_PROJECTION_CATALOG= "DSMAP.CAT"
  A_AXIS_RADIUS = 3396.0
  B_AXIS_RADIUS = 3396.0
  C_AXIS_RADIUS = 3396.0
  CENTER_LATITUDE = 0.0
  CENTER_LONGITUDE = 114.0
  COORDINATE_SYSTEM_NAME = PLANETOGRAPHIC
  COORDINATE_SYSTEM_TYPE = "BODY-FIXED ROTATING"
  EASTERNMOST_LONGITUDE = 116.027
  FIRST_STANDARD_PARALLEL = "N/A"
  LINE_FIRST_PIXEL = 1
  LINE_LAST_PIXEL = 21936
  LINE_PROJECTION_OFFSET = -43253.25
  MAP_PROJECTION_ROTATION = 0.0
  MAP_PROJECTION_TYPE = SINUSOIDAL
  MAP_RESOLUTION = 1185.42760773333
  MAP_SCALE = 0.05
  MAXIMUM_LATITUDE = -36.4765
  MINIMUM_LATITUDE = -55.0424
  POSITIVE_LONGITUDE_DIRECTION = EAST
  REFERENCE_LATITUDE = "N/A"
  REFERENCE_LONGITUDE = "N/A"
  SAMPLE_FIRST_PIXEL = 1
  SAMPLE_LAST_PIXEL = 3822
  SAMPLE_PROJECTION_OFFSET = 1715.25
  SECOND_STANDARD_PARALLEL = "N/A"
  WESTERNMOST_LONGITUDE = 111.751
END_OBJECT = IMAGE_MAP_PROJECTION
/* The JPEG2000 image data file associated with this label. */
OBJECT = COMPRESSED_FILE
  FILE_NAME = "H8721_0000_P23.JP2"
  RECORD_TYPE = UNDEFINED
  FILE_RECORDS = UNK
  ENCODING_TYPE = "JP2"
  INTERCHANGE_FORMAT = BINARY
  UNCOMPRESSED_FILE_NAME = "H8721_0000_P23.IMG"
  REQUIRED_STORAGE_BYTES = "83862324"
  ^DESCRIPTION = "JP2INFO.TXT"
END_OBJECT = COMPRESSED_FILE
END
