PDS_VERSION_ID = PDS3
/* FILE DATA ELEMENTS */
RECORD_TYPE = STREAM
/* POINTERS TO DATA OBJECTS */
^COMPRESSED_FILE = "H8714_0000_RE3.JP2"
/* IDENTIFICATION DATA ELEMENTS */
DATA_SET_ID = "MEX-M-HRSC-5-REFDR-MAPPROJECTED-V3.0"
DATA_SET_NAME = "MARS EXPRESS HRSC MAP PROJECTED REFDR V3.0"
DETECTOR_ID = MEX_HRSC_RED
EVENT_TYPE = "MARS-REGIONAL-MAPPING-Im-Fl-Mw"
INSTRUMENT_HOST_ID = MEX
INSTRUMENT_HOST_NAME = "MARS EXPRESS"
INSTRUMENT_ID = HRSC
INSTRUMENT_NAME = "HIGH RESOLUTION STEREO CAMERA"
MISSION_NAME = "MARS EXPRESS"
MISSION_PHASE_NAME = ME_Phase_21
PROCESSING_LEVEL_ID = 3
PRODUCT_CREATION_TIME = 2016-07-14T20:31:06.000Z
PRODUCT_ID = "H8714_0000_RE3.JP2"
RELEASE_ID = 0093
REVISION_ID = 0000
/* QUALITY DATA ELEMENTS */
DATA_QUALITY_ID = 1
DATA_QUALITY_DESC = "Data calculated based on original SPICE kernels"
/* TIME DATA ELEMENTS */
SPACECRAFT_CLOCK_START_COUNT = "1/0236111690.09051"
SPACECRAFT_CLOCK_STOP_COUNT = "1/0236112203.07596"
START_TIME = 2010-10-25T18:35:00.629Z
STOP_TIME = 2010-10-25T18:40:01.213Z
/* ORBITAL DATA ELEMENTS */
ASCENDING_NODE_LONGITUDE = 50.88
MAXIMUM_RESOLUTION = 83.1
FOOTPRINT_POINT_LATITUDE = (-54.8066,-54.7912,-54.7707,-54.6819, -53.9324,-53.4724,-53.1641,-52.8565, -52.5445,-52.2307,-51.9207,-51.6048, -51.2833,-50.9552,-50.6296,-50.1359, -49.6377,-49.3024,-48.9637,-48.6247, -48.2779,-47.9317,-47.4119,-46.8833, -46.5235,-45.9821,-45.6193,-45.2472, -44.69,-44.3197,-43.9408,-43.5552, -43.1713,-42.7756,-42.3878,-41.9958, -41.6038,-41.1888,-40.7791,-40.3661, -39.9576,-39.5357,-38.9,-38.4728, -38.0339,-37.6067,-37.1639,-36.7162, -36.4502,-36.4536,-36.4625,-36.4649, -36.4635,-36.4566,-36.6732,-37.122, -37.5664,-38.0066,-38.6499,-39.0855, -39.5147,-39.9377,-40.3577,-40.9698, -41.3778,-41.7801,-42.1745,-42.5805, -42.9701,-43.5522,-43.9368,-44.3186, -44.6945,-45.0693,-45.4404,-45.8084, -46.1753,-46.7187,-47.0717,-47.4263, -47.7775,-48.3016,-48.6513,-48.9924, -49.3316,-49.8365,-50.336,-50.6681, -50.9922,-51.3138,-51.7862,-52.1052, -52.4212,-52.735,-53.0442,-53.3537, -53.6624,-54.1255,-54.4289,-54.8066)
FOOTPRINT_POINT_LONGITUDE = (111.205,110.429,109.684,108.672, 108.735,108.769,108.792,108.814,108.835 ,108.856,108.877,108.898,108.916, 108.933,108.95,108.975,108.999,109.013, 109.027,109.041,109.053,109.065,109.084 ,109.101,109.109,109.123,109.131, 109.137,109.147,109.155,109.16,109.163, 109.167,109.168,109.172,109.175,109.178 ,109.174,109.172,109.17,109.17,109.166, 109.16,109.156,109.148,109.145,109.137, 109.128,109.313,109.888,110.369,111.042 ,111.427,111.975,112.562,112.552, 112.542,112.531,112.519,112.504,112.491 ,112.478,112.464,112.448,112.435, 112.423,112.413,112.393,112.381,112.359 ,112.344,112.329,112.314,112.298, 112.282,112.265,112.248,112.221,112.206 ,112.189,112.171,112.142,112.12,112.101 ,112.082,112.051,112.019,111.997, 111.977,111.958,111.931,111.909,111.885 ,111.864,111.841,111.818,111.792,111.75 ,111.723,111.205)
ORBIT_NUMBER = 8714
ORBITAL_ECCENTRICITY = 0.578
ORBITAL_INCLINATION = 86.84
ORBITAL_SEMIMAJOR_AXIS = 8760.68
PERIAPSIS_ALTITUDE = 320.1
PERIAPSIS_ARGUMENT_ANGLE = 273.12
PERIAPSIS_TIME = 2010-10-25T18:27:19.000Z
SPACECRAFT_ORIENTATION = (0.0,1.0,0.0)
^MEX_ORIENTATION_DESC = "MEX_ORIENTATION_DESC.TXT"
SPACECRAFT_POINTING_MODE = ACROSSTRACK
^MEX_POINTING_DESC = "MEX_POINTING_DESC.TXT"
RIGHT_ASCENSION = -1e+32
DECLINATION = -1e+32
OFFSET_ANGLE = -0.229
SPACECRAFT_SOLAR_DISTANCE = 2.22723e+08
TARGET_NAME = MARS
/* CAMERA DATA ELEMENTS */
DETECTOR_TEMPERATURE = 18.1666
FOCAL_PLANE_TEMPERATURE = 7.3599
INST_CMPRS_NAME = "DISCRETE COSINE TRANSFORMATION (DCT)"
INST_CMPRS_RATIO = 18.0177
INST_CMPRS_QUALITY = 0
INST_CMPRS_QUANTZ_TBL_ID = 0
INSTRUMENT_TEMPERATURE = 10.8262
LENS_TEMPERATURE = 7.9716
MACROPIXEL_SIZE = 4
MISSING_FRAMES = 0
PIXEL_SUBSAMPLING_FLAG = N
SIGNAL_CHAIN_ID = 2
/* RADIOMETRIC DATA ELEMENTS */
BANDWIDTH = 48.0
CENTER_FILTER_WAVELENGTH = 748.0
RADIANCE_OFFSET = 1.35984
RADIANCE_SCALING_FACTOR = 0.00575689
REFLECTANCE_SCALING_FACTOR = 0.000651689
MEX:REFLECTANCE_OFFSET = 0.153936
/* IMAGE OBJECT DEFINITIONS */
OBJECT = IMAGE
  INTERCHANGE_FORMAT = BINARY
  LINES = 10853
  LINE_SAMPLES = 1850
  SAMPLE_TYPE = UNSIGNED_INTEGER
  SAMPLE_BITS = 8
  BANDS = 1
  BAND_STORAGE_TYPE = BAND_SEQUENTIAL
  MAXIMUM = 255
  MEAN = 87.5548
  MINIMUM = 1
  STANDARD_DEVIATION = 33.1435
END_OBJECT = IMAGE
/* MAP OBJECT DEFINITIONS */
OBJECT = IMAGE_MAP_PROJECTION
  ^DATA_SET_MAP_PROJECTION_CATALOG= "DSMAP.CAT"
  A_AXIS_RADIUS = 3396.0
  B_AXIS_RADIUS = 3396.0
  C_AXIS_RADIUS = 3396.0
  CENTER_LATITUDE = 0.0
  CENTER_LONGITUDE = 111.0
  COORDINATE_SYSTEM_NAME = PLANETOGRAPHIC
  COORDINATE_SYSTEM_TYPE = "BODY-FIXED ROTATING"
  EASTERNMOST_LONGITUDE = 112.562
  FIRST_STANDARD_PARALLEL = "N/A"
  LINE_FIRST_PIXEL = 1
  LINE_LAST_PIXEL = 10853
  LINE_PROJECTION_OFFSET = -21596.375
  MAP_PROJECTION_ROTATION = 0.0
  MAP_PROJECTION_TYPE = SINUSOIDAL
  MAP_RESOLUTION = 592.713803866667
  MAP_SCALE = 0.1
  MAXIMUM_LATITUDE = -36.4502
  MINIMUM_LATITUDE = -54.8066
  POSITIVE_LONGITUDE_DIRECTION = EAST
  REFERENCE_LATITUDE = "N/A"
  REFERENCE_LONGITUDE = "N/A"
  SAMPLE_FIRST_PIXEL = 1
  SAMPLE_LAST_PIXEL = 1850
  SAMPLE_PROJECTION_OFFSET = 1007.875
  SECOND_STANDARD_PARALLEL = "N/A"
  WESTERNMOST_LONGITUDE = 108.672
END_OBJECT = IMAGE_MAP_PROJECTION
/* The JPEG2000 image data file associated with this label. */
OBJECT = COMPRESSED_FILE
  FILE_NAME = "H8714_0000_RE3.JP2"
  RECORD_TYPE = UNDEFINED
  FILE_RECORDS = UNK
  ENCODING_TYPE = "JP2"
  INTERCHANGE_FORMAT = BINARY
  UNCOMPRESSED_FILE_NAME = "H8714_0000_RE3.IMG"
  REQUIRED_STORAGE_BYTES = "20098400"
  ^DESCRIPTION = "JP2INFO.TXT"
END_OBJECT = COMPRESSED_FILE
END
