PDS_VERSION_ID = PDS3
/* FILE DATA ELEMENTS */
RECORD_TYPE = STREAM
/* POINTERS TO DATA OBJECTS */
^COMPRESSED_FILE = "H8650_0000_BL3.JP2"
/* IDENTIFICATION DATA ELEMENTS */
DATA_SET_ID = "MEX-M-HRSC-5-REFDR-MAPPROJECTED-V3.0"
DATA_SET_NAME = "MARS EXPRESS HRSC MAP PROJECTED REFDR V3.0"
DETECTOR_ID = MEX_HRSC_BLUE
EVENT_TYPE = "MARS-REGIONAL-MAPPING-Te-Im-Fl"
INSTRUMENT_HOST_ID = MEX
INSTRUMENT_HOST_NAME = "MARS EXPRESS"
INSTRUMENT_ID = HRSC
INSTRUMENT_NAME = "HIGH RESOLUTION STEREO CAMERA"
MISSION_NAME = "MARS EXPRESS"
MISSION_PHASE_NAME = ME_Phase_21
PROCESSING_LEVEL_ID = 3
PRODUCT_CREATION_TIME = 2016-07-14T08:00:08.000Z
PRODUCT_ID = "H8650_0000_BL3.JP2"
RELEASE_ID = 0092
REVISION_ID = 0000
/* QUALITY DATA ELEMENTS */
DATA_QUALITY_ID = 1
DATA_QUALITY_DESC = "Data calculated based on original SPICE kernels"
/* TIME DATA ELEMENTS */
SPACECRAFT_CLOCK_START_COUNT = "1/0234500090.09036"
SPACECRAFT_CLOCK_STOP_COUNT = "1/0234500406.53058"
START_TIME = 2010-10-07T02:55:25.862Z
STOP_TIME = 2010-10-07T02:58:44.723Z
/* ORBITAL DATA ELEMENTS */
ASCENDING_NODE_LONGITUDE = 52.08
MAXIMUM_RESOLUTION = 71
FOOTPRINT_POINT_LATITUDE = (-50.5501,-50.5376,-50.524,-50.5127, -50.5003,-50.485,-50.2553,-49.8296, -49.4041,-49.1889,-48.9719,-48.7547, -48.5379,-48.3186,-48.0973,-47.8761, -47.6551,-47.4313,-47.2055,-46.9803, -46.7555,-46.526,-46.2968,-46.068, -45.7196,-45.4869,-45.2543,-45.0177, -44.7807,-44.544,-44.3037,-44.0631, -43.8227,-43.5787,-43.3341,-42.9657, -42.7172,-42.4691,-42.0915,-41.8396, -41.4566,-41.201,-40.8127,-40.5536, -40.1596,-39.8968,-39.6299,-39.3635, -38.9591,-38.689,-38.5448,-38.5524, -38.5604,-38.5639,-38.5663,-38.569, -38.8442,-39.1153,-39.3859,-39.6533, -39.9213,-40.1851,-40.5808,-40.8409, -41.2308,-41.4873,-41.8708,-42.2497, -42.5023,-42.7516,-43.0015,-43.2488, -43.4939,-43.8614,-44.1025,-44.3445, -44.5857,-44.823,-45.0607,-45.2985, -45.532,-45.7656,-46.1151,-46.3445, -46.5743,-46.9176,-47.1432,-47.369, -47.7072,-47.9288,-48.1506,-48.3726, -48.5927,-48.8101,-49.0277,-49.2456, -49.4618,-49.8886,-50.1024,-50.5501)
FOOTPRINT_POINT_LONGITUDE = (177.703,177.174,176.688,176.335, 175.982,175.583,175.385,175.415,175.443 ,175.457,175.471,175.483,175.496, 175.509,175.521,175.532,175.544,175.556 ,175.565,175.576,175.587,175.597, 175.606,175.616,175.63,175.639,175.648, 175.657,175.665,175.672,175.679,175.687 ,175.694,175.701,175.707,175.716, 175.721,175.727,175.734,175.739,175.745 ,175.749,175.754,175.758,175.762, 175.765,175.767,175.769,175.771,175.772 ,176.321,176.696,177.195,177.495, 177.794,178.343,178.441,178.43,178.42, 178.409,178.398,178.387,178.371,178.359 ,178.342,178.331,178.315,178.298, 178.286,178.273,178.26,178.248,178.236, 178.217,178.205,178.191,178.178,178.166 ,178.153,178.139,178.126,178.112, 178.092,178.079,178.065,178.044,178.03, 178.016,177.994,177.98,177.965,177.95, 177.936,177.921,177.906,177.891,177.876 ,177.845,177.829,177.703)
ORBIT_NUMBER = 8650
ORBITAL_ECCENTRICITY = 0.578
ORBITAL_INCLINATION = 86.84
ORBITAL_SEMIMAJOR_AXIS = 8765.84
PERIAPSIS_ALTITUDE = 320.81
PERIAPSIS_ARGUMENT_ANGLE = 283.96
PERIAPSIS_TIME = 2010-10-07T02:49:00.000Z
SPACECRAFT_ORIENTATION = (0.0,1.0,0.0)
^MEX_ORIENTATION_DESC = "MEX_ORIENTATION_DESC.TXT"
SPACECRAFT_POINTING_MODE = ACROSSTRACK
^MEX_POINTING_DESC = "MEX_POINTING_DESC.TXT"
RIGHT_ASCENSION = -1e+32
DECLINATION = -1e+32
OFFSET_ANGLE = 0.1
SPACECRAFT_SOLAR_DISTANCE = 2.26355e+08
TARGET_NAME = MARS
/* CAMERA DATA ELEMENTS */
DETECTOR_TEMPERATURE = 18.1666
FOCAL_PLANE_TEMPERATURE = 8.1755
INST_CMPRS_NAME = "DISCRETE COSINE TRANSFORMATION (DCT)"
INST_CMPRS_RATIO = 11.849
INST_CMPRS_QUALITY = 0
INST_CMPRS_QUANTZ_TBL_ID = 0
INSTRUMENT_TEMPERATURE = 11.234
LENS_TEMPERATURE = 8.3794
MACROPIXEL_SIZE = 4
MISSING_FRAMES = 0
PIXEL_SUBSAMPLING_FLAG = N
SIGNAL_CHAIN_ID = 2
/* RADIOMETRIC DATA ELEMENTS */
BANDWIDTH = 76.0
CENTER_FILTER_WAVELENGTH = 444.0
RADIANCE_OFFSET = 0.770133
RADIANCE_SCALING_FACTOR = 0.00236252
REFLECTANCE_SCALING_FACTOR = 0.000124368
MEX:REFLECTANCE_OFFSET = 0.0405416
/* IMAGE OBJECT DEFINITIONS */
OBJECT = IMAGE
  INTERCHANGE_FORMAT = BINARY
  LINES = 14220
  LINE_SAMPLES = 2640
  SAMPLE_TYPE = UNSIGNED_INTEGER
  SAMPLE_BITS = 8
  BANDS = 1
  BAND_STORAGE_TYPE = BAND_SEQUENTIAL
  MAXIMUM = 255
  MEAN = 73.4361
  MINIMUM = 1
  STANDARD_DEVIATION = 23.653
END_OBJECT = IMAGE
/* MAP OBJECT DEFINITIONS */
OBJECT = IMAGE_MAP_PROJECTION
  ^DATA_SET_MAP_PROJECTION_CATALOG= "DSMAP.CAT"
  A_AXIS_RADIUS = 3396.0
  B_AXIS_RADIUS = 3396.0
  C_AXIS_RADIUS = 3396.0
  CENTER_LATITUDE = 0.0
  CENTER_LONGITUDE = 177.0
  COORDINATE_SYSTEM_NAME = PLANETOGRAPHIC
  COORDINATE_SYSTEM_TYPE = "BODY-FIXED ROTATING"
  EASTERNMOST_LONGITUDE = 178.441
  FIRST_STANDARD_PARALLEL = "N/A"
  LINE_FIRST_PIXEL = 1
  LINE_LAST_PIXEL = 14220
  LINE_PROJECTION_OFFSET = -45681.875
  MAP_PROJECTION_ROTATION = 0.0
  MAP_PROJECTION_TYPE = SINUSOIDAL
  MAP_RESOLUTION = 1185.42760773333
  MAP_SCALE = 0.05
  MAXIMUM_LATITUDE = -38.5448
  MINIMUM_LATITUDE = -50.5501
  POSITIVE_LONGITUDE_DIRECTION = EAST
  REFERENCE_LATITUDE = "N/A"
  REFERENCE_LONGITUDE = "N/A"
  SAMPLE_FIRST_PIXEL = 1
  SAMPLE_LAST_PIXEL = 2640
  SAMPLE_PROJECTION_OFFSET = 1267.375
  SECOND_STANDARD_PARALLEL = "N/A"
  WESTERNMOST_LONGITUDE = 175.385
END_OBJECT = IMAGE_MAP_PROJECTION
/* The JPEG2000 image data file associated with this label. */
OBJECT = COMPRESSED_FILE
  FILE_NAME = "H8650_0000_BL3.JP2"
  RECORD_TYPE = UNDEFINED
  FILE_RECORDS = UNK
  ENCODING_TYPE = "JP2"
  INTERCHANGE_FORMAT = BINARY
  UNCOMPRESSED_FILE_NAME = "H8650_0000_BL3.IMG"
  REQUIRED_STORAGE_BYTES = "37561920"
  ^DESCRIPTION = "JP2INFO.TXT"
END_OBJECT = COMPRESSED_FILE
END
