PDS_VERSION_ID = PDS3
/* FILE DATA ELEMENTS */
RECORD_TYPE = STREAM
/* POINTERS TO DATA OBJECTS */
^COMPRESSED_FILE = "H8642_0000_P13.JP2"
/* IDENTIFICATION DATA ELEMENTS */
DATA_SET_ID = "MEX-M-HRSC-5-REFDR-MAPPROJECTED-V3.0"
DATA_SET_NAME = "MARS EXPRESS HRSC MAP PROJECTED REFDR V3.0"
DETECTOR_ID = MEX_HRSC_P1
EVENT_TYPE = "MARS-REGIONAL-MAPPING-Te-Fl"
INSTRUMENT_HOST_ID = MEX
INSTRUMENT_HOST_NAME = "MARS EXPRESS"
INSTRUMENT_ID = HRSC
INSTRUMENT_NAME = "HIGH RESOLUTION STEREO CAMERA"
MISSION_NAME = "MARS EXPRESS"
MISSION_PHASE_NAME = ME_Phase_21
PROCESSING_LEVEL_ID = 3
PRODUCT_CREATION_TIME = 2016-07-14T08:00:08.000Z
PRODUCT_ID = "H8642_0000_P13.JP2"
RELEASE_ID = 0092
REVISION_ID = 0000
/* QUALITY DATA ELEMENTS */
DATA_QUALITY_ID = 1
DATA_QUALITY_DESC = "Data calculated based on original SPICE kernels"
/* TIME DATA ELEMENTS */
SPACECRAFT_CLOCK_START_COUNT = "1/0234298739.08381"
SPACECRAFT_CLOCK_STOP_COUNT = "1/0234298996.47683"
START_TIME = 2010-10-04T19:00:22.763Z
STOP_TIME = 2010-10-04T19:02:49.359Z
/* ORBITAL DATA ELEMENTS */
ASCENDING_NODE_LONGITUDE = 52.24
MAXIMUM_RESOLUTION = 43.9
FOOTPRINT_POINT_LATITUDE = (-44.1787,-44.1753,-44.1697,-44.1648, -44.1539,-44.1455,-44.0172,-43.7276, -43.2891,-42.996,-42.6994,-42.4019, -42.2521,-42.1011,-41.9505,-41.8, -41.6475,-41.4948,-41.3412,-41.1881, -41.0322,-40.8773,-40.6447,-40.4103, -40.2538,-40.0985,-39.9418,-39.7848, -39.6279,-39.4682,-39.2286,-38.9897, -38.8291,-38.6689,-38.4257,-38.2629, -38.1005,-37.9359,-37.6891,-37.5232, -37.2742,-37.1066,-36.9388,-36.6868, -36.5169,-36.3486,-36.3518,-36.354, -36.3569,-36.3581,-36.3603,-36.3621, -36.3625,-36.3626,-36.3624,-36.3628, -36.3624,-36.4458,-36.6152,-36.8698, -37.0394,-37.2081,-37.3748,-37.5422, -37.7089,-37.8739,-38.0399,-38.2862, -38.4499,-38.6126,-38.7732,-38.9347, -39.0966,-39.2558,-39.4155,-39.5755, -39.8146,-39.9731,-40.1329,-40.2897, -40.4462,-40.6037,-40.838,-40.9931, -41.1499,-41.3047,-41.4577,-41.6113, -41.8412,-42.0676,-42.2187,-42.3701, -42.519,-42.6677,-42.8167,-43.0396, -43.3332,-43.6275,-43.9172,-44.1787)
FOOTPRINT_POINT_LONGITUDE = (276.412,276.113,275.714,275.415, 274.842,274.468,274.071,274.078,274.088 ,274.094,274.1,274.106,274.108,274.111, 274.113,274.116,274.118,274.12,274.123, 274.125,274.127,274.129,274.133,274.134 ,274.136,274.136,274.136,274.136, 274.137,274.137,274.138,274.137,274.137 ,274.136,274.135,274.135,274.134, 274.133,274.132,274.131,274.129,274.128 ,274.126,274.124,274.122,274.12,274.372 ,274.57,274.851,275.048,275.301,275.582 ,275.807,276.004,276.285,276.595,276.82 ,277.023,277.016,277.007,277.0,276.994, 276.987,276.981,276.974,276.967,276.961 ,276.951,276.944,276.937,276.929, 276.922,276.915,276.908,276.901,276.894 ,276.884,276.877,276.871,276.864, 276.858,276.851,276.841,276.835,276.829 ,276.822,276.815,276.808,276.798, 276.787,276.78,276.773,276.765,276.758, 276.75,276.739,276.724,276.709,276.693, 276.412)
ORBIT_NUMBER = 8642
ORBITAL_ECCENTRICITY = 0.578
ORBITAL_INCLINATION = 86.83
ORBITAL_SEMIMAJOR_AXIS = 8766.23
PERIAPSIS_ALTITUDE = 320.37
PERIAPSIS_ARGUMENT_ANGLE = 285.32
PERIAPSIS_TIME = 2010-10-04T18:51:53.000Z
SPACECRAFT_ORIENTATION = (0.0,1.0,0.0)
^MEX_ORIENTATION_DESC = "MEX_ORIENTATION_DESC.TXT"
SPACECRAFT_POINTING_MODE = NADIR
^MEX_POINTING_DESC = "MEX_POINTING_DESC.TXT"
RIGHT_ASCENSION = -1e+32
DECLINATION = -1e+32
OFFSET_ANGLE = -1e+32
SPACECRAFT_SOLAR_DISTANCE = 2.26811e+08
TARGET_NAME = MARS
/* CAMERA DATA ELEMENTS */
DETECTOR_TEMPERATURE = 17.1471
FOCAL_PLANE_TEMPERATURE = 7.5638
INST_CMPRS_NAME = "DISCRETE COSINE TRANSFORMATION (DCT)"
INST_CMPRS_RATIO = 14.2231
INST_CMPRS_QUALITY = 0
INST_CMPRS_QUANTZ_TBL_ID = 0
INSTRUMENT_TEMPERATURE = 10.8262
LENS_TEMPERATURE = 8.1755
MACROPIXEL_SIZE = 2
MISSING_FRAMES = 0
PIXEL_SUBSAMPLING_FLAG = N
SIGNAL_CHAIN_ID = 3
/* RADIOMETRIC DATA ELEMENTS */
BANDWIDTH = 174.0
CENTER_FILTER_WAVELENGTH = 675.0
RADIANCE_OFFSET = 2.93843
RADIANCE_SCALING_FACTOR = 0.0175682
REFLECTANCE_SCALING_FACTOR = 0.000486113
MEX:REFLECTANCE_OFFSET = 0.0813063
/* IMAGE OBJECT DEFINITIONS */
OBJECT = IMAGE
  INTERCHANGE_FORMAT = BINARY
  LINES = 9319
  LINE_SAMPLES = 2658
  SAMPLE_TYPE = UNSIGNED_INTEGER
  SAMPLE_BITS = 8
  BANDS = 1
  BAND_STORAGE_TYPE = BAND_SEQUENTIAL
  MAXIMUM = 255
  MEAN = 86.196
  MINIMUM = 1
  STANDARD_DEVIATION = 32.8671
END_OBJECT = IMAGE
/* MAP OBJECT DEFINITIONS */
OBJECT = IMAGE_MAP_PROJECTION
  ^DATA_SET_MAP_PROJECTION_CATALOG= "DSMAP.CAT"
  A_AXIS_RADIUS = 3396.0
  B_AXIS_RADIUS = 3396.0
  C_AXIS_RADIUS = 3396.0
  CENTER_LATITUDE = 0.0
  CENTER_LONGITUDE = 275.0
  COORDINATE_SYSTEM_NAME = PLANETOGRAPHIC
  COORDINATE_SYSTEM_TYPE = "BODY-FIXED ROTATING"
  EASTERNMOST_LONGITUDE = 277.023
  FIRST_STANDARD_PARALLEL = "N/A"
  LINE_FIRST_PIXEL = 1
  LINE_LAST_PIXEL = 9319
  LINE_PROJECTION_OFFSET = -43112.25
  MAP_PROJECTION_ROTATION = 0.0
  MAP_PROJECTION_TYPE = SINUSOIDAL
  MAP_RESOLUTION = 1185.42760773333
  MAP_SCALE = 0.05
  MAXIMUM_LATITUDE = -36.3486
  MINIMUM_LATITUDE = -44.1787
  POSITIVE_LONGITUDE_DIRECTION = EAST
  REFERENCE_LATITUDE = "N/A"
  REFERENCE_LONGITUDE = "N/A"
  SAMPLE_FIRST_PIXEL = 1
  SAMPLE_LAST_PIXEL = 2658
  SAMPLE_PROJECTION_OFFSET = 792.75
  SECOND_STANDARD_PARALLEL = "N/A"
  WESTERNMOST_LONGITUDE = 274.071
END_OBJECT = IMAGE_MAP_PROJECTION
/* The JPEG2000 image data file associated with this label. */
OBJECT = COMPRESSED_FILE
  FILE_NAME = "H8642_0000_P13.JP2"
  RECORD_TYPE = UNDEFINED
  FILE_RECORDS = UNK
  ENCODING_TYPE = "JP2"
  INTERCHANGE_FORMAT = BINARY
  UNCOMPRESSED_FILE_NAME = "H8642_0000_P13.IMG"
  REQUIRED_STORAGE_BYTES = "24791166"
  ^DESCRIPTION = "JP2INFO.TXT"
END_OBJECT = COMPRESSED_FILE
END
