PDS_VERSION_ID = PDS3
/* FILE DATA ELEMENTS */
RECORD_TYPE = STREAM
/* POINTERS TO DATA OBJECTS */
^COMPRESSED_FILE = "H8640_0000_S13.JP2"
/* IDENTIFICATION DATA ELEMENTS */
DATA_SET_ID = "MEX-M-HRSC-5-REFDR-MAPPROJECTED-V3.0"
DATA_SET_NAME = "MARS EXPRESS HRSC MAP PROJECTED REFDR V3.0"
DETECTOR_ID = MEX_HRSC_S1
EVENT_TYPE = "MARS-REGIONAL-MAPPING-Im-Fl-Gl"
INSTRUMENT_HOST_ID = MEX
INSTRUMENT_HOST_NAME = "MARS EXPRESS"
INSTRUMENT_ID = HRSC
INSTRUMENT_NAME = "HIGH RESOLUTION STEREO CAMERA"
MISSION_NAME = "MARS EXPRESS"
MISSION_PHASE_NAME = ME_Phase_21
PROCESSING_LEVEL_ID = 3
PRODUCT_CREATION_TIME = 2016-07-14T08:00:08.000Z
PRODUCT_ID = "H8640_0000_S13.JP2"
RELEASE_ID = 0092
REVISION_ID = 0000
/* QUALITY DATA ELEMENTS */
DATA_QUALITY_ID = 1
DATA_QUALITY_DESC = "Data calculated based on original SPICE kernels"
/* TIME DATA ELEMENTS */
SPACECRAFT_CLOCK_START_COUNT = "1/0234248354.09043"
SPACECRAFT_CLOCK_STOP_COUNT = "1/0234248642.52133"
START_TIME = 2010-10-04T05:00:54.257Z
STOP_TIME = 2010-10-04T05:04:03.487Z
/* ORBITAL DATA ELEMENTS */
ASCENDING_NODE_LONGITUDE = 52.28
MAXIMUM_RESOLUTION = 45.1
FOOTPRINT_POINT_LATITUDE = (-45.4506,-45.4338,-45.4162,-45.3979, -45.379,-45.3592,-45.0523,-44.787, -44.345,-43.9799,-43.6209,-43.3468, -43.1638,-42.8879,-42.7024,-42.4247, -42.1434,-41.957,-41.6738,-41.4848, -41.2948,-41.1031,-40.9117,-40.7188, -40.525,-40.3315,-40.1357,-39.9407, -39.7441,-39.5453,-39.3457,-39.1488, -38.9509,-38.6498,-38.4489,-38.2457, -37.9407,-37.7356,-37.531,-37.2187, -37.0097,-36.7992,-36.5934,-36.384, -36.0666,-35.8544,-35.744,-35.752, -35.7619,-35.7684,-35.7746,-35.7875, -35.7959,-35.8017,-35.8079,-35.8132, -36.032,-36.2458,-36.5639,-36.7756, -36.9846,-37.1943,-37.4016,-37.6099, -37.8158,-38.1243,-38.3281,-38.5323, -38.7339,-38.9361,-39.1361,-39.34, -39.5404,-39.8377,-40.0358,-40.3294, -40.5247,-40.7181,-40.9104,-41.097, -41.3852,-41.5793,-41.7702,-41.9605, -42.1484,-42.43,-42.7093,-42.8957, -43.0812,-43.2633,-43.4471,-43.6301, -43.8184,-44.0004,-44.3546,-44.5368, -44.8899,-45.2473,-45.5135,-45.4506)
FOOTPRINT_POINT_LONGITUDE = (122.648,122.225,121.807,121.395, 120.988,120.585,120.484,120.483,120.48, 120.477,120.473,120.47,120.468,120.465, 120.462,120.458,120.454,120.451,120.446 ,120.442,120.439,120.435,120.431, 120.427,120.423,120.419,120.414,120.41, 120.405,120.4,120.395,120.39,120.385, 120.377,120.371,120.365,120.356,120.35, 120.343,120.333,120.326,120.319,120.312 ,120.305,120.294,120.286,120.487, 120.753,121.11,121.349,121.589,122.104, 122.41,122.686,123.118,123.409,123.409, 123.405,123.399,123.395,123.391,123.387 ,123.383,123.379,123.375,123.369, 123.365,123.362,123.358,123.354,123.349 ,123.349,123.346,123.34,123.337,123.331 ,123.327,123.323,123.317,123.308, 123.302,123.301,123.298,123.294,123.29, 123.284,123.278,123.274,123.27,123.265, 123.261,123.256,123.259,123.255,123.24, 123.239,123.225,123.221,123.215, 122.648)
ORBIT_NUMBER = 8640
ORBITAL_ECCENTRICITY = 0.578
ORBITAL_INCLINATION = 86.83
ORBITAL_SEMIMAJOR_AXIS = 8768.34
PERIAPSIS_ALTITUDE = 320.22
PERIAPSIS_ARGUMENT_ANGLE = 285.64
PERIAPSIS_TIME = 2010-10-04T04:52:34.000Z
SPACECRAFT_ORIENTATION = (0.0,1.0,0.0)
^MEX_ORIENTATION_DESC = "MEX_ORIENTATION_DESC.TXT"
SPACECRAFT_POINTING_MODE = ACROSSTRACK
^MEX_POINTING_DESC = "MEX_POINTING_DESC.TXT"
RIGHT_ASCENSION = -1e+32
DECLINATION = -1e+32
OFFSET_ANGLE = -1.3
SPACECRAFT_SOLAR_DISTANCE = 2.26924e+08
TARGET_NAME = MARS
/* CAMERA DATA ELEMENTS */
DETECTOR_TEMPERATURE = 17.351
FOCAL_PLANE_TEMPERATURE = 7.7677
INST_CMPRS_NAME = "DISCRETE COSINE TRANSFORMATION (DCT)"
INST_CMPRS_RATIO = 12.3838
INST_CMPRS_QUALITY = 0
INST_CMPRS_QUANTZ_TBL_ID = 0
INSTRUMENT_TEMPERATURE = 11.0301
LENS_TEMPERATURE = 8.1755
MACROPIXEL_SIZE = 2
MISSING_FRAMES = 0
PIXEL_SUBSAMPLING_FLAG = N
SIGNAL_CHAIN_ID = 1
/* RADIOMETRIC DATA ELEMENTS */
BANDWIDTH = 180.0
CENTER_FILTER_WAVELENGTH = 677.0
RADIANCE_OFFSET = 4.76973
RADIANCE_SCALING_FACTOR = 0.0137469
REFLECTANCE_SCALING_FACTOR = 0.000369323
MEX:REFLECTANCE_OFFSET = 0.128143
/* IMAGE OBJECT DEFINITIONS */
OBJECT = IMAGE
  INTERCHANGE_FORMAT = BINARY
  LINES = 11507
  LINE_SAMPLES = 2738
  SAMPLE_TYPE = UNSIGNED_INTEGER
  SAMPLE_BITS = 8
  BANDS = 1
  BAND_STORAGE_TYPE = BAND_SEQUENTIAL
  MAXIMUM = 255
  MEAN = 148.856
  MINIMUM = 1
  STANDARD_DEVIATION = 35.4421
END_OBJECT = IMAGE
/* MAP OBJECT DEFINITIONS */
OBJECT = IMAGE_MAP_PROJECTION
  ^DATA_SET_MAP_PROJECTION_CATALOG= "DSMAP.CAT"
  A_AXIS_RADIUS = 3396.0
  B_AXIS_RADIUS = 3396.0
  C_AXIS_RADIUS = 3396.0
  CENTER_LATITUDE = 0.0
  CENTER_LONGITUDE = 122.0
  COORDINATE_SYSTEM_NAME = PLANETOGRAPHIC
  COORDINATE_SYSTEM_TYPE = "BODY-FIXED ROTATING"
  EASTERNMOST_LONGITUDE = 123.409
  FIRST_STANDARD_PARALLEL = "N/A"
  LINE_FIRST_PIXEL = 1
  LINE_LAST_PIXEL = 11507
  LINE_PROJECTION_OFFSET = -42426.75
  MAP_PROJECTION_ROTATION = 0.0
  MAP_PROJECTION_TYPE = SINUSOIDAL
  MAP_RESOLUTION = 1185.42760773333
  MAP_SCALE = 0.05
  MAXIMUM_LATITUDE = -35.744
  MINIMUM_LATITUDE = -45.5135
  POSITIVE_LONGITUDE_DIRECTION = EAST
  REFERENCE_LATITUDE = "N/A"
  REFERENCE_LONGITUDE = "N/A"
  SAMPLE_FIRST_PIXEL = 1
  SAMPLE_LAST_PIXEL = 2738
  SAMPLE_PROJECTION_OFFSET = 1520.25
  SECOND_STANDARD_PARALLEL = "N/A"
  WESTERNMOST_LONGITUDE = 120.286
END_OBJECT = IMAGE_MAP_PROJECTION
/* The JPEG2000 image data file associated with this label. */
OBJECT = COMPRESSED_FILE
  FILE_NAME = "H8640_0000_S13.JP2"
  RECORD_TYPE = UNDEFINED
  FILE_RECORDS = UNK
  ENCODING_TYPE = "JP2"
  INTERCHANGE_FORMAT = BINARY
  UNCOMPRESSED_FILE_NAME = "H8640_0000_S13.IMG"
  REQUIRED_STORAGE_BYTES = "31528070"
  ^DESCRIPTION = "JP2INFO.TXT"
END_OBJECT = COMPRESSED_FILE
END
