PDS_VERSION_ID = PDS3
/* FILE DATA ELEMENTS */
RECORD_TYPE = STREAM
/* POINTERS TO DATA OBJECTS */
^COMPRESSED_FILE = "H8635_0000_RE3.JP2"
/* IDENTIFICATION DATA ELEMENTS */
DATA_SET_ID = "MEX-M-HRSC-5-REFDR-MAPPROJECTED-V3.0"
DATA_SET_NAME = "MARS EXPRESS HRSC MAP PROJECTED REFDR V3.0"
DETECTOR_ID = MEX_HRSC_RED
EVENT_TYPE = "MARS-REGIONAL-MAPPING-Im-Fl"
INSTRUMENT_HOST_ID = MEX
INSTRUMENT_HOST_NAME = "MARS EXPRESS"
INSTRUMENT_ID = HRSC
INSTRUMENT_NAME = "HIGH RESOLUTION STEREO CAMERA"
MISSION_NAME = "MARS EXPRESS"
MISSION_PHASE_NAME = ME_Phase_21
PROCESSING_LEVEL_ID = 3
PRODUCT_CREATION_TIME = 2016-07-14T08:00:08.000Z
PRODUCT_ID = "H8635_0000_RE3.JP2"
RELEASE_ID = 0092
REVISION_ID = 0000
/* QUALITY DATA ELEMENTS */
DATA_QUALITY_ID = 1
DATA_QUALITY_DESC = "Data calculated based on original SPICE kernels"
/* TIME DATA ELEMENTS */
SPACECRAFT_CLOCK_START_COUNT = "1/0234122288.08271"
SPACECRAFT_CLOCK_STOP_COUNT = "1/0234122530.24258"
START_TIME = 2010-10-02T17:58:16.372Z
STOP_TIME = 2010-10-02T18:00:46.890Z
/* ORBITAL DATA ELEMENTS */
ASCENDING_NODE_LONGITUDE = 52.37
MAXIMUM_RESOLUTION = 60.5
FOOTPRINT_POINT_LATITUDE = (-56.4163,-56.3828,-56.3643,-56.3447, -56.3239,-56.3018,-56.1407,-55.8135, -55.632,-55.4382,-55.2402,-55.0445, -54.7512,-54.5548,-54.3647,-54.1685, -53.8748,-53.6791,-53.3864,-53.1896, -52.8982,-52.7034,-52.5083,-52.2165, -52.0217,-51.8273,-51.6329,-51.4385, -51.1475,-50.8563,-50.6621,-50.4685, -50.2745,-50.0777,-49.7796,-49.5807, -49.3826,-49.0853,-48.8827,-48.679, -48.4755,-48.2721,-47.9674,-47.661, -47.4516,-47.2438,-47.0399,-46.7248, -46.5131,-46.4027,-46.4202,-46.4462, -46.4607,-46.4738,-46.4846,-46.7042, -46.9175,-47.1279,-47.3356,-47.6479, -47.8562,-48.1658,-48.369,-48.5727, -48.8781,-49.1835,-49.3824,-49.5815, -49.8803,-50.0796,-50.2789,-50.474, -50.6688,-50.863,-51.0575,-51.2523, -51.4475,-51.7397,-51.9343,-52.1294, -52.3253,-52.5209,-52.7161,-52.9106, -53.1058,-53.3014,-53.4974,-53.6937, -53.8901,-54.0869,-54.2833,-54.5756, -54.7703,-54.9661,-55.1621,-55.3587, -55.5558,-55.7521,-56.1006,-56.4163)
FOOTPRINT_POINT_LONGITUDE = (270.753,270.098,269.768,269.437, 269.104,268.769,268.49,268.539,268.566, 268.595,268.621,268.647,268.687,268.712 ,268.741,268.766,268.801,268.825, 268.859,268.881,268.915,268.936,268.958 ,268.989,269.009,269.029,269.049, 269.068,269.097,269.125,269.142,269.16, 269.177,269.195,269.22,269.237,269.253, 269.277,269.293,269.308,269.323,269.338 ,269.36,269.385,269.398,269.411,269.428 ,269.448,269.461,269.678,270.015, 270.579,270.934,271.266,271.557,271.694 ,271.679,271.664,271.649,271.627, 271.611,271.588,271.573,271.557,271.533 ,271.509,271.492,271.476,271.451, 271.434,271.417,271.4,271.383,271.365, 271.348,271.33,271.312,271.284,271.266, 271.247,271.227,271.208,271.188,271.168 ,271.148,271.128,271.107,271.085, 271.064,271.042,271.02,270.987,270.965, 270.942,270.918,270.895,270.87,270.846, 270.802,270.753)
ORBIT_NUMBER = 8635
ORBITAL_ECCENTRICITY = 0.578
ORBITAL_INCLINATION = 86.83
ORBITAL_SEMIMAJOR_AXIS = 8767.25
PERIAPSIS_ALTITUDE = 320.34
PERIAPSIS_ARGUMENT_ANGLE = 286.5
PERIAPSIS_TIME = 2010-10-02T17:54:24.000Z
SPACECRAFT_ORIENTATION = (0.0,1.0,0.0)
^MEX_ORIENTATION_DESC = "MEX_ORIENTATION_DESC.TXT"
SPACECRAFT_POINTING_MODE = ACROSSTRACK
^MEX_POINTING_DESC = "MEX_POINTING_DESC.TXT"
RIGHT_ASCENSION = -1e+32
DECLINATION = -1e+32
OFFSET_ANGLE = 0.458
SPACECRAFT_SOLAR_DISTANCE = 2.27209e+08
TARGET_NAME = MARS
/* CAMERA DATA ELEMENTS */
DETECTOR_TEMPERATURE = 17.7588
FOCAL_PLANE_TEMPERATURE = 7.5638
INST_CMPRS_NAME = "DISCRETE COSINE TRANSFORMATION (DCT)"
INST_CMPRS_RATIO = 24.1835
INST_CMPRS_QUALITY = 0
INST_CMPRS_QUANTZ_TBL_ID = 0
INSTRUMENT_TEMPERATURE = 11.0301
LENS_TEMPERATURE = 7.7677
MACROPIXEL_SIZE = 4
MISSING_FRAMES = 0
PIXEL_SUBSAMPLING_FLAG = N
SIGNAL_CHAIN_ID = 2
/* RADIOMETRIC DATA ELEMENTS */
BANDWIDTH = 48.0
CENTER_FILTER_WAVELENGTH = 748.0
RADIANCE_OFFSET = 0.693686
RADIANCE_SCALING_FACTOR = 0.00352306
REFLECTANCE_SCALING_FACTOR = 0.000415047
MEX:REFLECTANCE_OFFSET = 0.0817223
/* IMAGE OBJECT DEFINITIONS */
OBJECT = IMAGE
  INTERCHANGE_FORMAT = BINARY
  LINES = 11787
  LINE_SAMPLES = 2502
  SAMPLE_TYPE = UNSIGNED_INTEGER
  SAMPLE_BITS = 8
  BANDS = 1
  BAND_STORAGE_TYPE = BAND_SEQUENTIAL
  MAXIMUM = 255
  MEAN = 133.511
  MINIMUM = 1
  STANDARD_DEVIATION = 52.2138
END_OBJECT = IMAGE
/* MAP OBJECT DEFINITIONS */
OBJECT = IMAGE_MAP_PROJECTION
  ^DATA_SET_MAP_PROJECTION_CATALOG= "DSMAP.CAT"
  A_AXIS_RADIUS = 3396.0
  B_AXIS_RADIUS = 3396.0
  C_AXIS_RADIUS = 3396.0
  CENTER_LATITUDE = 0.0
  CENTER_LONGITUDE = 270.0
  COORDINATE_SYSTEM_NAME = PLANETOGRAPHIC
  COORDINATE_SYSTEM_TYPE = "BODY-FIXED ROTATING"
  EASTERNMOST_LONGITUDE = 271.694
  FIRST_STANDARD_PARALLEL = "N/A"
  LINE_FIRST_PIXEL = 1
  LINE_LAST_PIXEL = 11787
  LINE_PROJECTION_OFFSET = -54981.125
  MAP_PROJECTION_ROTATION = 0.0
  MAP_PROJECTION_TYPE = SINUSOIDAL
  MAP_RESOLUTION = 1185.42760773333
  MAP_SCALE = 0.05
  MAXIMUM_LATITUDE = -46.4027
  MINIMUM_LATITUDE = -56.4163
  POSITIVE_LONGITUDE_DIRECTION = EAST
  REFERENCE_LATITUDE = "N/A"
  REFERENCE_LONGITUDE = "N/A"
  SAMPLE_FIRST_PIXEL = 1
  SAMPLE_LAST_PIXEL = 2502
  SAMPLE_PROJECTION_OFFSET = 1047.875
  SECOND_STANDARD_PARALLEL = "N/A"
  WESTERNMOST_LONGITUDE = 268.49
END_OBJECT = IMAGE_MAP_PROJECTION
/* The JPEG2000 image data file associated with this label. */
OBJECT = COMPRESSED_FILE
  FILE_NAME = "H8635_0000_RE3.JP2"
  RECORD_TYPE = UNDEFINED
  FILE_RECORDS = UNK
  ENCODING_TYPE = "JP2"
  INTERCHANGE_FORMAT = BINARY
  UNCOMPRESSED_FILE_NAME = "H8635_0000_RE3.IMG"
  REQUIRED_STORAGE_BYTES = "29511090"
  ^DESCRIPTION = "JP2INFO.TXT"
END_OBJECT = COMPRESSED_FILE
END
