PDS_VERSION_ID = PDS3
/* FILE DATA ELEMENTS */
RECORD_TYPE = STREAM
/* POINTERS TO DATA OBJECTS */
^COMPRESSED_FILE = "H8635_0000_GR3.JP2"
/* IDENTIFICATION DATA ELEMENTS */
DATA_SET_ID = "MEX-M-HRSC-5-REFDR-MAPPROJECTED-V3.0"
DATA_SET_NAME = "MARS EXPRESS HRSC MAP PROJECTED REFDR V3.0"
DETECTOR_ID = MEX_HRSC_GREEN
EVENT_TYPE = "MARS-REGIONAL-MAPPING-Im-Fl"
INSTRUMENT_HOST_ID = MEX
INSTRUMENT_HOST_NAME = "MARS EXPRESS"
INSTRUMENT_ID = HRSC
INSTRUMENT_NAME = "HIGH RESOLUTION STEREO CAMERA"
MISSION_NAME = "MARS EXPRESS"
MISSION_PHASE_NAME = ME_Phase_21
PROCESSING_LEVEL_ID = 3
PRODUCT_CREATION_TIME = 2016-07-14T08:00:08.000Z
PRODUCT_ID = "H8635_0000_GR3.JP2"
RELEASE_ID = 0092
REVISION_ID = 0000
/* QUALITY DATA ELEMENTS */
DATA_QUALITY_ID = 1
DATA_QUALITY_DESC = "Data calculated based on original SPICE kernels"
/* TIME DATA ELEMENTS */
SPACECRAFT_CLOCK_START_COUNT = "1/0234122288.08271"
SPACECRAFT_CLOCK_STOP_COUNT = "1/0234122530.24258"
START_TIME = 2010-10-02T17:58:50.195Z
STOP_TIME = 2010-10-02T18:01:29.740Z
/* ORBITAL DATA ELEMENTS */
ASCENDING_NODE_LONGITUDE = 52.37
MAXIMUM_RESOLUTION = 60.3
FOOTPRINT_POINT_LATITUDE = (-56.2874,-56.2705,-56.2445,-56.2296, -56.2137,-56.1128,-55.9236,-55.7347, -55.5459,-55.3572,-55.169,-54.9807, -54.7924,-54.6047,-54.4164,-54.1348, -53.9474,-53.7602,-53.3861,-53.0128, -52.64,-52.4507,-52.2597,-52.0689, -51.8782,-51.6878,-51.4975,-51.2058, -51.011,-50.8165,-50.6221,-50.4279, -50.13,-49.9313,-49.7329,-49.5348, -49.334,-49.1313,-48.929,-48.7269, -48.5249,-48.216,-48.0097,-47.8037, -47.5972,-47.3871,-47.177,-46.9667, -46.7571,-46.5433,-46.3953,-46.4083, -46.42,-46.4353,-46.4422,-46.6615, -46.9798,-47.2954,-47.5062,-47.7164, -47.9228,-48.1295,-48.3364,-48.6454, -48.848,-49.1524,-49.3556,-49.5581, -49.7569,-49.9557,-50.155,-50.3544, -50.5524,-50.7473,-50.9423,-51.1375, -51.3329,-51.6242,-51.8152,-52.0064, -52.1976,-52.389,-52.6759,-53.0501, -53.2372,-53.4246,-53.612,-53.7996, -53.9871,-54.1752,-54.4578,-54.7407, -54.9295,-55.1184,-55.3074,-55.4962, -55.6855,-55.8749,-56.0647,-56.2874)
FOOTPRINT_POINT_LONGITUDE = (270.62,270.132,269.469,269.125,268.779 ,268.461,268.49,268.517,268.545,268.572 ,268.595,268.62,268.646,268.668,268.696 ,268.731,268.754,268.776,268.819,268.86 ,268.901,268.921,268.941,268.96,268.98, 268.998,269.017,269.045,269.063,269.08, 269.098,269.115,269.14,269.157,269.173, 269.189,269.205,269.221,269.236,269.25, 269.265,269.287,269.301,269.315,269.332 ,269.344,269.357,269.373,269.386, 269.398,269.831,270.23,270.629,271.246, 271.576,271.765,271.742,271.718,271.703 ,271.687,271.671,271.655,271.639, 271.614,271.597,271.572,271.555,271.538 ,271.521,271.504,271.486,271.468, 271.451,271.433,271.415,271.396,271.378 ,271.35,271.331,271.312,271.293,271.274 ,271.244,271.205,271.185,271.165, 271.144,271.123,271.102,271.08,271.048, 271.015,270.992,270.97,270.947,270.923, 270.899,270.875,270.851,270.62)
ORBIT_NUMBER = 8635
ORBITAL_ECCENTRICITY = 0.578
ORBITAL_INCLINATION = 86.83
ORBITAL_SEMIMAJOR_AXIS = 8767.25
PERIAPSIS_ALTITUDE = 320.34
PERIAPSIS_ARGUMENT_ANGLE = 286.5
PERIAPSIS_TIME = 2010-10-02T17:54:24.000Z
SPACECRAFT_ORIENTATION = (0.0,1.0,0.0)
^MEX_ORIENTATION_DESC = "MEX_ORIENTATION_DESC.TXT"
SPACECRAFT_POINTING_MODE = ACROSSTRACK
^MEX_POINTING_DESC = "MEX_POINTING_DESC.TXT"
RIGHT_ASCENSION = -1e+32
DECLINATION = -1e+32
OFFSET_ANGLE = 0.458
SPACECRAFT_SOLAR_DISTANCE = 2.27209e+08
TARGET_NAME = MARS
/* CAMERA DATA ELEMENTS */
DETECTOR_TEMPERATURE = 18.1666
FOCAL_PLANE_TEMPERATURE = 7.5638
INST_CMPRS_NAME = "DISCRETE COSINE TRANSFORMATION (DCT)"
INST_CMPRS_RATIO = 12.0665
INST_CMPRS_QUALITY = 0
INST_CMPRS_QUANTZ_TBL_ID = 0
INSTRUMENT_TEMPERATURE = 11.0301
LENS_TEMPERATURE = 7.7677
MACROPIXEL_SIZE = 4
MISSING_FRAMES = 0
PIXEL_SUBSAMPLING_FLAG = N
SIGNAL_CHAIN_ID = 2
/* RADIOMETRIC DATA ELEMENTS */
BANDWIDTH = 88.0
CENTER_FILTER_WAVELENGTH = 538.0
RADIANCE_OFFSET = 1.1252
RADIANCE_SCALING_FACTOR = 0.00681065
REFLECTANCE_SCALING_FACTOR = 0.00030271
MEX:REFLECTANCE_OFFSET = 0.0500111
/* IMAGE OBJECT DEFINITIONS */
OBJECT = IMAGE
  INTERCHANGE_FORMAT = BINARY
  LINES = 11787
  LINE_SAMPLES = 2502
  SAMPLE_TYPE = UNSIGNED_INTEGER
  SAMPLE_BITS = 8
  BANDS = 1
  BAND_STORAGE_TYPE = BAND_SEQUENTIAL
  MAXIMUM = 255
  MEAN = 131.228
  MINIMUM = 1
  STANDARD_DEVIATION = 54.9987
END_OBJECT = IMAGE
/* MAP OBJECT DEFINITIONS */
OBJECT = IMAGE_MAP_PROJECTION
  ^DATA_SET_MAP_PROJECTION_CATALOG= "DSMAP.CAT"
  A_AXIS_RADIUS = 3396.0
  B_AXIS_RADIUS = 3396.0
  C_AXIS_RADIUS = 3396.0
  CENTER_LATITUDE = 0.0
  CENTER_LONGITUDE = 270.0
  COORDINATE_SYSTEM_NAME = PLANETOGRAPHIC
  COORDINATE_SYSTEM_TYPE = "BODY-FIXED ROTATING"
  EASTERNMOST_LONGITUDE = 271.765
  FIRST_STANDARD_PARALLEL = "N/A"
  LINE_FIRST_PIXEL = 1
  LINE_LAST_PIXEL = 11787
  LINE_PROJECTION_OFFSET = -54981.125
  MAP_PROJECTION_ROTATION = 0.0
  MAP_PROJECTION_TYPE = SINUSOIDAL
  MAP_RESOLUTION = 1185.42760773333
  MAP_SCALE = 0.05
  MAXIMUM_LATITUDE = -46.3953
  MINIMUM_LATITUDE = -56.2874
  POSITIVE_LONGITUDE_DIRECTION = EAST
  REFERENCE_LATITUDE = "N/A"
  REFERENCE_LONGITUDE = "N/A"
  SAMPLE_FIRST_PIXEL = 1
  SAMPLE_LAST_PIXEL = 2502
  SAMPLE_PROJECTION_OFFSET = 1047.875
  SECOND_STANDARD_PARALLEL = "N/A"
  WESTERNMOST_LONGITUDE = 268.461
END_OBJECT = IMAGE_MAP_PROJECTION
/* The JPEG2000 image data file associated with this label. */
OBJECT = COMPRESSED_FILE
  FILE_NAME = "H8635_0000_GR3.JP2"
  RECORD_TYPE = UNDEFINED
  FILE_RECORDS = UNK
  ENCODING_TYPE = "JP2"
  INTERCHANGE_FORMAT = BINARY
  UNCOMPRESSED_FILE_NAME = "H8635_0000_GR3.IMG"
  REQUIRED_STORAGE_BYTES = "29511090"
  ^DESCRIPTION = "JP2INFO.TXT"
END_OBJECT = COMPRESSED_FILE
END
