PDS_VERSION_ID = PDS3
/* FILE DATA ELEMENTS */
RECORD_TYPE = STREAM
/* POINTERS TO DATA OBJECTS */
^COMPRESSED_FILE = "H8616_0000_S23.JP2"
/* IDENTIFICATION DATA ELEMENTS */
DATA_SET_ID = "MEX-M-HRSC-5-REFDR-MAPPROJECTED-V3.0"
DATA_SET_NAME = "MARS EXPRESS HRSC MAP PROJECTED REFDR V3.0"
DETECTOR_ID = MEX_HRSC_S2
EVENT_TYPE = "MARS-REGIONAL-MAPPING-Vo-Fl-Gl"
INSTRUMENT_HOST_ID = MEX
INSTRUMENT_HOST_NAME = "MARS EXPRESS"
INSTRUMENT_ID = HRSC
INSTRUMENT_NAME = "HIGH RESOLUTION STEREO CAMERA"
MISSION_NAME = "MARS EXPRESS"
MISSION_PHASE_NAME = ME_Phase_21
PROCESSING_LEVEL_ID = 3
PRODUCT_CREATION_TIME = 2016-07-14T08:00:08.000Z
PRODUCT_ID = "H8616_0000_S23.JP2"
RELEASE_ID = 0092
REVISION_ID = 0000
/* QUALITY DATA ELEMENTS */
DATA_QUALITY_ID = 1
DATA_QUALITY_DESC = "Data calculated based on original SPICE kernels"
/* TIME DATA ELEMENTS */
SPACECRAFT_CLOCK_START_COUNT = "1/0233643873.07311"
SPACECRAFT_CLOCK_STOP_COUNT = "1/0233644167.28703"
START_TIME = 2010-09-27T05:04:35.742Z
STOP_TIME = 2010-09-27T05:07:52.077Z
/* ORBITAL DATA ELEMENTS */
ASCENDING_NODE_LONGITUDE = 52.73
MAXIMUM_RESOLUTION = 30.3
FOOTPRINT_POINT_LATITUDE = (-54.4629,-54.4501,-54.4399,-54.4194, -54.4062,-54.3881,-54.0758,-53.74, -53.5183,-53.1916,-52.9719,-52.7507, -52.5295,-52.3088,-52.0883,-51.8556, -51.5917,-51.1967,-50.9331,-50.6702, -50.4074,-50.1442,-49.8812,-49.4876, -49.0929,-48.8292,-48.5668,-48.3047, -48.0426,-47.6495,-47.387,-46.9947, -46.733,-46.4724,-46.2074,-45.8048, -45.5366,-45.2695,-44.9978,-44.7235, -44.45,-44.1802,-43.7628,-43.3432, -43.0639,-42.7796,-42.4944,-42.0658, -41.7746,-41.3379,-41.3104,-41.3178, -41.3295,-41.3353,-41.3384,-41.3405, -41.6364,-41.9287,-42.3624,-42.7919, -43.22,-43.4995,-43.7799,-44.0603, -44.3373,-44.6117,-44.8837,-45.2919, -45.5589,-45.9591,-46.2266,-46.4932, -46.7563,-47.0179,-47.2801,-47.6788, -47.9429,-48.2022,-48.4659,-48.727, -48.991,-49.3864,-49.7813,-50.1702, -50.4398,-50.7017,-51.0983,-51.4936, -51.7582,-52.0175,-52.239,-52.461, -52.7935,-53.0157,-53.2371,-53.4587, -53.6805,-53.9021,-54.124,-54.4629)
FOOTPRINT_POINT_LONGITUDE = (55.1866,54.7262,54.4061,53.8467, 53.5274,53.1278,53.1116,53.1445,53.1666 ,53.201,53.2227,53.2434,53.2636,53.2835 ,53.3031,53.323,53.345,53.3772,53.3979, 53.4183,53.4381,53.4572,53.4759,53.5032 ,53.5289,53.5452,53.5614,53.5773, 53.5927,53.6148,53.6289,53.6495,53.6626 ,53.6757,53.6884,53.7065,53.7181, 53.7297,53.7409,53.7518,53.7624,53.7739 ,53.7888,53.8029,53.8119,53.8211, 53.8297,53.8416,53.8493,53.8604,54.1339 ,54.4282,54.8906,55.2062,55.607,55.9026 ,56.0247,56.0134,55.9957,55.978,55.9594 ,55.9475,55.935,55.9224,55.9091,55.8961 ,55.884,55.8649,55.8518,55.8321,55.8183 ,55.8041,55.7891,55.7747,55.7598, 55.7345,55.7182,55.704,55.6874,55.6719, 55.6547,55.6288,55.6026,55.5789,55.5574 ,55.5396,55.5104,55.4813,55.4609, 55.4408,55.4233,55.4052,55.378,55.3592, 55.3406,55.3217,55.3023,55.2828,55.2628 ,55.1866)
ORBIT_NUMBER = 8616
ORBITAL_ECCENTRICITY = 0.578
ORBITAL_INCLINATION = 86.84
ORBITAL_SEMIMAJOR_AXIS = 8772.16
PERIAPSIS_ALTITUDE = 320.42
PERIAPSIS_ARGUMENT_ANGLE = 289.73
PERIAPSIS_TIME = 2010-09-27T05:01:08.000Z
SPACECRAFT_ORIENTATION = (0.0,1.0,0.0)
^MEX_ORIENTATION_DESC = "MEX_ORIENTATION_DESC.TXT"
SPACECRAFT_POINTING_MODE = NADIR
^MEX_POINTING_DESC = "MEX_POINTING_DESC.TXT"
RIGHT_ASCENSION = -1e+32
DECLINATION = -1e+32
OFFSET_ANGLE = -1e+32
SPACECRAFT_SOLAR_DISTANCE = 2.28287e+08
TARGET_NAME = MARS
/* CAMERA DATA ELEMENTS */
DETECTOR_TEMPERATURE = 18.3705
FOCAL_PLANE_TEMPERATURE = 7.5638
INST_CMPRS_NAME = "DISCRETE COSINE TRANSFORMATION (DCT)"
INST_CMPRS_RATIO = 13.0287
INST_CMPRS_QUALITY = 0
INST_CMPRS_QUANTZ_TBL_ID = 0
INSTRUMENT_TEMPERATURE = 11.234
LENS_TEMPERATURE = 8.1755
MACROPIXEL_SIZE = 2
MISSING_FRAMES = 0
PIXEL_SUBSAMPLING_FLAG = N
SIGNAL_CHAIN_ID = 1
/* RADIOMETRIC DATA ELEMENTS */
BANDWIDTH = 178.0
CENTER_FILTER_WAVELENGTH = 679.0
RADIANCE_OFFSET = 2.76634
RADIANCE_SCALING_FACTOR = 0.0143582
REFLECTANCE_SCALING_FACTOR = 0.000396268
MEX:REFLECTANCE_OFFSET = 0.0763477
/* IMAGE OBJECT DEFINITIONS */
OBJECT = IMAGE
  INTERCHANGE_FORMAT = BINARY
  LINES = 30894
  LINE_SAMPLES = 4659
  SAMPLE_TYPE = UNSIGNED_INTEGER
  SAMPLE_BITS = 8
  BANDS = 1
  BAND_STORAGE_TYPE = BAND_SEQUENTIAL
  MAXIMUM = 255
  MEAN = 148.714
  MINIMUM = 1
  STANDARD_DEVIATION = 24.0122
END_OBJECT = IMAGE
/* MAP OBJECT DEFINITIONS */
OBJECT = IMAGE_MAP_PROJECTION
  ^DATA_SET_MAP_PROJECTION_CATALOG= "DSMAP.CAT"
  A_AXIS_RADIUS = 3396.0
  B_AXIS_RADIUS = 3396.0
  C_AXIS_RADIUS = 3396.0
  CENTER_LATITUDE = 0.0
  CENTER_LONGITUDE = 55.0
  COORDINATE_SYSTEM_NAME = PLANETOGRAPHIC
  COORDINATE_SYSTEM_TYPE = "BODY-FIXED ROTATING"
  EASTERNMOST_LONGITUDE = 56.0247
  FIRST_STANDARD_PARALLEL = "N/A"
  LINE_FIRST_PIXEL = 1
  LINE_LAST_PIXEL = 30894
  LINE_PROJECTION_OFFSET = -98015.75
  MAP_PROJECTION_ROTATION = 0.0
  MAP_PROJECTION_TYPE = SINUSOIDAL
  MAP_RESOLUTION = 2370.85521546667
  MAP_SCALE = 0.025
  MAXIMUM_LATITUDE = -41.3104
  MINIMUM_LATITUDE = -54.4629
  POSITIVE_LONGITUDE_DIRECTION = EAST
  REFERENCE_LATITUDE = "N/A"
  REFERENCE_LONGITUDE = "N/A"
  SAMPLE_FIRST_PIXEL = 1
  SAMPLE_LAST_PIXEL = 4659
  SAMPLE_PROJECTION_OFFSET = 2700.75
  SECOND_STANDARD_PARALLEL = "N/A"
  WESTERNMOST_LONGITUDE = 53.1116
END_OBJECT = IMAGE_MAP_PROJECTION
/* The JPEG2000 image data file associated with this label. */
OBJECT = COMPRESSED_FILE
  FILE_NAME = "H8616_0000_S23.JP2"
  RECORD_TYPE = UNDEFINED
  FILE_RECORDS = UNK
  ENCODING_TYPE = "JP2"
  INTERCHANGE_FORMAT = BINARY
  UNCOMPRESSED_FILE_NAME = "H8616_0000_S23.IMG"
  REQUIRED_STORAGE_BYTES = "143963100"
  ^DESCRIPTION = "JP2INFO.TXT"
END_OBJECT = COMPRESSED_FILE
END
