PDS_VERSION_ID = PDS3
/* FILE DATA ELEMENTS */
RECORD_TYPE = STREAM
/* POINTERS TO DATA OBJECTS */
^COMPRESSED_FILE = "H8613_0000_IR3.JP2"
/* IDENTIFICATION DATA ELEMENTS */
DATA_SET_ID = "MEX-M-HRSC-5-REFDR-MAPPROJECTED-V3.0"
DATA_SET_NAME = "MARS EXPRESS HRSC MAP PROJECTED REFDR V3.0"
DETECTOR_ID = MEX_HRSC_IR
EVENT_TYPE = "MARS-REGIONAL-MAPPING-Im-Fl"
INSTRUMENT_HOST_ID = MEX
INSTRUMENT_HOST_NAME = "MARS EXPRESS"
INSTRUMENT_ID = HRSC
INSTRUMENT_NAME = "HIGH RESOLUTION STEREO CAMERA"
MISSION_NAME = "MARS EXPRESS"
MISSION_PHASE_NAME = ME_Phase_21
PROCESSING_LEVEL_ID = 3
PRODUCT_CREATION_TIME = 2016-07-14T08:00:08.000Z
PRODUCT_ID = "H8613_0000_IR3.JP2"
RELEASE_ID = 0092
REVISION_ID = 0000
/* QUALITY DATA ELEMENTS */
DATA_QUALITY_ID = 1
DATA_QUALITY_DESC = "Data calculated based on original SPICE kernels"
/* TIME DATA ELEMENTS */
SPACECRAFT_CLOCK_START_COUNT = "1/0233568502.09043"
SPACECRAFT_CLOCK_STOP_COUNT = "1/0233568877.40109"
START_TIME = 2010-09-26T08:09:46.408Z
STOP_TIME = 2010-09-26T08:14:21.788Z
/* ORBITAL DATA ELEMENTS */
ASCENDING_NODE_LONGITUDE = 52.79
MAXIMUM_RESOLUTION = 82.9
FOOTPRINT_POINT_LATITUDE = (-42.6499,-42.6432,-42.6361,-42.6299, -42.6522,-42.0321,-41.659,-41.2796, -41.0254,-40.5168,-40.2591,-39.9961, -39.7377,-39.4743,-39.2133,-38.8144, -38.5486,-38.2785,-38.009,-37.7366, -37.4634,-37.1865,-36.909,-36.6301, -36.3524,-36.0708,-35.6435,-35.3575, -35.0687,-34.7786,-34.4845,-34.1921, -33.8971,-33.602,-33.1515,-32.6988, -32.2409,-31.934,-31.6237,-31.3113, -30.9981,-30.681,-30.2019,-29.8809, -29.5565,-29.2296,-28.903,-28.5727, -28.379,-28.3746,-28.3719,-28.3673, -28.3629,-28.5256,-28.8583,-29.1878, -29.5163,-29.8416,-30.1651,-30.4872, -30.8063,-31.1233,-31.4374,-31.7496, -32.0603,-32.3694,-32.6751,-32.98, -33.2824,-33.7315,-34.03,-34.3265, -34.6202,-35.0589,-35.349,-35.6356, -35.9253,-36.2078,-36.628,-36.908, -37.1847,-37.463,-37.7356,-38.0109, -38.2814,-38.5524,-38.8195,-39.2199, -39.489,-39.7529,-40.0064,-40.2671, -40.5296,-40.7862,-41.0411,-41.5457, -41.7985,-42.2998,-42.6711,-42.6499)
FOOTPRINT_POINT_LONGITUDE = (2.62199,2.1033,1.64951,1.30406, 0.607536,0.621092,0.627558,0.634058, 0.638896,0.643748,0.646786,0.65122, 0.653233,0.655385,0.656399,0.65861, 0.659622,0.660604,0.661124,0.661303, 0.661384,0.661543,0.661468,0.660412, 0.65826,0.656236,0.653863,0.651406, 0.648805,0.64622,0.643641,0.639659, 0.635228,0.629645,0.6227,0.613945, 0.604706,0.597947,0.590979,0.583605, 0.575496,0.567903,0.554894,0.545501, 0.535855,0.525931,0.51442,0.503129, 0.999057,1.61541,2.06327,2.59559, 3.04385,3.49681,3.48663,3.47601,3.466, 3.4557,3.44578,3.43618,3.42604,3.4158, 3.40562,3.39546,3.3854,3.37539,3.36525, 3.35519,3.34477,3.32909,3.31953,3.30938 ,3.29926,3.28458,3.27426,3.26364, 3.25493,3.24369,3.22691,3.21609,3.20519 ,3.19492,3.18357,3.17338,3.16256, 3.15145,3.14055,3.12369,3.11516,3.10369 ,3.08906,3.07777,3.06796,3.05643,3.0436 ,3.01907,3.00702,2.98417,2.96599, 2.62199)
ORBIT_NUMBER = 8613
ORBITAL_ECCENTRICITY = 0.578
ORBITAL_INCLINATION = 86.83
ORBITAL_SEMIMAJOR_AXIS = 8771.36
PERIAPSIS_ALTITUDE = 320.85
PERIAPSIS_ARGUMENT_ANGLE = 290.22
PERIAPSIS_TIME = 2010-09-26T08:02:08.000Z
SPACECRAFT_ORIENTATION = (0.0,1.0,0.0)
^MEX_ORIENTATION_DESC = "MEX_ORIENTATION_DESC.TXT"
SPACECRAFT_POINTING_MODE = NADIR
^MEX_POINTING_DESC = "MEX_POINTING_DESC.TXT"
RIGHT_ASCENSION = -1e+32
DECLINATION = -1e+32
OFFSET_ANGLE = -1e+32
SPACECRAFT_SOLAR_DISTANCE = 2.28457e+08
TARGET_NAME = MARS
/* CAMERA DATA ELEMENTS */
DETECTOR_TEMPERATURE = 17.351
FOCAL_PLANE_TEMPERATURE = 8.1755
INST_CMPRS_NAME = "DISCRETE COSINE TRANSFORMATION (DCT)"
INST_CMPRS_RATIO = 11.6539
INST_CMPRS_QUALITY = 0
INST_CMPRS_QUANTZ_TBL_ID = 0
INSTRUMENT_TEMPERATURE = 10.8262
LENS_TEMPERATURE = 8.5833
MACROPIXEL_SIZE = 4
MISSING_FRAMES = 0
PIXEL_SUBSAMPLING_FLAG = N
SIGNAL_CHAIN_ID = 2
/* RADIOMETRIC DATA ELEMENTS */
BANDWIDTH = 81.0
CENTER_FILTER_WAVELENGTH = 955.5
RADIANCE_OFFSET = 0.652935
RADIANCE_SCALING_FACTOR = 0.00449216
REFLECTANCE_SCALING_FACTOR = 0.000505808
MEX:REFLECTANCE_OFFSET = 0.0735192
/* IMAGE OBJECT DEFINITIONS */
OBJECT = IMAGE
  INTERCHANGE_FORMAT = BINARY
  LINES = 16991
  LINE_SAMPLES = 2897
  SAMPLE_TYPE = UNSIGNED_INTEGER
  SAMPLE_BITS = 8
  BANDS = 1
  BAND_STORAGE_TYPE = BAND_SEQUENTIAL
  MAXIMUM = 255
  MEAN = 108.493
  MINIMUM = 1
  STANDARD_DEVIATION = 40.2583
END_OBJECT = IMAGE
/* MAP OBJECT DEFINITIONS */
OBJECT = IMAGE_MAP_PROJECTION
  ^DATA_SET_MAP_PROJECTION_CATALOG= "DSMAP.CAT"
  A_AXIS_RADIUS = 3396.0
  B_AXIS_RADIUS = 3396.0
  C_AXIS_RADIUS = 3396.0
  CENTER_LATITUDE = 0.0
  CENTER_LONGITUDE = 2.0
  COORDINATE_SYSTEM_NAME = PLANETOGRAPHIC
  COORDINATE_SYSTEM_TYPE = "BODY-FIXED ROTATING"
  EASTERNMOST_LONGITUDE = 3.49681
  FIRST_STANDARD_PARALLEL = "N/A"
  LINE_FIRST_PIXEL = 1
  LINE_LAST_PIXEL = 16991
  LINE_PROJECTION_OFFSET = -33633.375
  MAP_PROJECTION_ROTATION = 0.0
  MAP_PROJECTION_TYPE = SINUSOIDAL
  MAP_RESOLUTION = 1185.42760773333
  MAP_SCALE = 0.05
  MAXIMUM_LATITUDE = -28.3629
  MINIMUM_LATITUDE = -42.6711
  POSITIVE_LONGITUDE_DIRECTION = EAST
  REFERENCE_LATITUDE = "N/A"
  REFERENCE_LONGITUDE = "N/A"
  SAMPLE_FIRST_PIXEL = 1
  SAMPLE_LAST_PIXEL = 2897
  SAMPLE_PROJECTION_OFFSET = 1466.875
  SECOND_STANDARD_PARALLEL = "N/A"
  WESTERNMOST_LONGITUDE = 0.503129
END_OBJECT = IMAGE_MAP_PROJECTION
/* The JPEG2000 image data file associated with this label. */
OBJECT = COMPRESSED_FILE
  FILE_NAME = "H8613_0000_IR3.JP2"
  RECORD_TYPE = UNDEFINED
  FILE_RECORDS = UNK
  ENCODING_TYPE = "JP2"
  INTERCHANGE_FORMAT = BINARY
  UNCOMPRESSED_FILE_NAME = "H8613_0000_IR3.IMG"
  REQUIRED_STORAGE_BYTES = "49246103"
  ^DESCRIPTION = "JP2INFO.TXT"
END_OBJECT = COMPRESSED_FILE
END
