PDS_VERSION_ID = PDS3
/* FILE DATA ELEMENTS */
RECORD_TYPE = STREAM
/* POINTERS TO DATA OBJECTS */
^COMPRESSED_FILE = "H8599_0000_S13.JP2"
/* IDENTIFICATION DATA ELEMENTS */
DATA_SET_ID = "MEX-M-HRSC-5-REFDR-MAPPROJECTED-V3.0"
DATA_SET_NAME = "MARS EXPRESS HRSC MAP PROJECTED REFDR V3.0"
DETECTOR_ID = MEX_HRSC_S1
EVENT_TYPE = "MARS-REGIONAL-MAPPING-Te-Im-Fl"
INSTRUMENT_HOST_ID = MEX
INSTRUMENT_HOST_NAME = "MARS EXPRESS"
INSTRUMENT_ID = HRSC
INSTRUMENT_NAME = "HIGH RESOLUTION STEREO CAMERA"
MISSION_NAME = "MARS EXPRESS"
MISSION_PHASE_NAME = ME_Phase_21
PROCESSING_LEVEL_ID = 3
PRODUCT_CREATION_TIME = 2016-07-14T08:00:08.000Z
PRODUCT_ID = "H8599_0000_S13.JP2"
RELEASE_ID = 0092
REVISION_ID = 0000
/* QUALITY DATA ELEMENTS */
DATA_QUALITY_ID = 1
DATA_QUALITY_DESC = "Data calculated based on original SPICE kernels"
/* TIME DATA ELEMENTS */
SPACECRAFT_CLOCK_START_COUNT = "1/0233215874.09055"
SPACECRAFT_CLOCK_STOP_COUNT = "1/0233216278.20760"
START_TIME = 2010-09-22T06:12:33.242Z
STOP_TIME = 2010-09-22T06:17:58.992Z
/* ORBITAL DATA ELEMENTS */
ASCENDING_NODE_LONGITUDE = 53.06
MAXIMUM_RESOLUTION = 35.7
FOOTPRINT_POINT_LATITUDE = (-47.5456,-47.558,-47.6248,-47.321, -47.0196,-46.5676,-46.2617,-45.9545, -45.6481,-45.3384,-45.0265,-44.7151, -44.4,-44.0834,-43.7679,-43.4469, -43.1283,-42.7991,-42.4737,-42.1478, -41.8168,-41.4851,-41.1501,-40.6533, -40.3076,-39.9684,-39.6238,-39.2748, -38.926,-38.399,-38.0465,-37.6893, -37.1499,-36.6043,-36.2377,-35.8673, -35.4942,-34.9293,-34.5505,-33.9752, -33.5903,-33.1995,-32.8071,-32.4112, -32.0121,-31.61,-31.2022,-30.5877, -30.1774,-30.0867,-30.0674,-30.0485, -30.0219,-30.0092,-30.1968,-30.6117, -31.0232,-31.6377,-32.0412,-32.6422, -33.0381,-33.4289,-34.0139,-34.395, -34.7757,-35.3452,-35.9079,-36.2793, -36.6475,-37.0119,-37.3767,-37.7334, -38.0931,-38.4501,-38.8022,-39.1528, -39.6772,-40.1922,-40.5369,-40.8679, -41.2116,-41.7097,-42.0471,-42.3626, -42.6914,-43.0224,-43.3453,-43.6684, -43.9862,-44.3043,-44.6202,-44.9325, -45.2461,-45.5579,-46.0194,-46.3278, -46.786,-47.238,-47.5402,-47.5456)
FOOTPRINT_POINT_LONGITUDE = (351.509,350.805,349.802,349.841, 349.872,349.919,349.95,349.98,350.01, 350.038,350.066,350.093,350.119,350.145 ,350.169,350.192,350.213,350.238, 350.259,350.282,350.302,350.325,350.345 ,350.366,350.391,350.408,350.425, 350.441,350.456,350.479,350.492,350.505 ,350.523,350.541,350.552,350.561, 350.572,350.585,350.592,350.602,350.606 ,350.611,350.614,350.617,350.619, 350.621,350.623,350.621,350.616,351.224 ,351.675,352.093,352.669,352.993, 353.473,353.451,353.43,353.396,353.374, 353.341,353.318,353.296,353.261,353.239 ,353.216,353.18,353.144,353.12,353.096, 353.072,353.047,353.023,352.997,352.971 ,352.945,352.92,352.88,352.841,352.813, 352.789,352.759,352.718,352.688,352.666 ,352.637,352.607,352.578,352.548, 352.519,352.489,352.459,352.429,352.398 ,352.367,352.319,352.287,352.236, 352.188,352.154,351.509)
ORBIT_NUMBER = 8599
ORBITAL_ECCENTRICITY = 0.578
ORBITAL_INCLINATION = 86.83
ORBITAL_SEMIMAJOR_AXIS = 8773.79
PERIAPSIS_ALTITUDE = 320.84
PERIAPSIS_ARGUMENT_ANGLE = 292.6
PERIAPSIS_TIME = 2010-09-22T06:06:53.000Z
SPACECRAFT_ORIENTATION = (0.0,1.0,0.0)
^MEX_ORIENTATION_DESC = "MEX_ORIENTATION_DESC.TXT"
SPACECRAFT_POINTING_MODE = ACROSSTRACK
^MEX_POINTING_DESC = "MEX_POINTING_DESC.TXT"
RIGHT_ASCENSION = -1e+32
DECLINATION = -1e+32
OFFSET_ANGLE = 1.7
SPACECRAFT_SOLAR_DISTANCE = 2.29247e+08
TARGET_NAME = MARS
/* CAMERA DATA ELEMENTS */
DETECTOR_TEMPERATURE = 16.9432
FOCAL_PLANE_TEMPERATURE = 7.9716
INST_CMPRS_NAME = "DISCRETE COSINE TRANSFORMATION (DCT)"
INST_CMPRS_RATIO = 10.5957
INST_CMPRS_QUALITY = 0
INST_CMPRS_QUANTZ_TBL_ID = 0
INSTRUMENT_TEMPERATURE = 10.8262
LENS_TEMPERATURE = 8.3794
MACROPIXEL_SIZE = 2
MISSING_FRAMES = 2
PIXEL_SUBSAMPLING_FLAG = N
SIGNAL_CHAIN_ID = 1
/* RADIOMETRIC DATA ELEMENTS */
BANDWIDTH = 180.0
CENTER_FILTER_WAVELENGTH = 677.0
RADIANCE_OFFSET = 2.65171
RADIANCE_SCALING_FACTOR = 0.015872
REFLECTANCE_SCALING_FACTOR = 0.000435188
MEX:REFLECTANCE_OFFSET = 0.0727063
/* IMAGE OBJECT DEFINITIONS */
OBJECT = IMAGE
  INTERCHANGE_FORMAT = BINARY
  LINES = 41829
  LINE_SAMPLES = 6332
  SAMPLE_TYPE = UNSIGNED_INTEGER
  SAMPLE_BITS = 8
  BANDS = 1
  BAND_STORAGE_TYPE = BAND_SEQUENTIAL
  MAXIMUM = 255
  MEAN = 121.804
  MINIMUM = 1
  STANDARD_DEVIATION = 28.4949
END_OBJECT = IMAGE
/* MAP OBJECT DEFINITIONS */
OBJECT = IMAGE_MAP_PROJECTION
  ^DATA_SET_MAP_PROJECTION_CATALOG= "DSMAP.CAT"
  A_AXIS_RADIUS = 3396.0
  B_AXIS_RADIUS = 3396.0
  C_AXIS_RADIUS = 3396.0
  CENTER_LATITUDE = 0.0
  CENTER_LONGITUDE = 352.0
  COORDINATE_SYSTEM_NAME = PLANETOGRAPHIC
  COORDINATE_SYSTEM_TYPE = "BODY-FIXED ROTATING"
  EASTERNMOST_LONGITUDE = 353.473
  FIRST_STANDARD_PARALLEL = "N/A"
  LINE_FIRST_PIXEL = 1
  LINE_LAST_PIXEL = 41829
  LINE_PROJECTION_OFFSET = -71203.25
  MAP_PROJECTION_ROTATION = 0.0
  MAP_PROJECTION_TYPE = SINUSOIDAL
  MAP_RESOLUTION = 2370.85521546667
  MAP_SCALE = 0.025
  MAXIMUM_LATITUDE = -30.0092
  MINIMUM_LATITUDE = -47.6248
  POSITIVE_LONGITUDE_DIRECTION = EAST
  REFERENCE_LATITUDE = "N/A"
  REFERENCE_LONGITUDE = "N/A"
  SAMPLE_FIRST_PIXEL = 1
  SAMPLE_LAST_PIXEL = 6332
  SAMPLE_PROJECTION_OFFSET = 3587.75
  SECOND_STANDARD_PARALLEL = "N/A"
  WESTERNMOST_LONGITUDE = 349.802
END_OBJECT = IMAGE_MAP_PROJECTION
/* The JPEG2000 image data file associated with this label. */
OBJECT = COMPRESSED_FILE
  FILE_NAME = "H8599_0000_S13.JP2"
  RECORD_TYPE = UNDEFINED
  FILE_RECORDS = UNK
  ENCODING_TYPE = "JP2"
  INTERCHANGE_FORMAT = BINARY
  UNCOMPRESSED_FILE_NAME = "H8599_0000_S13.IMG"
  REQUIRED_STORAGE_BYTES = "264892888"
  ^DESCRIPTION = "JP2INFO.TXT"
END_OBJECT = COMPRESSED_FILE
END
