PDS_VERSION_ID = PDS3
/* FILE DATA ELEMENTS */
RECORD_TYPE = STREAM
/* POINTERS TO DATA OBJECTS */
^COMPRESSED_FILE = "H8584_0000_IR3.JP2"
/* IDENTIFICATION DATA ELEMENTS */
DATA_SET_ID = "MEX-M-HRSC-5-REFDR-MAPPROJECTED-V3.0"
DATA_SET_NAME = "MARS EXPRESS HRSC MAP PROJECTED REFDR V3.0"
DETECTOR_ID = MEX_HRSC_IR
EVENT_TYPE = "MARS-REGIONAL-MAPPING-Im-Fl-Pf"
INSTRUMENT_HOST_ID = MEX
INSTRUMENT_HOST_NAME = "MARS EXPRESS"
INSTRUMENT_ID = HRSC
INSTRUMENT_NAME = "HIGH RESOLUTION STEREO CAMERA"
MISSION_NAME = "MARS EXPRESS"
MISSION_PHASE_NAME = ME_Phase_21
PROCESSING_LEVEL_ID = 3
PRODUCT_CREATION_TIME = 2016-07-14T08:00:08.000Z
PRODUCT_ID = "H8584_0000_IR3.JP2"
RELEASE_ID = 0092
REVISION_ID = 0000
/* QUALITY DATA ELEMENTS */
DATA_QUALITY_ID = 1
DATA_QUALITY_DESC = "Data calculated based on original SPICE kernels"
/* TIME DATA ELEMENTS */
SPACECRAFT_CLOCK_START_COUNT = "1/0232838061.07294"
SPACECRAFT_CLOCK_STOP_COUNT = "1/0232838402.20134"
START_TIME = 2010-09-17T21:15:20.595Z
STOP_TIME = 2010-09-17T21:19:53.686Z
/* ORBITAL DATA ELEMENTS */
ASCENDING_NODE_LONGITUDE = 53.34
MAXIMUM_RESOLUTION = 59.2
FOOTPRINT_POINT_LATITUDE = (-52.8011,-52.7797,-52.6869,-52.4145, -52.1413,-51.7316,-51.4646,-51.1957, -50.9249,-50.6535,-50.3495,-50.0265, -49.7073,-49.3913,-49.0722,-48.7522, -48.2734,-47.7959,-47.3193,-47.0033, -46.6876,-46.3714,-46.0574,-45.5869, -45.108,-44.7878,-44.4681,-44.1416, -43.8154,-43.4904,-43.1586,-42.662, -42.323,-41.9858,-41.6479,-41.304, -40.7892,-40.2655,-39.7302,-39.3749, -38.8379,-38.4773,-38.1122,-37.7466, -37.3759,-37.0061,-36.6293,-36.5947, -36.5987,-36.6009,-36.6035,-36.605, -36.606,-36.608,-36.988,-37.3616, -37.731,-38.0979,-38.4651,-38.8258, -39.1881,-39.7215,-40.0768,-40.4347, -40.7849,-41.3025,-41.648,-42.1539, -42.4929,-42.8255,-43.1584,-43.6573, -43.9844,-44.3122,-44.7963,-45.1169, -45.4386,-45.7556,-46.0702,-46.5428, -46.8589,-47.3357,-47.6536,-48.1321, -48.451,-48.7693,-49.09,-49.5697, -49.8916,-50.2138,-50.5364,-50.8199, -51.0793,-51.3516,-51.6286,-52.0354, -52.3078,-52.5826,-52.8555,-52.8011)
FOOTPRINT_POINT_LONGITUDE = (87.8989,87.2183,86.6088,86.6335, 86.6583,86.6949,86.7144,86.7349,86.7565 ,86.7781,86.8013,86.8257,86.8471, 86.8659,86.8866,86.9074,86.9373,86.9657 ,86.9928,87.0095,87.0258,87.0421, 87.0569,87.0785,87.0991,87.1122,87.1249 ,87.1373,87.149,87.1598,87.1706,87.1851 ,87.1967,87.2052,87.2141,87.2225, 87.2335,87.2435,87.2525,87.258,87.2648, 87.2691,87.2727,87.2758,87.2784,87.2799 ,87.2815,87.6796,88.0991,88.3716, 88.7281,88.9797,89.273,89.5317,89.5193, 89.507,89.4923,89.4791,89.4658,89.452, 89.4382,89.4174,89.4037,89.3889,89.3741 ,89.3531,89.3385,89.3154,89.3,89.2845, 89.2691,89.2468,89.2312,89.2152,89.1908 ,89.1741,89.1572,89.1406,89.1235,89.097 ,89.0789,89.0519,89.033,89.0041,88.9839 ,88.9626,88.9419,88.9085,88.8865, 88.8638,88.8405,88.8198,88.7933,88.773, 88.7546,88.7213,88.699,88.6773,88.654, 87.8989)
ORBIT_NUMBER = 8584
ORBITAL_ECCENTRICITY = 0.579
ORBITAL_INCLINATION = 86.84
ORBITAL_SEMIMAJOR_AXIS = 8779.36
PERIAPSIS_ALTITUDE = 319.87
PERIAPSIS_ARGUMENT_ANGLE = 295.14
PERIAPSIS_TIME = 2010-09-17T21:11:54.000Z
SPACECRAFT_ORIENTATION = (0.0,1.0,0.0)
^MEX_ORIENTATION_DESC = "MEX_ORIENTATION_DESC.TXT"
SPACECRAFT_POINTING_MODE = NADIR
^MEX_POINTING_DESC = "MEX_POINTING_DESC.TXT"
RIGHT_ASCENSION = -1e+32
DECLINATION = -1e+32
OFFSET_ANGLE = -1e+32
SPACECRAFT_SOLAR_DISTANCE = 2.30088e+08
TARGET_NAME = MARS
/* CAMERA DATA ELEMENTS */
DETECTOR_TEMPERATURE = 17.1471
FOCAL_PLANE_TEMPERATURE = 8.1755
INST_CMPRS_NAME = "DISCRETE COSINE TRANSFORMATION (DCT)"
INST_CMPRS_RATIO = 10.1177
INST_CMPRS_QUALITY = 0
INST_CMPRS_QUANTZ_TBL_ID = 0
INSTRUMENT_TEMPERATURE = 11.0301
LENS_TEMPERATURE = 8.9911
MACROPIXEL_SIZE = 4
MISSING_FRAMES = 1
PIXEL_SUBSAMPLING_FLAG = N
SIGNAL_CHAIN_ID = 2
/* RADIOMETRIC DATA ELEMENTS */
BANDWIDTH = 81.0
CENTER_FILTER_WAVELENGTH = 955.5
RADIANCE_OFFSET = 0.59566
RADIANCE_SCALING_FACTOR = 0.00372849
REFLECTANCE_SCALING_FACTOR = 0.000425839
MEX:REFLECTANCE_OFFSET = 0.0680316
/* IMAGE OBJECT DEFINITIONS */
OBJECT = IMAGE
  INTERCHANGE_FORMAT = BINARY
  LINES = 19322
  LINE_SAMPLES = 2378
  SAMPLE_TYPE = UNSIGNED_INTEGER
  SAMPLE_BITS = 8
  BANDS = 1
  BAND_STORAGE_TYPE = BAND_SEQUENTIAL
  MAXIMUM = 255
  MEAN = 101.78
  MINIMUM = 1
  STANDARD_DEVIATION = 25.7098
END_OBJECT = IMAGE
/* MAP OBJECT DEFINITIONS */
OBJECT = IMAGE_MAP_PROJECTION
  ^DATA_SET_MAP_PROJECTION_CATALOG= "DSMAP.CAT"
  A_AXIS_RADIUS = 3396.0
  B_AXIS_RADIUS = 3396.0
  C_AXIS_RADIUS = 3396.0
  CENTER_LATITUDE = 0.0
  CENTER_LONGITUDE = 88.0
  COORDINATE_SYSTEM_NAME = PLANETOGRAPHIC
  COORDINATE_SYSTEM_TYPE = "BODY-FIXED ROTATING"
  EASTERNMOST_LONGITUDE = 89.5317
  FIRST_STANDARD_PARALLEL = "N/A"
  LINE_FIRST_PIXEL = 1
  LINE_LAST_PIXEL = 19322
  LINE_PROJECTION_OFFSET = -43374.875
  MAP_PROJECTION_ROTATION = 0.0
  MAP_PROJECTION_TYPE = SINUSOIDAL
  MAP_RESOLUTION = 1185.42760773333
  MAP_SCALE = 0.05
  MAXIMUM_LATITUDE = -36.5947
  MINIMUM_LATITUDE = -52.8555
  POSITIVE_LONGITUDE_DIRECTION = EAST
  REFERENCE_LATITUDE = "N/A"
  REFERENCE_LONGITUDE = "N/A"
  SAMPLE_FIRST_PIXEL = 1
  SAMPLE_LAST_PIXEL = 2378
  SAMPLE_PROJECTION_OFFSET = 992.625
  SECOND_STANDARD_PARALLEL = "N/A"
  WESTERNMOST_LONGITUDE = 86.6088
END_OBJECT = IMAGE_MAP_PROJECTION
/* The JPEG2000 image data file associated with this label. */
OBJECT = COMPRESSED_FILE
  FILE_NAME = "H8584_0000_IR3.JP2"
  RECORD_TYPE = UNDEFINED
  FILE_RECORDS = UNK
  ENCODING_TYPE = "JP2"
  INTERCHANGE_FORMAT = BINARY
  UNCOMPRESSED_FILE_NAME = "H8584_0000_IR3.IMG"
  REQUIRED_STORAGE_BYTES = "45966740"
  ^DESCRIPTION = "JP2INFO.TXT"
END_OBJECT = COMPRESSED_FILE
END
