PDS_VERSION_ID = PDS3
/* FILE DATA ELEMENTS */
RECORD_TYPE = STREAM
/* POINTERS TO DATA OBJECTS */
^COMPRESSED_FILE = "H8574_0000_BL3.JP2"
/* IDENTIFICATION DATA ELEMENTS */
DATA_SET_ID = "MEX-M-HRSC-5-REFDR-MAPPROJECTED-V3.0"
DATA_SET_NAME = "MARS EXPRESS HRSC MAP PROJECTED REFDR V3.0"
DETECTOR_ID = MEX_HRSC_BLUE
EVENT_TYPE = "MARS-REGIONAL-MAPPING-Im-Fl-Pf"
INSTRUMENT_HOST_ID = MEX
INSTRUMENT_HOST_NAME = "MARS EXPRESS"
INSTRUMENT_ID = HRSC
INSTRUMENT_NAME = "HIGH RESOLUTION STEREO CAMERA"
MISSION_NAME = "MARS EXPRESS"
MISSION_PHASE_NAME = ME_Phase_21
PROCESSING_LEVEL_ID = 3
PRODUCT_CREATION_TIME = 2016-07-14T08:00:08.000Z
PRODUCT_ID = "H8574_0000_BL3.JP2"
RELEASE_ID = 0092
REVISION_ID = 0000
/* QUALITY DATA ELEMENTS */
DATA_QUALITY_ID = 1
DATA_QUALITY_DESC = "Data calculated based on original SPICE kernels"
/* TIME DATA ELEMENTS */
SPACECRAFT_CLOCK_START_COUNT = "1/0232586418.09063"
SPACECRAFT_CLOCK_STOP_COUNT = "1/0232586716.63898"
START_TIME = 2010-09-14T23:20:51.876Z
STOP_TIME = 2010-09-14T23:24:03.816Z
/* ORBITAL DATA ELEMENTS */
ASCENDING_NODE_LONGITUDE = 53.53
MAXIMUM_RESOLUTION = 132.6
FOOTPRINT_POINT_LATITUDE = (-40.6589,-40.6603,-40.6607,-40.6603, -40.6591,-40.6573,-40.6548,-40.3284, -40.015,-39.5939,-39.3794,-39.0591, -38.8451,-38.522,-38.3036,-38.0855, -37.867,-37.6486,-37.4248,-37.2028, -36.9799,-36.7576,-36.5309,-36.3037, -36.0767,-35.8501,-35.5035,-35.2724, -35.0414,-34.6891,-34.4539,-34.2191, -33.9805,-33.7411,-33.3826,-33.1389, -32.8954,-32.6523,-32.4053,-32.156, -31.7827,-31.4084,-31.1568,-30.9013, -30.5181,-30.2595,-30.0004,-29.7411, -29.4775,-29.2145,-28.89,-28.889, -28.8875,-28.8854,-28.8821,-28.8757, -28.8705,-29.1378,-29.4015,-29.7968, -30.1869,-30.447,-30.7016,-30.9578, -31.214,-31.4659,-31.7183,-31.9684, -32.2161,-32.4647,-32.8328,-33.0769, -33.4419,-33.6819,-33.9219,-34.1607, -34.3958,-34.632,-34.9866,-35.2174, -35.4492,-35.6811,-35.9109,-36.1368, -36.3637,-36.5914,-36.9285,-37.2623, -37.4855,-37.7076,-37.9267,-38.1477, -38.4759,-38.6929,-38.9072,-39.1221, -39.4446,-39.8695,-40.2896,-40.6589)
FOOTPRINT_POINT_LONGITUDE = (33.2439,32.8999,32.613,32.3285,32.0467 ,31.7674,31.4898,31.3657,31.3672, 31.3697,31.3705,31.3713,31.3717,31.3722 ,31.3723,31.3722,31.3721,31.3718, 31.3715,31.3708,31.37,31.3691,31.3681, 31.3669,31.3655,31.364,31.3614,31.3595, 31.3575,31.3541,31.3516,31.349,31.3461, 31.3432,31.3384,31.335,31.3314,31.3277, 31.3238,31.3195,31.3129,31.3064,31.3015 ,31.2965,31.2886,31.283,31.2774,31.2715 ,31.2654,31.2591,31.3286,31.6531,31.918 ,32.1841,32.5139,32.9919,33.306,33.4437 ,33.4407,33.4363,33.4312,33.4279, 33.4288,33.4259,33.4176,33.4146,33.4112 ,33.4082,33.4057,33.4016,33.3971, 33.3936,33.3887,33.3841,33.381,33.3821, 33.3803,33.3751,33.368,33.3666,33.3621, 33.3587,33.3568,33.3582,33.3568,33.3535 ,33.348,33.3462,33.3434,33.3402,33.3346 ,33.3219,33.3181,33.3176,33.3139, 33.3084,33.3009,33.291,33.2835,33.2439)
ORBIT_NUMBER = 8574
ORBITAL_ECCENTRICITY = 0.578
ORBITAL_INCLINATION = 86.83
ORBITAL_SEMIMAJOR_AXIS = 8781.39
PERIAPSIS_ALTITUDE = 321.08
PERIAPSIS_ARGUMENT_ANGLE = 296.84
PERIAPSIS_TIME = 2010-09-14T23:15:13.000Z
SPACECRAFT_ORIENTATION = (0.0,1.0,0.0)
^MEX_ORIENTATION_DESC = "MEX_ORIENTATION_DESC.TXT"
SPACECRAFT_POINTING_MODE = ACROSSTRACK
^MEX_POINTING_DESC = "MEX_POINTING_DESC.TXT"
RIGHT_ASCENSION = -1e+32
DECLINATION = -1e+32
OFFSET_ANGLE = -0.8
SPACECRAFT_SOLAR_DISTANCE = 2.30645e+08
TARGET_NAME = MARS
/* CAMERA DATA ELEMENTS */
DETECTOR_TEMPERATURE = 18.3705
FOCAL_PLANE_TEMPERATURE = 7.7677
INST_CMPRS_NAME = "DISCRETE COSINE TRANSFORMATION (DCT)"
INST_CMPRS_RATIO = 16.7569
INST_CMPRS_QUALITY = 0
INST_CMPRS_QUANTZ_TBL_ID = 0
INSTRUMENT_TEMPERATURE = 10.0106
LENS_TEMPERATURE = 8.7872
MACROPIXEL_SIZE = 8
MISSING_FRAMES = 0
PIXEL_SUBSAMPLING_FLAG = N
SIGNAL_CHAIN_ID = 2
/* RADIOMETRIC DATA ELEMENTS */
BANDWIDTH = 76.0
CENTER_FILTER_WAVELENGTH = 444.0
RADIANCE_OFFSET = 0.295522
RADIANCE_SCALING_FACTOR = 0.00187006
REFLECTANCE_SCALING_FACTOR = 0.000102211
MEX:REFLECTANCE_OFFSET = 0.0161522
/* IMAGE OBJECT DEFINITIONS */
OBJECT = IMAGE
  INTERCHANGE_FORMAT = BINARY
  LINES = 6994
  LINE_SAMPLES = 1211
  SAMPLE_TYPE = UNSIGNED_INTEGER
  SAMPLE_BITS = 8
  BANDS = 1
  BAND_STORAGE_TYPE = BAND_SEQUENTIAL
  MAXIMUM = 255
  MEAN = 134.757
  MINIMUM = 1
  STANDARD_DEVIATION = 28.6597
END_OBJECT = IMAGE
/* MAP OBJECT DEFINITIONS */
OBJECT = IMAGE_MAP_PROJECTION
  ^DATA_SET_MAP_PROJECTION_CATALOG= "DSMAP.CAT"
  A_AXIS_RADIUS = 3396.0
  B_AXIS_RADIUS = 3396.0
  C_AXIS_RADIUS = 3396.0
  CENTER_LATITUDE = 0.0
  CENTER_LONGITUDE = 32.0
  COORDINATE_SYSTEM_NAME = PLANETOGRAPHIC
  COORDINATE_SYSTEM_TYPE = "BODY-FIXED ROTATING"
  EASTERNMOST_LONGITUDE = 33.4437
  FIRST_STANDARD_PARALLEL = "N/A"
  LINE_FIRST_PIXEL = 1
  LINE_LAST_PIXEL = 6994
  LINE_PROJECTION_OFFSET = -17103.5625
  MAP_PROJECTION_ROTATION = 0.0
  MAP_PROJECTION_TYPE = SINUSOIDAL
  MAP_RESOLUTION = 592.713803866667
  MAP_SCALE = 0.1
  MAXIMUM_LATITUDE = -28.8705
  MINIMUM_LATITUDE = -40.6607
  POSITIVE_LONGITUDE_DIRECTION = EAST
  REFERENCE_LATITUDE = "N/A"
  REFERENCE_LONGITUDE = "N/A"
  SAMPLE_FIRST_PIXEL = 1
  SAMPLE_LAST_PIXEL = 1211
  SAMPLE_PROJECTION_OFFSET = 413.5625
  SECOND_STANDARD_PARALLEL = "N/A"
  WESTERNMOST_LONGITUDE = 31.2591
END_OBJECT = IMAGE_MAP_PROJECTION
/* The JPEG2000 image data file associated with this label. */
OBJECT = COMPRESSED_FILE
  FILE_NAME = "H8574_0000_BL3.JP2"
  RECORD_TYPE = UNDEFINED
  FILE_RECORDS = UNK
  ENCODING_TYPE = "JP2"
  INTERCHANGE_FORMAT = BINARY
  UNCOMPRESSED_FILE_NAME = "H8574_0000_BL3.IMG"
  REQUIRED_STORAGE_BYTES = "8487899"
  ^DESCRIPTION = "JP2INFO.TXT"
END_OBJECT = COMPRESSED_FILE
END
