PDS_VERSION_ID = PDS3
/* FILE DATA ELEMENTS */
RECORD_TYPE = STREAM
/* POINTERS TO DATA OBJECTS */
^COMPRESSED_FILE = "H8558_0000_GR3.JP2"
/* IDENTIFICATION DATA ELEMENTS */
DATA_SET_ID = "MEX-M-HRSC-5-REFDR-MAPPROJECTED-V3.0"
DATA_SET_NAME = "MARS EXPRESS HRSC MAP PROJECTED REFDR V3.0"
DETECTOR_ID = MEX_HRSC_GREEN
EVENT_TYPE = "MARS-LOCAL-MAPPING-Vo-Te"
INSTRUMENT_HOST_ID = MEX
INSTRUMENT_HOST_NAME = "MARS EXPRESS"
INSTRUMENT_ID = HRSC
INSTRUMENT_NAME = "HIGH RESOLUTION STEREO CAMERA"
MISSION_NAME = "MARS EXPRESS"
MISSION_PHASE_NAME = ME_Phase_21
PROCESSING_LEVEL_ID = 3
PRODUCT_CREATION_TIME = 2016-07-14T08:00:08.000Z
PRODUCT_ID = "H8558_0000_GR3.JP2"
RELEASE_ID = 0092
REVISION_ID = 0000
/* QUALITY DATA ELEMENTS */
DATA_QUALITY_ID = 1
DATA_QUALITY_DESC = "Data calculated based on original SPICE kernels"
/* TIME DATA ELEMENTS */
SPACECRAFT_CLOCK_START_COUNT = "1/0232183485.07304"
SPACECRAFT_CLOCK_STOP_COUNT = "1/0232183778.44886"
START_TIME = 2010-09-10T07:25:27.815Z
STOP_TIME = 2010-09-10T07:28:52.564Z
/* ORBITAL DATA ELEMENTS */
ASCENDING_NODE_LONGITUDE = 53.84
MAXIMUM_RESOLUTION = 61.3
FOOTPRINT_POINT_LATITUDE = (-42.2724,-42.2631,-42.2573,-42.0259, -41.7952,-41.5644,-41.334,-41.1037, -40.8737,-40.644,-40.1862,-39.8433, -39.4943,-39.2601,-38.9093,-38.6759, -38.3183,-38.0794,-37.8409,-37.6027, -37.3593,-37.1157,-36.8723,-36.6294, -36.3822,-36.1338,-35.8858,-35.5115, -35.2583,-35.0056,-34.7536,-34.4963, -34.2393,-33.9824,-33.5914,-33.3296, -33.0682,-32.8021,-32.5355,-32.2696, -31.9994,-31.7289,-31.3205,-31.0453, -30.7706,-30.3516,-30.0723,-29.7729, -29.7762,-29.7774,-29.7781,-29.7781, -29.7771,-29.7771,-30.0608,-30.4808, -30.7608,-31.0362,-31.3121,-31.5862, -31.993,-32.2643,-32.5307,-32.7976, -33.0643,-33.3263,-33.5886,-33.9807, -34.2382,-34.4961,-34.7541,-35.0068, -35.26,-35.5135,-35.7645,-36.0127, -36.2612,-36.6335,-36.8769,-37.242, -37.4863,-37.8474,-38.0865,-38.4456, -38.6854,-38.9193,-39.1535,-39.388, -39.6227,-39.8555,-40.3138,-40.5433, -40.7731,-41.1177,-41.348,-41.5789, -41.8102,-42.0416,-42.2731,-42.2724)
FOOTPRINT_POINT_LONGITUDE = (229.056,228.52,228.009,228.012,228.015 ,228.018,228.021,228.023,228.026, 228.028,228.032,228.034,228.036,228.038 ,228.039,228.04,228.04,228.041,228.041, 228.041,228.04,228.04,228.039,228.038, 228.037,228.036,228.035,228.032,228.031 ,228.029,228.026,228.024,228.022, 228.019,228.014,228.011,228.008,228.004 ,228.0,227.996,227.992,227.987,227.98, 227.975,227.97,227.962,227.956,228.062, 228.464,228.772,229.082,229.375,229.768 ,230.032,230.029,230.024,230.021, 230.018,230.015,230.012,230.007,230.003 ,230.0,229.996,229.993,229.99,229.986, 229.981,229.977,229.974,229.97,229.967, 229.964,229.96,229.956,229.952,229.948, 229.942,229.938,229.929,229.925,229.922 ,229.919,229.913,229.913,229.909, 229.906,229.901,229.897,229.893,229.884 ,229.879,229.874,229.863,229.858, 229.854,229.85,229.846,229.841,229.056)
ORBIT_NUMBER = 8558
ORBITAL_ECCENTRICITY = 0.579
ORBITAL_INCLINATION = 86.84
ORBITAL_SEMIMAJOR_AXIS = 8782.21
PERIAPSIS_ALTITUDE = 320.22
PERIAPSIS_ARGUMENT_ANGLE = 299.55
PERIAPSIS_TIME = 2010-09-10T07:20:45.000Z
SPACECRAFT_ORIENTATION = (0.0,1.0,0.0)
^MEX_ORIENTATION_DESC = "MEX_ORIENTATION_DESC.TXT"
SPACECRAFT_POINTING_MODE = ACROSSTRACK
^MEX_POINTING_DESC = "MEX_POINTING_DESC.TXT"
RIGHT_ASCENSION = -1e+32
DECLINATION = -1e+32
OFFSET_ANGLE = -0.8
SPACECRAFT_SOLAR_DISTANCE = 2.3153e+08
TARGET_NAME = MARS
/* CAMERA DATA ELEMENTS */
DETECTOR_TEMPERATURE = 18.1666
FOCAL_PLANE_TEMPERATURE = 8.3794
INST_CMPRS_NAME = "DISCRETE COSINE TRANSFORMATION (DCT)"
INST_CMPRS_RATIO = 5.80942
INST_CMPRS_QUALITY = 0
INST_CMPRS_QUANTZ_TBL_ID = 0
INSTRUMENT_TEMPERATURE = 11.0301
LENS_TEMPERATURE = 8.7872
MACROPIXEL_SIZE = 4
MISSING_FRAMES = 0
PIXEL_SUBSAMPLING_FLAG = N
SIGNAL_CHAIN_ID = 2
/* RADIOMETRIC DATA ELEMENTS */
BANDWIDTH = 88.0
CENTER_FILTER_WAVELENGTH = 538.0
RADIANCE_OFFSET = 0.339398
RADIANCE_SCALING_FACTOR = 0.00697753
REFLECTANCE_SCALING_FACTOR = 0.000322037
MEX:REFLECTANCE_OFFSET = 0.0156644
/* IMAGE OBJECT DEFINITIONS */
OBJECT = IMAGE
  INTERCHANGE_FORMAT = BINARY
  LINES = 14820
  LINE_SAMPLES = 2205
  SAMPLE_TYPE = UNSIGNED_INTEGER
  SAMPLE_BITS = 8
  BANDS = 1
  BAND_STORAGE_TYPE = BAND_SEQUENTIAL
  MAXIMUM = 255
  MEAN = 126.179
  MINIMUM = 1
  STANDARD_DEVIATION = 28.6136
END_OBJECT = IMAGE
/* MAP OBJECT DEFINITIONS */
OBJECT = IMAGE_MAP_PROJECTION
  ^DATA_SET_MAP_PROJECTION_CATALOG= "DSMAP.CAT"
  A_AXIS_RADIUS = 3396.0
  B_AXIS_RADIUS = 3396.0
  C_AXIS_RADIUS = 3396.0
  CENTER_LATITUDE = 0.0
  CENTER_LONGITUDE = 229.0
  COORDINATE_SYSTEM_NAME = PLANETOGRAPHIC
  COORDINATE_SYSTEM_TYPE = "BODY-FIXED ROTATING"
  EASTERNMOST_LONGITUDE = 230.032
  FIRST_STANDARD_PARALLEL = "N/A"
  LINE_FIRST_PIXEL = 1
  LINE_LAST_PIXEL = 14820
  LINE_PROJECTION_OFFSET = -35303.625
  MAP_PROJECTION_ROTATION = 0.0
  MAP_PROJECTION_TYPE = SINUSOIDAL
  MAP_RESOLUTION = 1185.42760773333
  MAP_SCALE = 0.05
  MAXIMUM_LATITUDE = -29.7729
  MINIMUM_LATITUDE = -42.2731
  POSITIVE_LONGITUDE_DIRECTION = EAST
  REFERENCE_LATITUDE = "N/A"
  REFERENCE_LONGITUDE = "N/A"
  SAMPLE_FIRST_PIXEL = 1
  SAMPLE_LAST_PIXEL = 2205
  SAMPLE_PROJECTION_OFFSET = 1076.625
  SECOND_STANDARD_PARALLEL = "N/A"
  WESTERNMOST_LONGITUDE = 227.956
END_OBJECT = IMAGE_MAP_PROJECTION
/* The JPEG2000 image data file associated with this label. */
OBJECT = COMPRESSED_FILE
  FILE_NAME = "H8558_0000_GR3.JP2"
  RECORD_TYPE = UNDEFINED
  FILE_RECORDS = UNK
  ENCODING_TYPE = "JP2"
  INTERCHANGE_FORMAT = BINARY
  UNCOMPRESSED_FILE_NAME = "H8558_0000_GR3.IMG"
  REQUIRED_STORAGE_BYTES = "32700150"
  ^DESCRIPTION = "JP2INFO.TXT"
END_OBJECT = COMPRESSED_FILE
END
