PDS_VERSION_ID = PDS3
/* FILE DATA ELEMENTS */
RECORD_TYPE = STREAM
/* POINTERS TO DATA OBJECTS */
^COMPRESSED_FILE = "H8542_0000_ND3.JP2"
/* IDENTIFICATION DATA ELEMENTS */
DATA_SET_ID = "MEX-M-HRSC-5-REFDR-MAPPROJECTED-V3.0"
DATA_SET_NAME = "MARS EXPRESS HRSC MAP PROJECTED REFDR V3.0"
DETECTOR_ID = MEX_HRSC_NADIR
EVENT_TYPE = "MARS-REGIONAL-MAPPING-Im-Lc-La"
INSTRUMENT_HOST_ID = MEX
INSTRUMENT_HOST_NAME = "MARS EXPRESS"
INSTRUMENT_ID = HRSC
INSTRUMENT_NAME = "HIGH RESOLUTION STEREO CAMERA"
MISSION_NAME = "MARS EXPRESS"
MISSION_PHASE_NAME = ME_Phase_21
PROCESSING_LEVEL_ID = 3
PRODUCT_CREATION_TIME = 2016-07-14T08:00:08.000Z
PRODUCT_ID = "H8542_0000_ND3.JP2"
RELEASE_ID = 0092
REVISION_ID = 0000
/* QUALITY DATA ELEMENTS */
DATA_QUALITY_ID = 1
DATA_QUALITY_DESC = "Data calculated based on original SPICE kernels"
/* TIME DATA ELEMENTS */
SPACECRAFT_CLOCK_START_COUNT = "1/0231780578.09060"
SPACECRAFT_CLOCK_STOP_COUNT = "1/0231780864.00724"
START_TIME = 2010-09-05T15:30:12.113Z
STOP_TIME = 2010-09-05T15:33:36.090Z
/* ORBITAL DATA ELEMENTS */
ASCENDING_NODE_LONGITUDE = 54.14
MAXIMUM_RESOLUTION = 14.5
FOOTPRINT_POINT_LATITUDE = (-43.6083,-43.6009,-43.5911,-43.474, -43.2551,-43.0363,-42.5992,-42.1627, -41.7269,-41.4752,-41.2156,-40.9563, -40.6973,-40.4384,-40.1798,-39.9215, -39.6634,-39.4056,-39.148,-38.8908, -38.6338,-38.377,-38.1206,-37.8645, -37.6086,-37.3489,-37.0936,-36.8386, -36.5838,-36.3294,-36.0689,-35.8083, -35.5479,-35.2879,-35.0236,-34.7573, -34.4917,-34.2262,-33.8202,-33.5488, -33.278,-32.8652,-32.5886,-32.3124, -31.8913,-31.6094,-31.1844,-30.8971, -30.7516,-30.7531,-30.7527,-30.7505, -31.0382,-31.3263,-31.6083,-31.8907, -32.3129,-32.5897,-32.8669,-33.2807, -33.5522,-33.824,-34.2308,-34.4968, -34.7631,-35.0298,-35.2949,-35.5554, -35.8162,-36.0774,-36.3385,-36.5934, -36.8486,-37.1041,-37.3599,-37.62, -37.8764,-38.1331,-38.39,-38.6473, -38.9048,-39.1625,-39.4206,-39.6788, -39.9374,-40.1962,-40.4553,-40.7146, -40.9742,-41.234,-41.494,-41.7469, -42.1836,-42.4021,-42.6209,-42.8398, -43.0588,-43.278,-43.4973,-43.6083)
FOOTPRINT_POINT_LONGITUDE = (65.4613,64.9252,64.3964,64.1393, 64.1458,64.152,64.1636,64.1746,64.1846, 64.1902,64.1957,64.2009,64.2059,64.2105 ,64.2148,64.2189,64.2228,64.2264, 64.2298,64.233,64.236,64.2387,64.2413, 64.2439,64.246,64.2477,64.2491,64.2506, 64.2517,64.2527,64.2536,64.2542,64.2546 ,64.2548,64.2547,64.2539,64.2542, 64.2537,64.2518,64.2505,64.2491,64.2473 ,64.2456,64.2436,64.2401,64.2374, 64.2322,64.2294,64.6786,65.2655,65.6284 ,66.1574,66.1538,66.1496,66.1454, 66.1412,66.1358,66.131,66.1268,66.1211, 66.1167,66.1128,66.1084,66.1052,66.1015 ,66.094,66.0886,66.0838,66.0787,66.0756 ,66.0711,66.0662,66.0616,66.0575, 66.0527,66.0479,66.0421,66.0362,66.0309 ,66.026,66.0201,66.0154,66.0094,66.0045 ,65.9999,65.9941,65.9885,65.9824, 65.9762,65.9696,65.9627,65.9572,65.9453 ,65.9405,65.9342,65.929,65.9237,65.917, 65.9112,65.4613)
ORBIT_NUMBER = 8542
ORBITAL_ECCENTRICITY = 0.579
ORBITAL_INCLINATION = 86.84
ORBITAL_SEMIMAJOR_AXIS = 8789.23
PERIAPSIS_ALTITUDE = 320.78
PERIAPSIS_ARGUMENT_ANGLE = 302.31
PERIAPSIS_TIME = 2010-09-05T15:26:39.000Z
SPACECRAFT_ORIENTATION = (0.0,1.0,0.0)
^MEX_ORIENTATION_DESC = "MEX_ORIENTATION_DESC.TXT"
SPACECRAFT_POINTING_MODE = ACROSSTRACK
^MEX_POINTING_DESC = "MEX_POINTING_DESC.TXT"
RIGHT_ASCENSION = -1e+32
DECLINATION = -1e+32
OFFSET_ANGLE = -0.5
SPACECRAFT_SOLAR_DISTANCE = 2.32406e+08
TARGET_NAME = MARS
/* CAMERA DATA ELEMENTS */
DETECTOR_TEMPERATURE = 18.3705
FOCAL_PLANE_TEMPERATURE = 8.1755
INST_CMPRS_NAME = "DISCRETE COSINE TRANSFORMATION (DCT)"
INST_CMPRS_RATIO = 9.46568
INST_CMPRS_QUALITY = 0
INST_CMPRS_QUANTZ_TBL_ID = 0
INSTRUMENT_TEMPERATURE = 11.234
LENS_TEMPERATURE = 8.5833
MACROPIXEL_SIZE = 1
MISSING_FRAMES = 2
PIXEL_SUBSAMPLING_FLAG = N
SIGNAL_CHAIN_ID = 0
/* RADIOMETRIC DATA ELEMENTS */
BANDWIDTH = 177.0
CENTER_FILTER_WAVELENGTH = 677.5
RADIANCE_OFFSET = 2.4712
RADIANCE_SCALING_FACTOR = 0.0112796
REFLECTANCE_SCALING_FACTOR = 0.000323646
MEX:REFLECTANCE_OFFSET = 0.0709058
/* IMAGE OBJECT DEFINITIONS */
OBJECT = IMAGE
  INTERCHANGE_FORMAT = BINARY
  LINES = 60988
  LINE_SAMPLES = 7994
  SAMPLE_TYPE = UNSIGNED_INTEGER
  SAMPLE_BITS = 8
  BANDS = 1
  BAND_STORAGE_TYPE = BAND_SEQUENTIAL
  MAXIMUM = 255
  MEAN = 128.96
  MINIMUM = 1
  STANDARD_DEVIATION = 29.6876
END_OBJECT = IMAGE
/* MAP OBJECT DEFINITIONS */
OBJECT = IMAGE_MAP_PROJECTION
  ^DATA_SET_MAP_PROJECTION_CATALOG= "DSMAP.CAT"
  A_AXIS_RADIUS = 3396.0
  B_AXIS_RADIUS = 3396.0
  C_AXIS_RADIUS = 3396.0
  CENTER_LATITUDE = 0.0
  CENTER_LONGITUDE = 65.0
  COORDINATE_SYSTEM_NAME = PLANETOGRAPHIC
  COORDINATE_SYSTEM_TYPE = "BODY-FIXED ROTATING"
  EASTERNMOST_LONGITUDE = 66.1574
  FIRST_STANDARD_PARALLEL = "N/A"
  LINE_FIRST_PIXEL = 1
  LINE_LAST_PIXEL = 60988
  LINE_PROJECTION_OFFSET = -145809.0
  MAP_PROJECTION_ROTATION = 0.0
  MAP_PROJECTION_TYPE = SINUSOIDAL
  MAP_RESOLUTION = 4741.71043093333
  MAP_SCALE = 0.0125
  MAXIMUM_LATITUDE = -30.7505
  MINIMUM_LATITUDE = -43.6083
  POSITIVE_LONGITUDE_DIRECTION = EAST
  REFERENCE_LATITUDE = "N/A"
  REFERENCE_LONGITUDE = "N/A"
  SAMPLE_FIRST_PIXEL = 1
  SAMPLE_LAST_PIXEL = 7994
  SAMPLE_PROJECTION_OFFSET = 3161.0
  SECOND_STANDARD_PARALLEL = "N/A"
  WESTERNMOST_LONGITUDE = 64.13930000000001
END_OBJECT = IMAGE_MAP_PROJECTION
/* The JPEG2000 image data file associated with this label. */
OBJECT = COMPRESSED_FILE
  FILE_NAME = "H8542_0000_ND3.JP2"
  RECORD_TYPE = UNDEFINED
  FILE_RECORDS = UNK
  ENCODING_TYPE = "JP2"
  INTERCHANGE_FORMAT = BINARY
  UNCOMPRESSED_FILE_NAME = "H8542_0000_ND3.IMG"
  REQUIRED_STORAGE_BYTES = "487570048"
  ^DESCRIPTION = "JP2INFO.TXT"
END_OBJECT = COMPRESSED_FILE
END
