PDS_VERSION_ID = PDS3
/* FILE DATA ELEMENTS */
RECORD_TYPE = STREAM
/* POINTERS TO DATA OBJECTS */
^COMPRESSED_FILE = "H8534_0000_IR3.JP2"
/* IDENTIFICATION DATA ELEMENTS */
DATA_SET_ID = "MEX-M-HRSC-5-REFDR-MAPPROJECTED-V3.0"
DATA_SET_NAME = "MARS EXPRESS HRSC MAP PROJECTED REFDR V3.0"
DETECTOR_ID = MEX_HRSC_IR
EVENT_TYPE = "MARS-REGIONAL-MAPPING-Im-Pf"
INSTRUMENT_HOST_ID = MEX
INSTRUMENT_HOST_NAME = "MARS EXPRESS"
INSTRUMENT_ID = HRSC
INSTRUMENT_NAME = "HIGH RESOLUTION STEREO CAMERA"
MISSION_NAME = "MARS EXPRESS"
MISSION_PHASE_NAME = ME_Phase_21
PROCESSING_LEVEL_ID = 3
PRODUCT_CREATION_TIME = 2016-07-14T08:00:08.000Z
PRODUCT_ID = "H8534_0000_IR3.JP2"
RELEASE_ID = 0092
REVISION_ID = 0000
/* QUALITY DATA ELEMENTS */
DATA_QUALITY_ID = 1
DATA_QUALITY_DESC = "Data calculated based on original SPICE kernels"
/* TIME DATA ELEMENTS */
SPACECRAFT_CLOCK_START_COUNT = "1/0231579110.09051"
SPACECRAFT_CLOCK_STOP_COUNT = "1/0231579451.50382"
START_TIME = 2010-09-03T07:32:49.233Z
STOP_TIME = 2010-09-03T07:37:23.213Z
/* ORBITAL DATA ELEMENTS */
ASCENDING_NODE_LONGITUDE = 54.29
MAXIMUM_RESOLUTION = 58.6
FOOTPRINT_POINT_LATITUDE = (-45.1293,-45.1158,-45.1449,-44.8629, -44.4404,-44.0191,-43.7383,-43.4579, -43.1782,-42.8995,-42.6201,-42.342, -42.0643,-41.5805,-41.2507,-40.9213, -40.5926,-40.1001,-39.7731,-39.4479, -39.1243,-38.6384,-38.1534,-37.8307, -37.5091,-37.1883,-36.8686,-36.5396, -36.2121,-35.8855,-35.3869,-35.0546, -34.5495,-34.2098,-33.6978,-33.3511, -33.0057,-32.6541,-32.1274,-31.7701, -31.4143,-30.8722,-30.5105,-30.1419, -29.7746,-29.4009,-28.8382,-28.7654, -28.7659,-28.7664,-28.7665,-28.7663, -29.1448,-29.5195,-29.8919,-30.2601, -30.6301,-30.9904,-31.3537,-31.7102, -32.2447,-32.5965,-32.9503,-33.2964, -33.8185,-34.1597,-34.4996,-34.8403, -35.1739,-35.5079,-35.8421,-36.1691, -36.4973,-36.8259,-37.1486,-37.47, -37.7922,-38.1154,-38.4392,-38.7634, -39.2498,-39.5738,-39.8992,-40.2263, -40.5555,-41.0492,-41.3783,-41.7065, -42.0338,-42.3098,-42.6005,-42.8816, -43.1611,-43.4408,-43.7167,-44.1401, -44.4226,-44.8463,-45.1284,-45.1293)
FOOTPRINT_POINT_LONGITUDE = (162.711,162.127,161.609,161.623, 161.644,161.663,161.676,161.689,161.7, 161.711,161.723,161.733,161.743,161.76, 161.771,161.781,161.791,161.805,161.814 ,161.821,161.828,161.838,161.847, 161.853,161.858,161.863,161.868,161.872 ,161.876,161.88,161.884,161.886,161.89, 161.892,161.894,161.895,161.896,161.896 ,161.895,161.894,161.893,161.89,161.887 ,161.884,161.881,161.877,161.87,162.299 ,162.598,162.935,163.309,163.876, 163.867,163.859,163.85,163.841,163.833, 163.823,163.814,163.805,163.791,163.782 ,163.773,163.764,163.751,163.742, 163.733,163.723,163.714,163.704,163.694 ,163.684,163.675,163.664,163.654, 163.644,163.634,163.623,163.613,163.602 ,163.584,163.572,163.559,163.547, 163.536,163.517,163.504,163.49,163.477, 163.465,163.459,163.449,163.437,163.425 ,163.411,163.394,163.382,163.363,163.35 ,162.711)
ORBIT_NUMBER = 8534
ORBITAL_ECCENTRICITY = 0.579
ORBITAL_INCLINATION = 86.83
ORBITAL_SEMIMAJOR_AXIS = 8790.09
PERIAPSIS_ALTITUDE = 322.1
PERIAPSIS_ARGUMENT_ANGLE = 303.68
PERIAPSIS_TIME = 2010-09-03T07:29:35.000Z
SPACECRAFT_ORIENTATION = (0.0,1.0,0.0)
^MEX_ORIENTATION_DESC = "MEX_ORIENTATION_DESC.TXT"
SPACECRAFT_POINTING_MODE = NADIR
^MEX_POINTING_DESC = "MEX_POINTING_DESC.TXT"
RIGHT_ASCENSION = -1e+32
DECLINATION = -1e+32
OFFSET_ANGLE = -1e+32
SPACECRAFT_SOLAR_DISTANCE = 2.32839e+08
TARGET_NAME = MARS
/* CAMERA DATA ELEMENTS */
DETECTOR_TEMPERATURE = 17.1471
FOCAL_PLANE_TEMPERATURE = 7.9716
INST_CMPRS_NAME = "DISCRETE COSINE TRANSFORMATION (DCT)"
INST_CMPRS_RATIO = 8.06203
INST_CMPRS_QUALITY = 0
INST_CMPRS_QUANTZ_TBL_ID = 0
INSTRUMENT_TEMPERATURE = 11.234
LENS_TEMPERATURE = 8.3794
MACROPIXEL_SIZE = 4
MISSING_FRAMES = 0
PIXEL_SUBSAMPLING_FLAG = N
SIGNAL_CHAIN_ID = 2
/* RADIOMETRIC DATA ELEMENTS */
BANDWIDTH = 81.0
CENTER_FILTER_WAVELENGTH = 955.5
RADIANCE_OFFSET = 0.116987
RADIANCE_SCALING_FACTOR = 0.00481711
REFLECTANCE_SCALING_FACTOR = 0.00056341
MEX:REFLECTANCE_OFFSET = 0.0136828
/* IMAGE OBJECT DEFINITIONS */
OBJECT = IMAGE
  INTERCHANGE_FORMAT = BINARY
  LINES = 19492
  LINE_SAMPLES = 2047
  SAMPLE_TYPE = UNSIGNED_INTEGER
  SAMPLE_BITS = 8
  BANDS = 1
  BAND_STORAGE_TYPE = BAND_SEQUENTIAL
  MAXIMUM = 255
  MEAN = 93.8356
  MINIMUM = 1
  STANDARD_DEVIATION = 23.4714
END_OBJECT = IMAGE
/* MAP OBJECT DEFINITIONS */
OBJECT = IMAGE_MAP_PROJECTION
  ^DATA_SET_MAP_PROJECTION_CATALOG= "DSMAP.CAT"
  A_AXIS_RADIUS = 3396.0
  B_AXIS_RADIUS = 3396.0
  C_AXIS_RADIUS = 3396.0
  CENTER_LATITUDE = 0.0
  CENTER_LONGITUDE = 163.0
  COORDINATE_SYSTEM_NAME = PLANETOGRAPHIC
  COORDINATE_SYSTEM_TYPE = "BODY-FIXED ROTATING"
  EASTERNMOST_LONGITUDE = 163.876
  FIRST_STANDARD_PARALLEL = "N/A"
  LINE_FIRST_PIXEL = 1
  LINE_LAST_PIXEL = 19492
  LINE_PROJECTION_OFFSET = -34085.875
  MAP_PROJECTION_ROTATION = 0.0
  MAP_PROJECTION_TYPE = SINUSOIDAL
  MAP_RESOLUTION = 1185.42760773333
  MAP_SCALE = 0.05
  MAXIMUM_LATITUDE = -28.7654
  MINIMUM_LATITUDE = -45.1449
  POSITIVE_LONGITUDE_DIRECTION = EAST
  REFERENCE_LATITUDE = "N/A"
  REFERENCE_LONGITUDE = "N/A"
  SAMPLE_FIRST_PIXEL = 1
  SAMPLE_LAST_PIXEL = 2047
  SAMPLE_PROJECTION_OFFSET = 1174.625
  SECOND_STANDARD_PARALLEL = "N/A"
  WESTERNMOST_LONGITUDE = 161.609
END_OBJECT = IMAGE_MAP_PROJECTION
/* The JPEG2000 image data file associated with this label. */
OBJECT = COMPRESSED_FILE
  FILE_NAME = "H8534_0000_IR3.JP2"
  RECORD_TYPE = UNDEFINED
  FILE_RECORDS = UNK
  ENCODING_TYPE = "JP2"
  INTERCHANGE_FORMAT = BINARY
  UNCOMPRESSED_FILE_NAME = "H8534_0000_IR3.IMG"
  REQUIRED_STORAGE_BYTES = "39920594"
  ^DESCRIPTION = "JP2INFO.TXT"
END_OBJECT = COMPRESSED_FILE
END
