PDS_VERSION_ID = PDS3
/* FILE DATA ELEMENTS */
RECORD_TYPE = STREAM
/* POINTERS TO DATA OBJECTS */
^COMPRESSED_FILE = "H8534_0000_GR3.JP2"
/* IDENTIFICATION DATA ELEMENTS */
DATA_SET_ID = "MEX-M-HRSC-5-REFDR-MAPPROJECTED-V3.0"
DATA_SET_NAME = "MARS EXPRESS HRSC MAP PROJECTED REFDR V3.0"
DETECTOR_ID = MEX_HRSC_GREEN
EVENT_TYPE = "MARS-REGIONAL-MAPPING-Im-Pf"
INSTRUMENT_HOST_ID = MEX
INSTRUMENT_HOST_NAME = "MARS EXPRESS"
INSTRUMENT_ID = HRSC
INSTRUMENT_NAME = "HIGH RESOLUTION STEREO CAMERA"
MISSION_NAME = "MARS EXPRESS"
MISSION_PHASE_NAME = ME_Phase_21
PROCESSING_LEVEL_ID = 3
PRODUCT_CREATION_TIME = 2016-07-14T08:00:08.000Z
PRODUCT_ID = "H8534_0000_GR3.JP2"
RELEASE_ID = 0092
REVISION_ID = 0000
/* QUALITY DATA ELEMENTS */
DATA_QUALITY_ID = 1
DATA_QUALITY_DESC = "Data calculated based on original SPICE kernels"
/* TIME DATA ELEMENTS */
SPACECRAFT_CLOCK_START_COUNT = "1/0231579110.09051"
SPACECRAFT_CLOCK_STOP_COUNT = "1/0231579451.50382"
START_TIME = 2010-09-03T07:32:28.175Z
STOP_TIME = 2010-09-03T07:36:50.664Z
/* ORBITAL DATA ELEMENTS */
ASCENDING_NODE_LONGITUDE = 54.29
MAXIMUM_RESOLUTION = 55
FOOTPRINT_POINT_LATITUDE = (-45.1774,-45.1625,-45.154,-44.8669, -44.58,-44.2933,-44.007,-43.7207, -43.4348,-43.1491,-42.8638,-42.5787, -42.2939,-42.0094,-41.7252,-41.1576, -40.5912,-40.0877,-39.7509,-39.4149, -39.0796,-38.7443,-38.4096,-38.0753, -37.7415,-37.4083,-37.0756,-36.7435, -36.4117,-36.0804,-35.7499,-35.4199, -34.9162,-34.5786,-34.2416,-33.8982, -33.5535,-33.2095,-32.6833,-32.3324, -31.9772,-31.6192,-31.2619,-30.8972, -30.351,-29.9796,-29.6086,-29.2329, -28.8553,-28.7617,-28.7662,-28.7667, -29.1457,-29.5243,-29.8958,-30.4528, -30.8171,-31.3635,-31.7217,-32.259, -32.6105,-32.9629,-33.3125,-33.6578, -34.0023,-34.3446,-34.6824,-35.0208, -35.3584,-35.689,-36.0201,-36.3518, -36.684,-37.0167,-37.35,-37.6837, -38.0181,-38.3529,-38.6881,-39.0237, -39.3598,-39.6961,-40.0329,-40.3708, -40.693,-41.2604,-41.5444,-41.8286, -42.1131,-42.3988,-42.6859,-42.9717, -43.2577,-43.6863,-43.9729,-44.2602, -44.5476,-44.8351,-45.1227,-45.1774)
FOOTPRINT_POINT_LONGITUDE = (162.763,162.163,161.627,161.642, 161.657,161.671,161.685,161.698,161.711 ,161.724,161.736,161.747,161.758, 161.769,161.78,161.799,161.817,161.832, 161.842,161.85,161.857,161.865,161.872, 161.879,161.886,161.892,161.897,161.902 ,161.907,161.912,161.916,161.92,161.924 ,161.927,161.93,161.932,161.934,161.936 ,161.938,161.938,161.939,161.938, 161.937,161.936,161.934,161.932,161.929 ,161.926,161.922,162.239,163.051, 163.652,163.81,163.802,163.794,163.784, 163.775,163.763,163.755,163.742,163.735 ,163.727,163.72,163.713,163.702,163.694 ,163.685,163.677,163.668,163.659,163.65 ,163.64,163.631,163.621,163.612,163.601 ,163.591,163.581,163.57,163.559,163.548 ,163.535,163.523,163.512,163.501,163.48 ,163.469,163.458,163.446,163.437,163.43 ,163.419,163.407,163.388,163.376, 163.364,163.353,163.34,163.327,162.763)
ORBIT_NUMBER = 8534
ORBITAL_ECCENTRICITY = 0.579
ORBITAL_INCLINATION = 86.83
ORBITAL_SEMIMAJOR_AXIS = 8790.09
PERIAPSIS_ALTITUDE = 322.1
PERIAPSIS_ARGUMENT_ANGLE = 303.68
PERIAPSIS_TIME = 2010-09-03T07:29:35.000Z
SPACECRAFT_ORIENTATION = (0.0,1.0,0.0)
^MEX_ORIENTATION_DESC = "MEX_ORIENTATION_DESC.TXT"
SPACECRAFT_POINTING_MODE = NADIR
^MEX_POINTING_DESC = "MEX_POINTING_DESC.TXT"
RIGHT_ASCENSION = -1e+32
DECLINATION = -1e+32
OFFSET_ANGLE = -1e+32
SPACECRAFT_SOLAR_DISTANCE = 2.32839e+08
TARGET_NAME = MARS
/* CAMERA DATA ELEMENTS */
DETECTOR_TEMPERATURE = 17.9627
FOCAL_PLANE_TEMPERATURE = 7.9716
INST_CMPRS_NAME = "DISCRETE COSINE TRANSFORMATION (DCT)"
INST_CMPRS_RATIO = 8.11582
INST_CMPRS_QUALITY = 0
INST_CMPRS_QUANTZ_TBL_ID = 0
INSTRUMENT_TEMPERATURE = 11.234
LENS_TEMPERATURE = 8.3794
MACROPIXEL_SIZE = 4
MISSING_FRAMES = 0
PIXEL_SUBSAMPLING_FLAG = N
SIGNAL_CHAIN_ID = 2
/* RADIOMETRIC DATA ELEMENTS */
BANDWIDTH = 88.0
CENTER_FILTER_WAVELENGTH = 538.0
RADIANCE_OFFSET = 0.262751
RADIANCE_SCALING_FACTOR = 0.0060679
REFLECTANCE_SCALING_FACTOR = 0.000283229
MEX:REFLECTANCE_OFFSET = 0.0122644
/* IMAGE OBJECT DEFINITIONS */
OBJECT = IMAGE
  INTERCHANGE_FORMAT = BINARY
  LINES = 19492
  LINE_SAMPLES = 2047
  SAMPLE_TYPE = UNSIGNED_INTEGER
  SAMPLE_BITS = 8
  BANDS = 1
  BAND_STORAGE_TYPE = BAND_SEQUENTIAL
  MAXIMUM = 255
  MEAN = 111.851
  MINIMUM = 1
  STANDARD_DEVIATION = 20.0635
END_OBJECT = IMAGE
/* MAP OBJECT DEFINITIONS */
OBJECT = IMAGE_MAP_PROJECTION
  ^DATA_SET_MAP_PROJECTION_CATALOG= "DSMAP.CAT"
  A_AXIS_RADIUS = 3396.0
  B_AXIS_RADIUS = 3396.0
  C_AXIS_RADIUS = 3396.0
  CENTER_LATITUDE = 0.0
  CENTER_LONGITUDE = 163.0
  COORDINATE_SYSTEM_NAME = PLANETOGRAPHIC
  COORDINATE_SYSTEM_TYPE = "BODY-FIXED ROTATING"
  EASTERNMOST_LONGITUDE = 163.81
  FIRST_STANDARD_PARALLEL = "N/A"
  LINE_FIRST_PIXEL = 1
  LINE_LAST_PIXEL = 19492
  LINE_PROJECTION_OFFSET = -34085.875
  MAP_PROJECTION_ROTATION = 0.0
  MAP_PROJECTION_TYPE = SINUSOIDAL
  MAP_RESOLUTION = 1185.42760773333
  MAP_SCALE = 0.05
  MAXIMUM_LATITUDE = -28.7617
  MINIMUM_LATITUDE = -45.1774
  POSITIVE_LONGITUDE_DIRECTION = EAST
  REFERENCE_LATITUDE = "N/A"
  REFERENCE_LONGITUDE = "N/A"
  SAMPLE_FIRST_PIXEL = 1
  SAMPLE_LAST_PIXEL = 2047
  SAMPLE_PROJECTION_OFFSET = 1174.625
  SECOND_STANDARD_PARALLEL = "N/A"
  WESTERNMOST_LONGITUDE = 161.627
END_OBJECT = IMAGE_MAP_PROJECTION
/* The JPEG2000 image data file associated with this label. */
OBJECT = COMPRESSED_FILE
  FILE_NAME = "H8534_0000_GR3.JP2"
  RECORD_TYPE = UNDEFINED
  FILE_RECORDS = UNK
  ENCODING_TYPE = "JP2"
  INTERCHANGE_FORMAT = BINARY
  UNCOMPRESSED_FILE_NAME = "H8534_0000_GR3.IMG"
  REQUIRED_STORAGE_BYTES = "39920594"
  ^DESCRIPTION = "JP2INFO.TXT"
END_OBJECT = COMPRESSED_FILE
END
