PDS_VERSION_ID = PDS3
/* FILE DATA ELEMENTS */
RECORD_TYPE = STREAM
/* POINTERS TO DATA OBJECTS */
^COMPRESSED_FILE = "H8531_0000_BL3.JP2"
/* IDENTIFICATION DATA ELEMENTS */
DATA_SET_ID = "MEX-M-HRSC-5-REFDR-MAPPROJECTED-V3.0"
DATA_SET_NAME = "MARS EXPRESS HRSC MAP PROJECTED REFDR V3.0"
DETECTOR_ID = MEX_HRSC_BLUE
EVENT_TYPE = "MARS-REGIONAL-MAPPING-Im-Pf"
INSTRUMENT_HOST_ID = MEX
INSTRUMENT_HOST_NAME = "MARS EXPRESS"
INSTRUMENT_ID = HRSC
INSTRUMENT_NAME = "HIGH RESOLUTION STEREO CAMERA"
MISSION_NAME = "MARS EXPRESS"
MISSION_PHASE_NAME = ME_Phase_21
PROCESSING_LEVEL_ID = 3
PRODUCT_CREATION_TIME = 2016-07-14T08:00:08.000Z
PRODUCT_ID = "H8531_0000_BL3.JP2"
RELEASE_ID = 0092
REVISION_ID = 0000
/* QUALITY DATA ELEMENTS */
DATA_QUALITY_ID = 1
DATA_QUALITY_DESC = "Data calculated based on original SPICE kernels"
/* TIME DATA ELEMENTS */
SPACECRAFT_CLOCK_START_COUNT = "1/0231503582.09111"
SPACECRAFT_CLOCK_STOP_COUNT = "1/0231503892.62421"
START_TIME = 2010-09-02T10:33:29.719Z
STOP_TIME = 2010-09-02T10:37:18.679Z
/* ORBITAL DATA ELEMENTS */
ASCENDING_NODE_LONGITUDE = 54.35
MAXIMUM_RESOLUTION = 54.3
FOOTPRINT_POINT_LATITUDE = (-44.0855,-44.0708,-44.0586,-43.7816, -43.5229,-43.2644,-42.8773,-42.6187, -42.3606,-42.1031,-41.846,-41.5906, -41.3335,-41.0742,-40.8161,-40.5588, -40.3022,-40.0468,-39.5348,-39.1221, -38.8165,-38.3591,-38.0539,-37.7498, -37.4486,-37.1445,-36.8412,-36.5383, -36.236,-35.934,-35.6325,-35.3314, -34.8793,-34.5788,-34.2786,-33.9788, -33.672,-33.2117,-32.9053,-32.4361, -32.1228,-31.8088,-31.4872,-31.1673, -30.8497,-30.524,-30.1973,-29.8713, -29.5386,-29.4403,-29.4438,-29.4447, -29.6127,-29.9446,-30.2713,-30.5987, -30.9238,-31.4046,-31.7251,-32.0414, -32.3552,-32.6694,-32.9809,-33.288, -33.5955,-34.0554,-34.3558,-34.6565, -34.9577,-35.2593,-35.5617,-35.8635, -36.1665,-36.4689,-36.7719,-37.0754, -37.3793,-37.684,-38.1406,-38.5982, -38.9035,-39.2094,-39.485,-39.8696, -40.1263,-40.3836,-40.7699,-41.0278, -41.2849,-41.5431,-41.8016,-42.0592, -42.3197,-42.576,-42.8341,-43.0938, -43.3519,-43.6109,-43.8703,-44.0855)
FOOTPRINT_POINT_LONGITUDE = (109.933,109.256,108.804,108.58,108.592 ,108.604,108.622,108.632,108.642, 108.653,108.664,108.677,108.687,108.692 ,108.699,108.706,108.714,108.724,108.74 ,108.75,108.757,108.767,108.772,108.778 ,108.789,108.793,108.798,108.803, 108.808,108.813,108.817,108.822,108.825 ,108.828,108.831,108.833,108.835, 108.838,108.84,108.842,108.843,108.841, 108.839,108.839,108.842,108.841,108.84, 108.838,108.836,109.39,109.927,110.297, 110.636,110.629,110.623,110.616,110.61, 110.599,110.593,110.586,110.579,110.573 ,110.566,110.559,110.552,110.541, 110.534,110.527,110.519,110.512,110.503 ,110.496,110.487,110.48,110.472,110.464 ,110.455,110.446,110.433,110.419,110.41 ,110.4,110.391,110.38,110.372,110.362, 110.349,110.339,110.331,110.321,110.311 ,110.303,110.288,110.283,110.275, 110.263,110.255,110.244,110.234, 109.933)
ORBIT_NUMBER = 8531
ORBITAL_ECCENTRICITY = 0.579
ORBITAL_INCLINATION = 86.83
ORBITAL_SEMIMAJOR_AXIS = 8793.46
PERIAPSIS_ALTITUDE = 320.87
PERIAPSIS_ARGUMENT_ANGLE = 304.17
PERIAPSIS_TIME = 2010-09-02T10:30:38.000Z
SPACECRAFT_ORIENTATION = (0.0,1.0,0.0)
^MEX_ORIENTATION_DESC = "MEX_ORIENTATION_DESC.TXT"
SPACECRAFT_POINTING_MODE = NADIR
^MEX_POINTING_DESC = "MEX_POINTING_DESC.TXT"
RIGHT_ASCENSION = -1e+32
DECLINATION = -1e+32
OFFSET_ANGLE = -1e+32
SPACECRAFT_SOLAR_DISTANCE = 2.33001e+08
TARGET_NAME = MARS
/* CAMERA DATA ELEMENTS */
DETECTOR_TEMPERATURE = 18.3705
FOCAL_PLANE_TEMPERATURE = 7.9716
INST_CMPRS_NAME = "DISCRETE COSINE TRANSFORMATION (DCT)"
INST_CMPRS_RATIO = 6.32709
INST_CMPRS_QUALITY = 0
INST_CMPRS_QUANTZ_TBL_ID = 0
INSTRUMENT_TEMPERATURE = 11.234
LENS_TEMPERATURE = 8.3794
MACROPIXEL_SIZE = 4
MISSING_FRAMES = 0
PIXEL_SUBSAMPLING_FLAG = N
SIGNAL_CHAIN_ID = 2
/* RADIOMETRIC DATA ELEMENTS */
BANDWIDTH = 76.0
CENTER_FILTER_WAVELENGTH = 444.0
RADIANCE_OFFSET = 0.152636
RADIANCE_SCALING_FACTOR = 0.00458037
REFLECTANCE_SCALING_FACTOR = 0.000255488
MEX:REFLECTANCE_OFFSET = 0.00851384
/* IMAGE OBJECT DEFINITIONS */
OBJECT = IMAGE
  INTERCHANGE_FORMAT = BINARY
  LINES = 17360
  LINE_SAMPLES = 1969
  SAMPLE_TYPE = UNSIGNED_INTEGER
  SAMPLE_BITS = 8
  BANDS = 1
  BAND_STORAGE_TYPE = BAND_SEQUENTIAL
  MAXIMUM = 255
  MEAN = 75.2444
  MINIMUM = 1
  STANDARD_DEVIATION = 18.7391
END_OBJECT = IMAGE
/* MAP OBJECT DEFINITIONS */
OBJECT = IMAGE_MAP_PROJECTION
  ^DATA_SET_MAP_PROJECTION_CATALOG= "DSMAP.CAT"
  A_AXIS_RADIUS = 3396.0
  B_AXIS_RADIUS = 3396.0
  C_AXIS_RADIUS = 3396.0
  CENTER_LATITUDE = 0.0
  CENTER_LONGITUDE = 110.0
  COORDINATE_SYSTEM_NAME = PLANETOGRAPHIC
  COORDINATE_SYSTEM_TYPE = "BODY-FIXED ROTATING"
  EASTERNMOST_LONGITUDE = 110.636
  FIRST_STANDARD_PARALLEL = "N/A"
  LINE_FIRST_PIXEL = 1
  LINE_LAST_PIXEL = 17360
  LINE_PROJECTION_OFFSET = -34892.875
  MAP_PROJECTION_ROTATION = 0.0
  MAP_PROJECTION_TYPE = SINUSOIDAL
  MAP_RESOLUTION = 1185.42760773333
  MAP_SCALE = 0.05
  MAXIMUM_LATITUDE = -29.4403
  MINIMUM_LATITUDE = -44.0855
  POSITIVE_LONGITUDE_DIRECTION = EAST
  REFERENCE_LATITUDE = "N/A"
  REFERENCE_LONGITUDE = "N/A"
  SAMPLE_FIRST_PIXEL = 1
  SAMPLE_LAST_PIXEL = 1969
  SAMPLE_PROJECTION_OFFSET = 1261.375
  SECOND_STANDARD_PARALLEL = "N/A"
  WESTERNMOST_LONGITUDE = 108.58
END_OBJECT = IMAGE_MAP_PROJECTION
/* The JPEG2000 image data file associated with this label. */
OBJECT = COMPRESSED_FILE
  FILE_NAME = "H8531_0000_BL3.JP2"
  RECORD_TYPE = UNDEFINED
  FILE_RECORDS = UNK
  ENCODING_TYPE = "JP2"
  INTERCHANGE_FORMAT = BINARY
  UNCOMPRESSED_FILE_NAME = "H8531_0000_BL3.IMG"
  REQUIRED_STORAGE_BYTES = "34201530"
  ^DESCRIPTION = "JP2INFO.TXT"
END_OBJECT = COMPRESSED_FILE
END
