PDS_VERSION_ID = PDS3
/* FILE DATA ELEMENTS */
RECORD_TYPE = STREAM
/* POINTERS TO DATA OBJECTS */
^COMPRESSED_FILE = "H8515_0000_S23.JP2"
/* IDENTIFICATION DATA ELEMENTS */
DATA_SET_ID = "MEX-M-HRSC-5-REFDR-MAPPROJECTED-V3.0"
DATA_SET_NAME = "MARS EXPRESS HRSC MAP PROJECTED REFDR V3.0"
DETECTOR_ID = MEX_HRSC_S2
EVENT_TYPE = "MARS-REGIONAL-MAPPING-Te-Im"
INSTRUMENT_HOST_ID = MEX
INSTRUMENT_HOST_NAME = "MARS EXPRESS"
INSTRUMENT_ID = HRSC
INSTRUMENT_NAME = "HIGH RESOLUTION STEREO CAMERA"
MISSION_NAME = "MARS EXPRESS"
MISSION_PHASE_NAME = ME_Phase_21
PROCESSING_LEVEL_ID = 3
PRODUCT_CREATION_TIME = 2016-07-14T08:00:08.000Z
PRODUCT_ID = "H8515_0000_S23.JP2"
RELEASE_ID = 0092
REVISION_ID = 0000
/* QUALITY DATA ELEMENTS */
DATA_QUALITY_ID = 1
DATA_QUALITY_DESC = "Data calculated based on original SPICE kernels"
/* TIME DATA ELEMENTS */
SPACECRAFT_CLOCK_START_COUNT = "1/0231100748.08248"
SPACECRAFT_CLOCK_STOP_COUNT = "1/0231101001.41910"
START_TIME = 2010-08-28T18:39:10.711Z
STOP_TIME = 2010-08-28T18:41:57.717Z
/* ORBITAL DATA ELEMENTS */
ASCENDING_NODE_LONGITUDE = 54.66
MAXIMUM_RESOLUTION = 29.2
FOOTPRINT_POINT_LATITUDE = (-39.627,-39.5935,-39.5561,-39.5359, -39.4792,-39.2802,-38.9817,-38.7827, -38.584,-38.385,-38.1853,-37.9837, -37.7845,-37.5858,-37.3876,-37.1896, -36.8933,-36.697,-36.3029,-36.0043, -35.8053,-35.6078,-35.4084,-35.2088, -34.8542,-34.4991,-34.2624,-34.0249, -33.7879,-33.5501,-33.1936,-32.9572, -32.7204,-32.3661,-32.1301,-31.8936, -31.5395,-31.3033,-31.0669,-30.8315, -30.5957,-30.3599,-30.1243,-29.8888, -29.6533,-29.4182,-29.1766,-28.9352, -28.6943,-28.4534,-28.4286,-28.4538, -28.4797,-28.4957,-28.5074,-28.749, -29.1113,-29.474,-29.7108,-29.9467, -30.3003,-30.5367,-30.8913,-31.1288, -31.3675,-31.7246,-32.0817,-32.3181, -32.5522,-32.7827,-33.0181,-33.2591, -33.4947,-33.7316,-33.9693,-34.207, -34.4453,-34.6834,-34.9203,-35.1578, -35.3797,-35.578,-35.7769,-36.076, -36.2758,-36.4738,-36.6722,-36.869, -37.068,-37.3669,-37.6676,-38.0637, -38.2666,-38.4655,-38.665,-38.8657, -39.0645,-39.2631,-39.4583,-39.627)
FOOTPRINT_POINT_LONGITUDE = (305.691,305.213,304.724,304.476, 304.206,304.215,304.229,304.238,304.247 ,304.256,304.264,304.27,304.278,304.286 ,304.295,304.303,304.316,304.325, 304.342,304.352,304.358,304.365,304.371 ,304.376,304.385,304.395,304.401, 304.407,304.413,304.417,304.424,304.43, 304.434,304.442,304.446,304.45,304.456, 304.46,304.463,304.467,304.47,304.473, 304.476,304.478,304.481,304.483,304.485 ,304.487,304.489,304.491,304.859, 305.193,305.651,305.959,306.188,306.182 ,306.173,306.163,306.157,306.151, 306.141,306.134,306.124,306.117,306.111 ,306.1,306.09,306.082,306.075,306.067, 306.059,306.052,306.044,306.036,306.028 ,306.02,306.012,306.003,305.995,305.986 ,305.978,305.971,305.963,305.952, 305.945,305.937,305.929,305.921,305.913 ,305.901,305.889,305.872,305.863, 305.855,305.846,305.838,305.829,305.819 ,305.81,305.691)
ORBIT_NUMBER = 8515
ORBITAL_ECCENTRICITY = 0.579
ORBITAL_INCLINATION = 86.83
ORBITAL_SEMIMAJOR_AXIS = 8793.8
PERIAPSIS_ALTITUDE = 321.8
PERIAPSIS_ARGUMENT_ANGLE = 306.93
PERIAPSIS_TIME = 2010-08-28T18:36:18.000Z
SPACECRAFT_ORIENTATION = (0.0,1.0,0.0)
^MEX_ORIENTATION_DESC = "MEX_ORIENTATION_DESC.TXT"
SPACECRAFT_POINTING_MODE = ACROSSTRACK
^MEX_POINTING_DESC = "MEX_POINTING_DESC.TXT"
RIGHT_ASCENSION = -1e+32
DECLINATION = -1e+32
OFFSET_ANGLE = 0.85
SPACECRAFT_SOLAR_DISTANCE = 2.33857e+08
TARGET_NAME = MARS
/* CAMERA DATA ELEMENTS */
DETECTOR_TEMPERATURE = 18.3705
FOCAL_PLANE_TEMPERATURE = 7.9716
INST_CMPRS_NAME = "DISCRETE COSINE TRANSFORMATION (DCT)"
INST_CMPRS_RATIO = 12.9657
INST_CMPRS_QUALITY = 0
INST_CMPRS_QUANTZ_TBL_ID = 0
INSTRUMENT_TEMPERATURE = 10.8262
LENS_TEMPERATURE = 6.7482
MACROPIXEL_SIZE = 2
MISSING_FRAMES = 0
PIXEL_SUBSAMPLING_FLAG = N
SIGNAL_CHAIN_ID = 1
/* RADIOMETRIC DATA ELEMENTS */
BANDWIDTH = 178.0
CENTER_FILTER_WAVELENGTH = 679.0
RADIANCE_OFFSET = 0.447497
RADIANCE_SCALING_FACTOR = 0.0173893
REFLECTANCE_SCALING_FACTOR = 0.000503631
MEX:REFLECTANCE_OFFSET = 0.0129604
/* IMAGE OBJECT DEFINITIONS */
OBJECT = IMAGE
  INTERCHANGE_FORMAT = BINARY
  LINES = 26316
  LINE_SAMPLES = 4202
  SAMPLE_TYPE = UNSIGNED_INTEGER
  SAMPLE_BITS = 8
  BANDS = 1
  BAND_STORAGE_TYPE = BAND_SEQUENTIAL
  MAXIMUM = 255
  MEAN = 109.321
  MINIMUM = 1
  STANDARD_DEVIATION = 29.0518
END_OBJECT = IMAGE
/* MAP OBJECT DEFINITIONS */
OBJECT = IMAGE_MAP_PROJECTION
  ^DATA_SET_MAP_PROJECTION_CATALOG= "DSMAP.CAT"
  A_AXIS_RADIUS = 3396.0
  B_AXIS_RADIUS = 3396.0
  C_AXIS_RADIUS = 3396.0
  CENTER_LATITUDE = 0.0
  CENTER_LONGITUDE = 305.0
  COORDINATE_SYSTEM_NAME = PLANETOGRAPHIC
  COORDINATE_SYSTEM_TYPE = "BODY-FIXED ROTATING"
  EASTERNMOST_LONGITUDE = 306.188
  FIRST_STANDARD_PARALLEL = "N/A"
  LINE_FIRST_PIXEL = 1
  LINE_LAST_PIXEL = 26316
  LINE_PROJECTION_OFFSET = -67453.25
  MAP_PROJECTION_ROTATION = 0.0
  MAP_PROJECTION_TYPE = SINUSOIDAL
  MAP_RESOLUTION = 2370.85521546667
  MAP_SCALE = 0.025
  MAXIMUM_LATITUDE = -28.4286
  MINIMUM_LATITUDE = -39.627
  POSITIVE_LONGITUDE_DIRECTION = EAST
  REFERENCE_LATITUDE = "N/A"
  REFERENCE_LONGITUDE = "N/A"
  SAMPLE_FIRST_PIXEL = 1
  SAMPLE_LAST_PIXEL = 4202
  SAMPLE_PROJECTION_OFFSET = 1632.75
  SECOND_STANDARD_PARALLEL = "N/A"
  WESTERNMOST_LONGITUDE = 304.206
END_OBJECT = IMAGE_MAP_PROJECTION
/* The JPEG2000 image data file associated with this label. */
OBJECT = COMPRESSED_FILE
  FILE_NAME = "H8515_0000_S23.JP2"
  RECORD_TYPE = UNDEFINED
  FILE_RECORDS = UNK
  ENCODING_TYPE = "JP2"
  INTERCHANGE_FORMAT = BINARY
  UNCOMPRESSED_FILE_NAME = "H8515_0000_S23.IMG"
  REQUIRED_STORAGE_BYTES = "110605044"
  ^DESCRIPTION = "JP2INFO.TXT"
END_OBJECT = COMPRESSED_FILE
END
