PDS_VERSION_ID = PDS3
/* FILE DATA ELEMENTS */
RECORD_TYPE = STREAM
/* POINTERS TO DATA OBJECTS */
^COMPRESSED_FILE = "H8507_0000_S23.JP2"
/* IDENTIFICATION DATA ELEMENTS */
DATA_SET_ID = "MEX-M-HRSC-5-REFDR-MAPPROJECTED-V3.0"
DATA_SET_NAME = "MARS EXPRESS HRSC MAP PROJECTED REFDR V3.0"
DETECTOR_ID = MEX_HRSC_S2
EVENT_TYPE = "MARS-REGIONAL-MAPPING-Im-Fl-Pf"
INSTRUMENT_HOST_ID = MEX
INSTRUMENT_HOST_NAME = "MARS EXPRESS"
INSTRUMENT_ID = HRSC
INSTRUMENT_NAME = "HIGH RESOLUTION STEREO CAMERA"
MISSION_NAME = "MARS EXPRESS"
MISSION_PHASE_NAME = ME_Phase_21
PROCESSING_LEVEL_ID = 3
PRODUCT_CREATION_TIME = 2016-07-14T08:00:08.000Z
PRODUCT_ID = "H8507_0000_S23.JP2"
RELEASE_ID = 0092
REVISION_ID = 0000
/* QUALITY DATA ELEMENTS */
DATA_QUALITY_ID = 1
DATA_QUALITY_DESC = "Data calculated based on original SPICE kernels"
/* TIME DATA ELEMENTS */
SPACECRAFT_CLOCK_START_COUNT = "1/0230899304.08246"
SPACECRAFT_CLOCK_STOP_COUNT = "1/0230899512.07306"
START_TIME = 2010-08-26T10:41:46.725Z
STOP_TIME = 2010-08-26T10:43:52.591Z
/* ORBITAL DATA ELEMENTS */
ASCENDING_NODE_LONGITUDE = 54.81
MAXIMUM_RESOLUTION = 29.2
FOOTPRINT_POINT_LATITUDE = (-38.5297,-38.5346,-38.5387,-38.542, -38.5445,-38.5464,-38.5476,-38.2654, -38.1475,-37.9719,-37.7964,-37.5623, -37.3871,-37.095,-36.9207,-36.7447, -36.6261,-36.5064,-36.2716,-36.0387, -35.7833,-35.6631,-35.4892,-35.2463, -34.9914,-34.8157,-34.5838,-34.4658, -34.2897,-34.0896,-33.9427,-33.7704, -33.6468,-33.4764,-33.3345,-33.1281, -32.9675,-32.8174,-32.6691,-32.454, -32.195,-31.9721,-31.5246,-31.342, -30.6399,-30.1285,-30.1263,-30.1306, -30.1251,-30.1201,-30.1167,-30.1106, -30.1056,-30.098,-30.6028,-31.3112, -31.4914,-31.9419,-32.1625,-32.4218, -32.6393,-32.7869,-32.931,-33.0956, -33.3057,-33.446,-33.6142,-33.739, -33.911,-34.0593,-34.18,-34.3189, -34.4366,-34.6646,-34.8964,-35.07, -35.2075,-35.3908,-35.5099,-35.6321, -35.7538,-35.9517,-36.0695,-36.2454, -36.3629,-36.4809,-36.5982,-36.8256, -36.9945,-37.2257,-37.343,-37.4607, -37.6367,-37.7545,-37.8724,-37.9903, -38.1076,-38.3396,-38.4574,-38.5297)
FOOTPRINT_POINT_LONGITUDE = (45.831,45.5913,45.3532,45.1166,44.8819 ,44.6485,44.4162,44.415,44.4171,44.4202 ,44.4232,44.427,44.4298,44.4342,44.4368 ,44.4392,44.4407,44.4421,44.445,44.4477 ,44.4505,44.4518,44.4536,44.4559, 44.4581,44.4595,44.4614,44.4621,44.4633 ,44.4645,44.4654,44.4663,44.4669, 44.4673,44.4677,44.4686,44.4693,44.4696 ,44.4699,44.4703,44.4705,44.4704, 44.4702,44.47,44.4683,44.4659,44.6341, 44.8029,45.0494,45.2509,45.3911,45.6568 ,45.8297,46.0729,46.0683,46.0579, 46.0578,46.0513,46.0492,46.0461,46.0423 ,46.041,46.0428,46.0413,46.0386,46.0367 ,46.033,46.0312,46.0301,46.0288,46.0274 ,46.0253,46.0236,46.0249,46.0238, 46.0232,46.022,46.0218,46.0191,46.0143, 46.0122,46.0091,46.0072,46.005,46.0033, 46.0012,45.9996,46.0014,46.0039,46.003, 46.0014,45.9995,45.997,45.995,45.993, 45.9909,45.9892,45.9876,45.9855,45.831)
ORBIT_NUMBER = 8507
ORBITAL_ECCENTRICITY = 0.579
ORBITAL_INCLINATION = 86.83
ORBITAL_SEMIMAJOR_AXIS = 8799.66
PERIAPSIS_ALTITUDE = 321.8
PERIAPSIS_ARGUMENT_ANGLE = 308.28
PERIAPSIS_TIME = 2010-08-26T10:38:58.000Z
SPACECRAFT_ORIENTATION = (0.0,1.0,0.0)
^MEX_ORIENTATION_DESC = "MEX_ORIENTATION_DESC.TXT"
SPACECRAFT_POINTING_MODE = ACROSSTRACK
^MEX_POINTING_DESC = "MEX_POINTING_DESC.TXT"
RIGHT_ASCENSION = -1e+32
DECLINATION = -1e+32
OFFSET_ANGLE = -0.5
SPACECRAFT_SOLAR_DISTANCE = 2.3428e+08
TARGET_NAME = MARS
/* CAMERA DATA ELEMENTS */
DETECTOR_TEMPERATURE = 18.3705
FOCAL_PLANE_TEMPERATURE = 8.1755
INST_CMPRS_NAME = "DISCRETE COSINE TRANSFORMATION (DCT)"
INST_CMPRS_RATIO = 14.195
INST_CMPRS_QUALITY = 0
INST_CMPRS_QUANTZ_TBL_ID = 0
INSTRUMENT_TEMPERATURE = 11.234
LENS_TEMPERATURE = 8.5833
MACROPIXEL_SIZE = 2
MISSING_FRAMES = 556
PIXEL_SUBSAMPLING_FLAG = N
SIGNAL_CHAIN_ID = 1
/* RADIOMETRIC DATA ELEMENTS */
BANDWIDTH = 178.0
CENTER_FILTER_WAVELENGTH = 679.0
RADIANCE_OFFSET = 1.13908
RADIANCE_SCALING_FACTOR = 0.0149963
REFLECTANCE_SCALING_FACTOR = 0.000435895
MEX:REFLECTANCE_OFFSET = 0.0331094
/* IMAGE OBJECT DEFINITIONS */
OBJECT = IMAGE
  INTERCHANGE_FORMAT = BINARY
  LINES = 15997
  LINE_SAMPLES = 3447
  SAMPLE_TYPE = UNSIGNED_INTEGER
  SAMPLE_BITS = 8
  BANDS = 1
  BAND_STORAGE_TYPE = BAND_SEQUENTIAL
  MAXIMUM = 255
  MEAN = 101.603
  MINIMUM = 1
  STANDARD_DEVIATION = 25.9478
END_OBJECT = IMAGE
/* MAP OBJECT DEFINITIONS */
OBJECT = IMAGE_MAP_PROJECTION
  ^DATA_SET_MAP_PROJECTION_CATALOG= "DSMAP.CAT"
  A_AXIS_RADIUS = 3396.0
  B_AXIS_RADIUS = 3396.0
  C_AXIS_RADIUS = 3396.0
  CENTER_LATITUDE = 0.0
  CENTER_LONGITUDE = 45.0
  COORDINATE_SYSTEM_NAME = PLANETOGRAPHIC
  COORDINATE_SYSTEM_TYPE = "BODY-FIXED ROTATING"
  EASTERNMOST_LONGITUDE = 46.0729
  FIRST_STANDARD_PARALLEL = "N/A"
  LINE_FIRST_PIXEL = 1
  LINE_LAST_PIXEL = 15997
  LINE_PROJECTION_OFFSET = -75265.25
  MAP_PROJECTION_ROTATION = 0.0
  MAP_PROJECTION_TYPE = SINUSOIDAL
  MAP_RESOLUTION = 2370.85521546667
  MAP_SCALE = 0.025
  MAXIMUM_LATITUDE = -30.098
  MINIMUM_LATITUDE = -38.5476
  POSITIVE_LONGITUDE_DIRECTION = EAST
  REFERENCE_LATITUDE = "N/A"
  REFERENCE_LONGITUDE = "N/A"
  SAMPLE_FIRST_PIXEL = 1
  SAMPLE_LAST_PIXEL = 3447
  SAMPLE_PROJECTION_OFFSET = 1158.25
  SECOND_STANDARD_PARALLEL = "N/A"
  WESTERNMOST_LONGITUDE = 44.415
END_OBJECT = IMAGE_MAP_PROJECTION
/* The JPEG2000 image data file associated with this label. */
OBJECT = COMPRESSED_FILE
  FILE_NAME = "H8507_0000_S23.JP2"
  RECORD_TYPE = UNDEFINED
  FILE_RECORDS = UNK
  ENCODING_TYPE = "JP2"
  INTERCHANGE_FORMAT = BINARY
  UNCOMPRESSED_FILE_NAME = "H8507_0000_S23.IMG"
  REQUIRED_STORAGE_BYTES = "55165788"
  ^DESCRIPTION = "JP2INFO.TXT"
END_OBJECT = COMPRESSED_FILE
END
