PDS_VERSION_ID = PDS3
/* FILE DATA ELEMENTS */
RECORD_TYPE = STREAM
/* POINTERS TO DATA OBJECTS */
^COMPRESSED_FILE = "H8505_0000_P23.JP2"
/* IDENTIFICATION DATA ELEMENTS */
DATA_SET_ID = "MEX-M-HRSC-5-REFDR-MAPPROJECTED-V3.0"
DATA_SET_NAME = "MARS EXPRESS HRSC MAP PROJECTED REFDR V3.0"
DETECTOR_ID = MEX_HRSC_P2
EVENT_TYPE = "MARS-REGIONAL-MAPPING-Vo-Te"
INSTRUMENT_HOST_ID = MEX
INSTRUMENT_HOST_NAME = "MARS EXPRESS"
INSTRUMENT_ID = HRSC
INSTRUMENT_NAME = "HIGH RESOLUTION STEREO CAMERA"
MISSION_NAME = "MARS EXPRESS"
MISSION_PHASE_NAME = ME_Phase_21
PROCESSING_LEVEL_ID = 3
PRODUCT_CREATION_TIME = 2016-07-14T08:00:08.000Z
PRODUCT_ID = "H8505_0000_P23.JP2"
RELEASE_ID = 0092
REVISION_ID = 0000
/* QUALITY DATA ELEMENTS */
DATA_QUALITY_ID = 1
DATA_QUALITY_DESC = "Data calculated based on original SPICE kernels"
/* TIME DATA ELEMENTS */
SPACECRAFT_CLOCK_START_COUNT = "1/0230849209.07303"
SPACECRAFT_CLOCK_STOP_COUNT = "1/0230849577.24308"
START_TIME = 2010-08-25T20:47:07.060Z
STOP_TIME = 2010-08-25T20:50:17.991Z
/* ORBITAL DATA ELEMENTS */
ASCENDING_NODE_LONGITUDE = 54.85
MAXIMUM_RESOLUTION = 39.9
FOOTPRINT_POINT_LATITUDE = (-20.5428,-20.5465,-20.5506,-20.5523, -20.5533,-20.57,-20.2621,-19.9535, -19.7478,-19.4337,-19.224,-19.0146, -18.696,-18.483,-18.2698,-18.0546, -17.8374,-17.6207,-17.4033,-17.1829, -16.9624,-16.7419,-16.5177,-16.2936, -16.0696,-15.8422,-15.6145,-15.3869, -15.1559,-14.9246,-14.6938,-14.4587, -14.224,-13.8695,-13.6324,-13.273, -13.0303,-12.7899,-12.5443,-12.1758, -11.9269,-11.6784,-11.3009,-11.049, -10.7935,-10.5381,-10.28,-10.0213, -9.62956,-9.23492,-8.909,-8.90492, -8.89908,-8.89034,-8.88473,-8.88015, -8.87259,-9.13752,-9.40288,-9.6655, -10.056,-10.3123,-10.5727,-10.8282, -11.0829,-11.335,-11.5878,-11.8366, -12.2095,-12.4548,-12.8229,-13.1864, -13.4286,-13.6677,-13.9073,-14.1448, -14.38,-14.6162,-14.8513,-15.2027, -15.5481,-15.8895,-16.1169,-16.3423, -16.567,-16.901,-17.2328,-17.4538, -17.7801,-17.9977,-18.3209,-18.6403, -18.8531,-19.0638,-19.2727,-19.4823, -19.7957,-20.0007,-20.2069,-20.5428)
FOOTPRINT_POINT_LONGITUDE = (250.211,249.927,249.503,249.22,248.796 ,248.48,248.473,248.466,248.462,248.454 ,248.449,248.444,248.436,248.43,248.424 ,248.419,248.413,248.407,248.401, 248.394,248.388,248.381,248.375,248.368 ,248.361,248.354,248.346,248.339, 248.332,248.324,248.316,248.308,248.3, 248.288,248.28,248.267,248.257,248.249, 248.239,248.225,248.215,248.205,248.19, 248.179,248.169,248.158,248.147,248.136 ,248.119,248.101,248.264,248.576, 249.021,249.445,249.712,249.913,250.292 ,250.388,250.385,250.383,250.381,250.38 ,250.377,250.375,250.373,250.372,250.37 ,250.368,250.365,250.363,250.36,250.357 ,250.355,250.353,250.351,250.349, 250.347,250.345,250.341,250.337,250.333 ,250.331,250.329,250.326,250.324, 250.321,250.318,250.316,250.313,250.311 ,250.308,250.306,250.304,250.302, 250.301,250.299,250.296,250.295,250.293 ,250.211)
ORBIT_NUMBER = 8505
ORBITAL_ECCENTRICITY = 0.579
ORBITAL_INCLINATION = 86.82
ORBITAL_SEMIMAJOR_AXIS = 8799.3
PERIAPSIS_ALTITUDE = 321.14
PERIAPSIS_ARGUMENT_ANGLE = 308.59
PERIAPSIS_TIME = 2010-08-25T20:39:36.000Z
SPACECRAFT_ORIENTATION = (0.0,1.0,0.0)
^MEX_ORIENTATION_DESC = "MEX_ORIENTATION_DESC.TXT"
SPACECRAFT_POINTING_MODE = ACROSSTRACK
^MEX_POINTING_DESC = "MEX_POINTING_DESC.TXT"
RIGHT_ASCENSION = -1e+32
DECLINATION = -1e+32
OFFSET_ANGLE = -0.1
SPACECRAFT_SOLAR_DISTANCE = 2.34385e+08
TARGET_NAME = MARS
/* CAMERA DATA ELEMENTS */
DETECTOR_TEMPERATURE = 18.3705
FOCAL_PLANE_TEMPERATURE = 7.7677
INST_CMPRS_NAME = "DISCRETE COSINE TRANSFORMATION (DCT)"
INST_CMPRS_RATIO = 5.64916
INST_CMPRS_QUALITY = 0
INST_CMPRS_QUANTZ_TBL_ID = 0
INSTRUMENT_TEMPERATURE = 11.0301
LENS_TEMPERATURE = 8.1755
MACROPIXEL_SIZE = 2
MISSING_FRAMES = 0
PIXEL_SUBSAMPLING_FLAG = N
SIGNAL_CHAIN_ID = 3
/* RADIOMETRIC DATA ELEMENTS */
BANDWIDTH = 177.0
CENTER_FILTER_WAVELENGTH = 676.5
RADIANCE_OFFSET = 1.37049
RADIANCE_SCALING_FACTOR = 0.0352121
REFLECTANCE_SCALING_FACTOR = 0.00102566
MEX:REFLECTANCE_OFFSET = 0.03992
/* IMAGE OBJECT DEFINITIONS */
OBJECT = IMAGE
  INTERCHANGE_FORMAT = BINARY
  LINES = 10927
  LINE_SAMPLES = 2815
  SAMPLE_TYPE = UNSIGNED_INTEGER
  SAMPLE_BITS = 8
  BANDS = 1
  BAND_STORAGE_TYPE = BAND_SEQUENTIAL
  MAXIMUM = 255
  MEAN = 112.09
  MINIMUM = 1
  STANDARD_DEVIATION = 21.0963
END_OBJECT = IMAGE
/* MAP OBJECT DEFINITIONS */
OBJECT = IMAGE_MAP_PROJECTION
  ^DATA_SET_MAP_PROJECTION_CATALOG= "DSMAP.CAT"
  A_AXIS_RADIUS = 3396.0
  B_AXIS_RADIUS = 3396.0
  C_AXIS_RADIUS = 3396.0
  CENTER_LATITUDE = 0.0
  CENTER_LONGITUDE = 249.0
  COORDINATE_SYSTEM_NAME = PLANETOGRAPHIC
  COORDINATE_SYSTEM_TYPE = "BODY-FIXED ROTATING"
  EASTERNMOST_LONGITUDE = 250.388
  FIRST_STANDARD_PARALLEL = "N/A"
  LINE_FIRST_PIXEL = 1
  LINE_LAST_PIXEL = 10927
  LINE_PROJECTION_OFFSET = -13445.75
  MAP_PROJECTION_ROTATION = 0.0
  MAP_PROJECTION_TYPE = SINUSOIDAL
  MAP_RESOLUTION = 1185.42760773333
  MAP_SCALE = 0.05
  MAXIMUM_LATITUDE = -8.872590000000001
  MINIMUM_LATITUDE = -20.57
  POSITIVE_LONGITUDE_DIRECTION = EAST
  REFERENCE_LATITUDE = "N/A"
  REFERENCE_LONGITUDE = "N/A"
  SAMPLE_FIRST_PIXEL = 1
  SAMPLE_LAST_PIXEL = 2815
  SAMPLE_PROJECTION_OFFSET = 1074.75
  SECOND_STANDARD_PARALLEL = "N/A"
  WESTERNMOST_LONGITUDE = 248.101
END_OBJECT = IMAGE_MAP_PROJECTION
/* The JPEG2000 image data file associated with this label. */
OBJECT = COMPRESSED_FILE
  FILE_NAME = "H8505_0000_P23.JP2"
  RECORD_TYPE = UNDEFINED
  FILE_RECORDS = UNK
  ENCODING_TYPE = "JP2"
  INTERCHANGE_FORMAT = BINARY
  UNCOMPRESSED_FILE_NAME = "H8505_0000_P23.IMG"
  REQUIRED_STORAGE_BYTES = "30782025"
  ^DESCRIPTION = "JP2INFO.TXT"
END_OBJECT = COMPRESSED_FILE
END
