PDS_VERSION_ID = PDS3
/* FILE DATA ELEMENTS */
RECORD_TYPE = STREAM
/* POINTERS TO DATA OBJECTS */
^COMPRESSED_FILE = "H8490_0000_P13.JP2"
/* IDENTIFICATION DATA ELEMENTS */
DATA_SET_ID = "MEX-M-HRSC-5-REFDR-MAPPROJECTED-V3.0"
DATA_SET_NAME = "MARS EXPRESS HRSC MAP PROJECTED REFDR V3.0"
DETECTOR_ID = MEX_HRSC_P1
EVENT_TYPE = "MARS-REGIONAL-MAPPING-Te-Fl-La"
INSTRUMENT_HOST_ID = MEX
INSTRUMENT_HOST_NAME = "MARS EXPRESS"
INSTRUMENT_ID = HRSC
INSTRUMENT_NAME = "HIGH RESOLUTION STEREO CAMERA"
MISSION_NAME = "MARS EXPRESS"
MISSION_PHASE_NAME = ME_Phase_21
PROCESSING_LEVEL_ID = 3
PRODUCT_CREATION_TIME = 2016-07-13T19:56:48.000Z
PRODUCT_ID = "H8490_0000_P13.JP2"
RELEASE_ID = 0091
REVISION_ID = 0000
/* QUALITY DATA ELEMENTS */
DATA_QUALITY_ID = 1
DATA_QUALITY_DESC = "Data calculated based on original SPICE kernels"
/* TIME DATA ELEMENTS */
SPACECRAFT_CLOCK_START_COUNT = "1/0230471402.09067"
SPACECRAFT_CLOCK_STOP_COUNT = "1/0230471719.38977"
START_TIME = 2010-08-21T11:51:12.796Z
STOP_TIME = 2010-08-21T11:54:53.931Z
/* ORBITAL DATA ELEMENTS */
ASCENDING_NODE_LONGITUDE = 55.14
MAXIMUM_RESOLUTION = 75.5
FOOTPRINT_POINT_LATITUDE = (-24.4603,-24.4614,-24.462,-24.4621, -24.4619,-24.1072,-23.8614,-23.6142, -23.3644,-23.1155,-22.8664,-22.6115, -22.3582,-21.978,-21.7256,-21.4739, -21.0972,-20.7265,-20.4763,-20.2214, -19.9734,-19.726,-19.4788,-19.2321, -18.9858,-18.7408,-18.3729,-18.1295, -17.8882,-17.6438,-17.4001,-17.1584, -16.9198,-16.6778,-16.4375,-16.198, -15.9597,-15.6031,-15.3655,-15.1289, -14.7759,-14.5403,-14.3056,-14.072, -13.6053,-13.1427,-12.7965,-12.3381, -12.2665,-12.2605,-12.2564,-12.2509, -12.2444,-12.2395,-12.6975,-13.0434, -13.5074,-13.7407,-13.9745,-14.209, -14.4442,-14.6799,-14.9162,-15.1535, -15.391,-15.6291,-15.8673,-16.107, -16.3471,-16.5876,-16.8281,-17.0699, -17.313,-17.5552,-17.7986,-18.0425, -18.2869,-18.5312,-18.7765,-19.1468, -19.3939,-19.6419,-19.8903,-20.1395, -20.389,-20.6404,-21.0148,-21.2669, -21.5194,-21.7722,-22.0254,-22.4063, -22.6606,-22.915,-23.1652,-23.4156, -23.6655,-23.9111,-24.1622,-24.4603)
FOOTPRINT_POINT_LONGITUDE = (344.428,344.054,343.615,343.355, 342.997,342.833,342.829,342.826,342.821 ,342.816,342.811,342.807,342.802, 342.794,342.789,342.784,342.775,342.764 ,342.759,342.755,342.749,342.742, 342.736,342.729,342.723,342.716,342.705 ,342.698,342.69,342.683,342.676,342.669 ,342.66,342.652,342.645,342.637,342.628 ,342.616,342.608,342.599,342.586, 342.577,342.568,342.559,342.541,342.522 ,342.508,342.488,342.893,343.215, 343.495,343.817,344.29,344.591,344.785, 344.779,344.771,344.767,344.764,344.76, 344.756,344.753,344.749,344.746,344.742 ,344.738,344.734,344.731,344.727, 344.724,344.72,344.716,344.713,344.709, 344.705,344.701,344.697,344.693,344.689 ,344.684,344.68,344.676,344.672,344.668 ,344.665,344.661,344.655,344.651, 344.647,344.643,344.639,344.633,344.629 ,344.625,344.621,344.617,344.613, 344.608,344.607,344.428)
ORBIT_NUMBER = 8490
ORBITAL_ECCENTRICITY = 0.579
ORBITAL_INCLINATION = 86.83
ORBITAL_SEMIMAJOR_AXIS = 8800.92
PERIAPSIS_ALTITUDE = 322.05
PERIAPSIS_ARGUMENT_ANGLE = 311.15
PERIAPSIS_TIME = 2010-08-21T11:44:28.000Z
SPACECRAFT_ORIENTATION = (0.0,1.0,0.0)
^MEX_ORIENTATION_DESC = "MEX_ORIENTATION_DESC.TXT"
SPACECRAFT_POINTING_MODE = NADIR
^MEX_POINTING_DESC = "MEX_POINTING_DESC.TXT"
RIGHT_ASCENSION = -1e+32
DECLINATION = -1e+32
OFFSET_ANGLE = -1e+32
SPACECRAFT_SOLAR_DISTANCE = 2.35167e+08
TARGET_NAME = MARS
/* CAMERA DATA ELEMENTS */
DETECTOR_TEMPERATURE = 17.5549
FOCAL_PLANE_TEMPERATURE = 8.3794
INST_CMPRS_NAME = "DISCRETE COSINE TRANSFORMATION (DCT)"
INST_CMPRS_RATIO = 13.1263
INST_CMPRS_QUALITY = 0
INST_CMPRS_QUANTZ_TBL_ID = 0
INSTRUMENT_TEMPERATURE = 11.234
LENS_TEMPERATURE = 8.9911
MACROPIXEL_SIZE = 4
MISSING_FRAMES = 0
PIXEL_SUBSAMPLING_FLAG = N
SIGNAL_CHAIN_ID = 3
/* RADIOMETRIC DATA ELEMENTS */
BANDWIDTH = 174.0
CENTER_FILTER_WAVELENGTH = 675.0
RADIANCE_OFFSET = 1.48743
RADIANCE_SCALING_FACTOR = 0.0127697
REFLECTANCE_SCALING_FACTOR = 0.000379855
MEX:REFLECTANCE_OFFSET = 0.0442461
/* IMAGE OBJECT DEFINITIONS */
OBJECT = IMAGE
  INTERCHANGE_FORMAT = BINARY
  LINES = 14523
  LINE_SAMPLES = 2573
  SAMPLE_TYPE = UNSIGNED_INTEGER
  SAMPLE_BITS = 8
  BANDS = 1
  BAND_STORAGE_TYPE = BAND_SEQUENTIAL
  MAXIMUM = 255
  MEAN = 114.055
  MINIMUM = 1
  STANDARD_DEVIATION = 18.2316
END_OBJECT = IMAGE
/* MAP OBJECT DEFINITIONS */
OBJECT = IMAGE_MAP_PROJECTION
  ^DATA_SET_MAP_PROJECTION_CATALOG= "DSMAP.CAT"
  A_AXIS_RADIUS = 3396.0
  B_AXIS_RADIUS = 3396.0
  C_AXIS_RADIUS = 3396.0
  CENTER_LATITUDE = 0.0
  CENTER_LONGITUDE = 344.0
  COORDINATE_SYSTEM_NAME = PLANETOGRAPHIC
  COORDINATE_SYSTEM_TYPE = "BODY-FIXED ROTATING"
  EASTERNMOST_LONGITUDE = 344.785
  FIRST_STANDARD_PARALLEL = "N/A"
  LINE_FIRST_PIXEL = 1
  LINE_LAST_PIXEL = 14523
  LINE_PROJECTION_OFFSET = -14510.625
  MAP_PROJECTION_ROTATION = 0.0
  MAP_PROJECTION_TYPE = SINUSOIDAL
  MAP_RESOLUTION = 1185.42760773333
  MAP_SCALE = 0.05
  MAXIMUM_LATITUDE = -12.2395
  MINIMUM_LATITUDE = -24.4621
  POSITIVE_LONGITUDE_DIRECTION = EAST
  REFERENCE_LATITUDE = "N/A"
  REFERENCE_LONGITUDE = "N/A"
  SAMPLE_FIRST_PIXEL = 1
  SAMPLE_LAST_PIXEL = 2573
  SAMPLE_PROJECTION_OFFSET = 1710.875
  SECOND_STANDARD_PARALLEL = "N/A"
  WESTERNMOST_LONGITUDE = 342.488
END_OBJECT = IMAGE_MAP_PROJECTION
/* The JPEG2000 image data file associated with this label. */
OBJECT = COMPRESSED_FILE
  FILE_NAME = "H8490_0000_P13.JP2"
  RECORD_TYPE = UNDEFINED
  FILE_RECORDS = UNK
  ENCODING_TYPE = "JP2"
  INTERCHANGE_FORMAT = BINARY
  UNCOMPRESSED_FILE_NAME = "H8490_0000_P13.IMG"
  REQUIRED_STORAGE_BYTES = "37388263"
  ^DESCRIPTION = "JP2INFO.TXT"
END_OBJECT = COMPRESSED_FILE
END
