PDS_VERSION_ID = PDS3
/* FILE DATA ELEMENTS */
RECORD_TYPE = STREAM
/* POINTERS TO DATA OBJECTS */
^COMPRESSED_FILE = "H8467_0000_RE3.JP2"
/* IDENTIFICATION DATA ELEMENTS */
DATA_SET_ID = "MEX-M-HRSC-5-REFDR-MAPPROJECTED-V3.0"
DATA_SET_NAME = "MARS EXPRESS HRSC MAP PROJECTED REFDR V3.0"
DETECTOR_ID = MEX_HRSC_RED
EVENT_TYPE = "MARS-LOCAL-COLOR-Eo-Ot-At"
INSTRUMENT_HOST_ID = MEX
INSTRUMENT_HOST_NAME = "MARS EXPRESS"
INSTRUMENT_ID = HRSC
INSTRUMENT_NAME = "HIGH RESOLUTION STEREO CAMERA"
MISSION_NAME = "MARS EXPRESS"
MISSION_PHASE_NAME = ME_Phase_21
PROCESSING_LEVEL_ID = 3
PRODUCT_CREATION_TIME = 2016-07-13T19:56:48.000Z
PRODUCT_ID = "H8467_0000_RE3.JP2"
RELEASE_ID = 0091
REVISION_ID = 0000
/* QUALITY DATA ELEMENTS */
DATA_QUALITY_ID = 1
DATA_QUALITY_DESC = "Data calculated based on original SPICE kernels"
/* TIME DATA ELEMENTS */
SPACECRAFT_CLOCK_START_COUNT = "1/0229892338.09041"
SPACECRAFT_CLOCK_STOP_COUNT = "1/0229892501.64415"
START_TIME = 2010-08-14T18:59:00.700Z
STOP_TIME = 2010-08-14T19:00:12.447Z
/* ORBITAL DATA ELEMENTS */
ASCENDING_NODE_LONGITUDE = 55.57
MAXIMUM_RESOLUTION = 18.8
FOOTPRINT_POINT_LATITUDE = (-17.3963,-17.3934,-17.3903,-17.387, -17.3836,-17.3799,-17.376,-17.372, -17.3677,-17.3633,-17.3586,-17.3538, -17.2499,-17.0746,-16.9016,-16.7231, -16.5015,-16.323,-16.1438,-15.9635, -15.8273,-15.736,-15.6449,-15.5512, -15.4588,-15.2764,-15.0949,-14.9567, -14.864,-14.7713,-14.6786,-14.5398, -14.4473,-14.3548,-14.2625,-14.1692, -14.0276,-13.9333,-13.839,-13.7445, -13.6048,-13.5104,-13.3689,-13.2728, -13.177,-13.0817,-12.9387,-12.8435, -12.744,-12.746,-12.7498,-12.7546, -12.7627,-12.7662,-12.7692,-12.7701, -12.7723,-12.7746,-12.7773,-12.7799, -12.7799,-12.8771,-12.9759,-13.1209, -13.2155,-13.3116,-13.4083,-13.5028, -13.5995,-13.7436,-13.8826,-13.9756, -14.0682,-14.1624,-14.2568,-14.3496, -14.4424,-14.5352,-14.6281,-14.7213, -14.8143,-14.9072,-14.9999,-15.1383, -15.2779,-15.3708,-15.4646,-15.606, -15.6972,-15.8329,-16.0138,-16.1919, -16.3688,-16.4981,-16.6745,-16.7662, -16.9472,-17.2108,-17.3866,-17.3963)
FOOTPRINT_POINT_LONGITUDE = (176.323,176.193,176.063,175.933, 175.802,175.671,175.539,175.407,175.274 ,175.141,175.007,174.873,174.754,174.75 ,174.748,174.744,174.741,174.737, 174.733,174.728,174.725,174.723,174.721 ,174.717,174.714,174.71,174.706,174.703 ,174.701,174.699,174.696,174.693, 174.691,174.689,174.687,174.685,174.682 ,174.679,174.677,174.675,174.672,174.67 ,174.666,174.664,174.662,174.66,174.657 ,174.655,174.65,174.78,174.964,175.129, 175.312,175.458,175.602,175.71,175.836, 175.998,176.141,176.354,176.488,176.487 ,176.486,176.484,176.483,176.482, 176.481,176.48,176.479,176.478,176.476, 176.475,176.474,176.473,176.472,176.471 ,176.47,176.469,176.468,176.467,176.466 ,176.465,176.464,176.463,176.461,176.46 ,176.459,176.457,176.456,176.455, 176.453,176.451,176.449,176.447,176.445 ,176.444,176.442,176.439,176.436, 176.323)
ORBIT_NUMBER = 8467
ORBITAL_ECCENTRICITY = 0.579
ORBITAL_INCLINATION = 86.84
ORBITAL_SEMIMAJOR_AXIS = 8807.08
PERIAPSIS_ALTITUDE = 323.03
PERIAPSIS_ARGUMENT_ANGLE = 315.1
PERIAPSIS_TIME = 2010-08-14T18:52:28.000Z
SPACECRAFT_ORIENTATION = (0.0,1.0,0.0)
^MEX_ORIENTATION_DESC = "MEX_ORIENTATION_DESC.TXT"
SPACECRAFT_POINTING_MODE = ACROSSTRACK
^MEX_POINTING_DESC = "MEX_POINTING_DESC.TXT"
RIGHT_ASCENSION = -1e+32
DECLINATION = -1e+32
OFFSET_ANGLE = 0.686
SPACECRAFT_SOLAR_DISTANCE = 2.36339e+08
TARGET_NAME = MARS
/* CAMERA DATA ELEMENTS */
DETECTOR_TEMPERATURE = 18.1666
FOCAL_PLANE_TEMPERATURE = 7.7677
INST_CMPRS_NAME = "DISCRETE COSINE TRANSFORMATION (DCT)"
INST_CMPRS_RATIO = 6.33751
INST_CMPRS_QUALITY = 0
INST_CMPRS_QUANTZ_TBL_ID = 0
INSTRUMENT_TEMPERATURE = 10.8262
LENS_TEMPERATURE = 8.1755
MACROPIXEL_SIZE = 1
MISSING_FRAMES = 0
PIXEL_SUBSAMPLING_FLAG = N
SIGNAL_CHAIN_ID = 0
/* RADIOMETRIC DATA ELEMENTS */
BANDWIDTH = 48.0
CENTER_FILTER_WAVELENGTH = 748.0
RADIANCE_OFFSET = 0.2697
RADIANCE_SCALING_FACTOR = 0.00665695
REFLECTANCE_SCALING_FACTOR = 0.000848539
MEX:REFLECTANCE_OFFSET = 0.0343777
/* IMAGE OBJECT DEFINITIONS */
OBJECT = IMAGE
  INTERCHANGE_FORMAT = BINARY
  LINES = 10889
  LINE_SAMPLES = 4564
  SAMPLE_TYPE = UNSIGNED_INTEGER
  SAMPLE_BITS = 8
  BANDS = 1
  BAND_STORAGE_TYPE = BAND_SEQUENTIAL
  MAXIMUM = 255
  MEAN = 127.874
  MINIMUM = 1
  STANDARD_DEVIATION = 21.6491
END_OBJECT = IMAGE
/* MAP OBJECT DEFINITIONS */
OBJECT = IMAGE_MAP_PROJECTION
  ^DATA_SET_MAP_PROJECTION_CATALOG= "DSMAP.CAT"
  A_AXIS_RADIUS = 3396.0
  B_AXIS_RADIUS = 3396.0
  C_AXIS_RADIUS = 3396.0
  CENTER_LATITUDE = 0.0
  CENTER_LONGITUDE = 176.0
  COORDINATE_SYSTEM_NAME = PLANETOGRAPHIC
  COORDINATE_SYSTEM_TYPE = "BODY-FIXED ROTATING"
  EASTERNMOST_LONGITUDE = 176.488
  FIRST_STANDARD_PARALLEL = "N/A"
  LINE_FIRST_PIXEL = 1
  LINE_LAST_PIXEL = 10889
  LINE_PROJECTION_OFFSET = -30241.0
  MAP_PROJECTION_ROTATION = 0.0
  MAP_PROJECTION_TYPE = SINUSOIDAL
  MAP_RESOLUTION = 2370.85521546667
  MAP_SCALE = 0.025
  MAXIMUM_LATITUDE = -12.744
  MINIMUM_LATITUDE = -17.3963
  POSITIVE_LONGITUDE_DIRECTION = EAST
  REFERENCE_LATITUDE = "N/A"
  REFERENCE_LONGITUDE = "N/A"
  SAMPLE_FIRST_PIXEL = 1
  SAMPLE_LAST_PIXEL = 4564
  SAMPLE_PROJECTION_OFFSET = 3317.0
  SECOND_STANDARD_PARALLEL = "N/A"
  WESTERNMOST_LONGITUDE = 174.65
END_OBJECT = IMAGE_MAP_PROJECTION
/* The JPEG2000 image data file associated with this label. */
OBJECT = COMPRESSED_FILE
  FILE_NAME = "H8467_0000_RE3.JP2"
  RECORD_TYPE = UNDEFINED
  FILE_RECORDS = UNK
  ENCODING_TYPE = "JP2"
  INTERCHANGE_FORMAT = BINARY
  UNCOMPRESSED_FILE_NAME = "H8467_0000_RE3.IMG"
  REQUIRED_STORAGE_BYTES = "49724780"
  ^DESCRIPTION = "JP2INFO.TXT"
END_OBJECT = COMPRESSED_FILE
END
