PDS_VERSION_ID = PDS3
/* FILE DATA ELEMENTS */
RECORD_TYPE = STREAM
/* POINTERS TO DATA OBJECTS */
^COMPRESSED_FILE = "H8441_0000_RE3.JP2"
/* IDENTIFICATION DATA ELEMENTS */
DATA_SET_ID = "MEX-M-HRSC-5-REFDR-MAPPROJECTED-V3.0"
DATA_SET_NAME = "MARS EXPRESS HRSC MAP PROJECTED REFDR V3.0"
DETECTOR_ID = MEX_HRSC_RED
EVENT_TYPE = "MARS-REGIONAL-MAPPING-Te-Fl"
INSTRUMENT_HOST_ID = MEX
INSTRUMENT_HOST_NAME = "MARS EXPRESS"
INSTRUMENT_ID = HRSC
INSTRUMENT_NAME = "HIGH RESOLUTION STEREO CAMERA"
MISSION_NAME = "MARS EXPRESS"
MISSION_PHASE_NAME = ME_Phase_21
PROCESSING_LEVEL_ID = 3
PRODUCT_CREATION_TIME = 2016-07-13T19:56:48.000Z
PRODUCT_ID = "H8441_0000_RE3.JP2"
RELEASE_ID = 0091
REVISION_ID = 0000
/* QUALITY DATA ELEMENTS */
DATA_QUALITY_ID = 1
DATA_QUALITY_DESC = "Data calculated based on original SPICE kernels"
/* TIME DATA ELEMENTS */
SPACECRAFT_CLOCK_START_COUNT = "1/0229237518.09077"
SPACECRAFT_CLOCK_STOP_COUNT = "1/0229237698.40778"
START_TIME = 2010-08-07T05:05:26.114Z
STOP_TIME = 2010-08-07T05:07:08.165Z
/* ORBITAL DATA ELEMENTS */
ASCENDING_NODE_LONGITUDE = 56.08
MAXIMUM_RESOLUTION = 117.7
FOOTPRINT_POINT_LATITUDE = (-26.0219,-26.0218,-26.0211,-26.0195, -26.0181,-26.0164,-25.9957,-25.7513, -25.5073,-25.3243,-25.08,-24.9576, -24.7742,-24.6521,-24.5299,-24.4045, -24.1608,-23.9809,-23.8572,-23.672, -23.4286,-23.3053,-23.1827,-22.9987, -22.7807,-22.5617,-22.4157,-22.2698, -22.124,-21.9781,-21.8322,-21.6867, -21.5411,-21.3955,-21.1773,-21.0318, -20.8137,-20.6685,-20.4497,-20.3044, -20.1605,-20.015,-19.8697,-19.6517, -19.4338,-19.2886,-19.2699,-19.2705, -19.2703,-19.2701,-19.2691,-19.2699, -19.4148,-19.5603,-19.7053,-19.8508, -19.9958,-20.1411,-20.2866,-20.4322, -20.5779,-20.7233,-20.869,-21.0146, -21.2329,-21.3787,-21.5972,-21.7431, -21.889,-22.035,-22.1808,-22.3268, -22.4729,-22.619,-22.7647,-22.9111, -23.047,-23.1695,-23.2921,-23.415, -23.5378,-23.6602,-23.7829,-23.9055, -24.028,-24.1507,-24.3349,-24.5186, -24.6412,-24.8248,-24.9473,-25.0698, -25.1922,-25.3149,-25.4375,-25.5603, -25.683,-25.8663,-25.989,-26.0219)
FOOTPRINT_POINT_LONGITUDE = (316.193,316.028,315.813,315.56,315.396 ,315.231,315.016,315.016,315.017, 315.017,315.017,315.017,315.017,315.017 ,315.017,315.016,315.015,315.016, 315.015,315.014,315.014,315.013,315.012 ,315.011,315.009,315.008,315.007, 315.006,315.005,315.004,315.003,315.002 ,315.0,314.999,314.997,314.996,314.994, 314.993,314.99,314.989,314.987,314.986, 314.984,314.981,314.979,314.977,315.261 ,315.452,315.67,315.929,316.215,316.429 ,316.428,316.427,316.426,316.425, 316.424,316.423,316.422,316.421,316.419 ,316.418,316.417,316.416,316.415, 316.414,316.412,316.411,316.41,316.409, 316.408,316.407,316.405,316.404,316.403 ,316.402,316.401,316.4,316.399,316.398, 316.397,316.396,316.395,316.393,316.392 ,316.391,316.39,316.388,316.387,316.386 ,316.385,316.384,316.383,316.382, 316.381,316.38,316.379,316.377,316.376, 316.193)
ORBIT_NUMBER = 8441
ORBITAL_ECCENTRICITY = 0.579
ORBITAL_INCLINATION = 86.84
ORBITAL_SEMIMAJOR_AXIS = 8814.19
PERIAPSIS_ALTITUDE = 323.46
PERIAPSIS_ARGUMENT_ANGLE = 319.58
PERIAPSIS_TIME = 2010-08-07T05:02:13.000Z
SPACECRAFT_ORIENTATION = (0.0,1.0,0.0)
^MEX_ORIENTATION_DESC = "MEX_ORIENTATION_DESC.TXT"
SPACECRAFT_POINTING_MODE = NADIR
^MEX_POINTING_DESC = "MEX_POINTING_DESC.TXT"
RIGHT_ASCENSION = -1e+32
DECLINATION = -1e+32
OFFSET_ANGLE = -1e+32
SPACECRAFT_SOLAR_DISTANCE = 2.37623e+08
TARGET_NAME = MARS
/* CAMERA DATA ELEMENTS */
DETECTOR_TEMPERATURE = 18.3705
FOCAL_PLANE_TEMPERATURE = 7.7677
INST_CMPRS_NAME = "DISCRETE COSINE TRANSFORMATION (DCT)"
INST_CMPRS_RATIO = 14.7942
INST_CMPRS_QUALITY = 0
INST_CMPRS_QUANTZ_TBL_ID = 0
INSTRUMENT_TEMPERATURE = 11.0301
LENS_TEMPERATURE = 8.3794
MACROPIXEL_SIZE = 8
MISSING_FRAMES = 0
PIXEL_SUBSAMPLING_FLAG = N
SIGNAL_CHAIN_ID = 2
/* RADIOMETRIC DATA ELEMENTS */
BANDWIDTH = 48.0
CENTER_FILTER_WAVELENGTH = 748.0
RADIANCE_OFFSET = 0.12679
RADIANCE_SCALING_FACTOR = 0.0028477
REFLECTANCE_SCALING_FACTOR = 0.000366939
MEX:REFLECTANCE_OFFSET = 0.0163375
/* IMAGE OBJECT DEFINITIONS */
OBJECT = IMAGE
  INTERCHANGE_FORMAT = BINARY
  LINES = 3994
  LINE_SAMPLES = 892
  SAMPLE_TYPE = UNSIGNED_INTEGER
  SAMPLE_BITS = 8
  BANDS = 1
  BAND_STORAGE_TYPE = BAND_SEQUENTIAL
  MAXIMUM = 255
  MEAN = 101.064
  MINIMUM = 1
  STANDARD_DEVIATION = 19.1762
END_OBJECT = IMAGE
/* MAP OBJECT DEFINITIONS */
OBJECT = IMAGE_MAP_PROJECTION
  ^DATA_SET_MAP_PROJECTION_CATALOG= "DSMAP.CAT"
  A_AXIS_RADIUS = 3396.0
  B_AXIS_RADIUS = 3396.0
  C_AXIS_RADIUS = 3396.0
  CENTER_LATITUDE = 0.0
  CENTER_LONGITUDE = 316.0
  COORDINATE_SYSTEM_NAME = PLANETOGRAPHIC
  COORDINATE_SYSTEM_TYPE = "BODY-FIXED ROTATING"
  EASTERNMOST_LONGITUDE = 316.429
  FIRST_STANDARD_PARALLEL = "N/A"
  LINE_FIRST_PIXEL = 1
  LINE_LAST_PIXEL = 3994
  LINE_PROJECTION_OFFSET = -11420.3125
  MAP_PROJECTION_ROTATION = 0.0
  MAP_PROJECTION_TYPE = SINUSOIDAL
  MAP_RESOLUTION = 592.713803866667
  MAP_SCALE = 0.1
  MAXIMUM_LATITUDE = -19.2691
  MINIMUM_LATITUDE = -26.0219
  POSITIVE_LONGITUDE_DIRECTION = EAST
  REFERENCE_LATITUDE = "N/A"
  REFERENCE_LONGITUDE = "N/A"
  SAMPLE_FIRST_PIXEL = 1
  SAMPLE_LAST_PIXEL = 892
  SAMPLE_PROJECTION_OFFSET = 615.3125
  SECOND_STANDARD_PARALLEL = "N/A"
  WESTERNMOST_LONGITUDE = 314.977
END_OBJECT = IMAGE_MAP_PROJECTION
/* The JPEG2000 image data file associated with this label. */
OBJECT = COMPRESSED_FILE
  FILE_NAME = "H8441_0000_RE3.JP2"
  RECORD_TYPE = UNDEFINED
  FILE_RECORDS = UNK
  ENCODING_TYPE = "JP2"
  INTERCHANGE_FORMAT = BINARY
  UNCOMPRESSED_FILE_NAME = "H8441_0000_RE3.IMG"
  REQUIRED_STORAGE_BYTES = "3580488"
  ^DESCRIPTION = "JP2INFO.TXT"
END_OBJECT = COMPRESSED_FILE
END
