PDS_VERSION_ID = PDS3
/* FILE DATA ELEMENTS */
RECORD_TYPE = STREAM
/* POINTERS TO DATA OBJECTS */
^COMPRESSED_FILE = "H8430_0000_S23.JP2"
/* IDENTIFICATION DATA ELEMENTS */
DATA_SET_ID = "MEX-M-HRSC-5-REFDR-MAPPROJECTED-V3.0"
DATA_SET_NAME = "MARS EXPRESS HRSC MAP PROJECTED REFDR V3.0"
DETECTOR_ID = MEX_HRSC_S2
EVENT_TYPE = "MARS-REGIONAL-MAPPING-Im-Fl-La"
INSTRUMENT_HOST_ID = MEX
INSTRUMENT_HOST_NAME = "MARS EXPRESS"
INSTRUMENT_ID = HRSC
INSTRUMENT_NAME = "HIGH RESOLUTION STEREO CAMERA"
MISSION_NAME = "MARS EXPRESS"
MISSION_PHASE_NAME = ME_Phase_21
PROCESSING_LEVEL_ID = 3
PRODUCT_CREATION_TIME = 2016-07-13T19:56:48.000Z
PRODUCT_ID = "H8430_0000_S23.JP2"
RELEASE_ID = 0091
REVISION_ID = 0000
/* QUALITY DATA ELEMENTS */
DATA_QUALITY_ID = 1
DATA_QUALITY_DESC = "Data calculated based on original SPICE kernels"
/* TIME DATA ELEMENTS */
SPACECRAFT_CLOCK_START_COUNT = "1/0228960625.07300"
SPACECRAFT_CLOCK_STOP_COUNT = "1/0228960937.18462"
START_TIME = 2010-08-04T00:10:27.685Z
STOP_TIME = 2010-08-04T00:13:49.055Z
/* ORBITAL DATA ELEMENTS */
ASCENDING_NODE_LONGITUDE = 56.29
MAXIMUM_RESOLUTION = 32.1
FOOTPRINT_POINT_LATITUDE = (-19.6474,-19.6349,-19.62,-19.4637, -19.2179,-18.9715,-18.726,-18.3578, -18.113,-17.8656,-17.499,-17.254, -17.0086,-16.6409,-16.2726,-15.9057, -15.6609,-15.4166,-15.0424,-14.791, -14.5406,-14.291,-13.9093,-13.6536, -13.3952,-13.1386,-12.7449,-12.4818, -12.2202,-11.8231,-11.5538,-11.2845, -11.0167,-10.7445,-10.4698,-10.0581, -9.77881,-9.49945,-9.07385,-8.78092, -8.49742,-8.22411,-7.93316,-7.64139, -7.35041,-7.05311,-6.75543,-6.45836, -6.41058,-6.40966,-6.41808,-6.42533, -6.42855,-6.72821,-7.02555,-7.32204, -7.60957,-7.90763,-8.1995,-8.48627, -8.77215,-9.19092,-9.47042,-9.89479, -10.1799,-10.4539,-10.7278,-11.0013, -11.27,-11.5397,-11.8086,-12.2086, -12.4704,-12.7334,-12.9965,-13.2551, -13.5125,-13.7715,-14.0284,-14.283, -14.5339,-14.7854,-15.0368,-15.2895, -15.5375,-15.781,-16.0256,-16.3943, -16.6405,-17.0103,-17.2551,-17.5004, -17.8687,-18.1145,-18.3602,-18.6002, -18.8469,-19.0976,-19.3436,-19.6474)
FOOTPRINT_POINT_LONGITUDE = (360.892,360.46,360.023,359.58,359.578, 359.576,359.574,359.571,359.57,359.566, 359.563,359.561,359.558,359.554,359.549 ,359.544,359.54,359.537,359.531,359.527 ,359.523,359.519,359.513,359.509, 359.503,359.498,359.49,359.484,359.479, 359.471,359.465,359.458,359.452,359.446 ,359.44,359.429,359.422,359.415,359.401 ,359.39,359.384,359.382,359.373,359.364 ,359.356,359.346,359.337,359.328,359.78 ,360.021,360.246,360.761,361.107, 361.105,361.103,361.101,361.099,361.097 ,361.094,361.092,361.09,361.088,361.086 ,361.083,361.08,361.078,361.076,361.074 ,361.072,361.07,361.068,361.064,361.062 ,361.06,361.058,361.056,361.054,361.052 ,361.05,361.048,361.046,361.044,361.042 ,361.039,361.037,361.035,361.033,361.03 ,361.028,361.024,361.022,361.02,361.017 ,361.014,361.012,361.01,361.008,361.005 ,361.003,360.892)
ORBIT_NUMBER = 8430
ORBITAL_ECCENTRICITY = 0.579
ORBITAL_INCLINATION = 86.83
ORBITAL_SEMIMAJOR_AXIS = 8819.9
PERIAPSIS_ALTITUDE = 323.79
PERIAPSIS_ARGUMENT_ANGLE = 321.44
PERIAPSIS_TIME = 2010-08-04T00:06:12.000Z
SPACECRAFT_ORIENTATION = (0.0,1.0,0.0)
^MEX_ORIENTATION_DESC = "MEX_ORIENTATION_DESC.TXT"
SPACECRAFT_POINTING_MODE = ACROSSTRACK
^MEX_POINTING_DESC = "MEX_POINTING_DESC.TXT"
RIGHT_ASCENSION = -1e+32
DECLINATION = -1e+32
OFFSET_ANGLE = 0.5
SPACECRAFT_SOLAR_DISTANCE = 2.38151e+08
TARGET_NAME = MARS
/* CAMERA DATA ELEMENTS */
DETECTOR_TEMPERATURE = 18.5744
FOCAL_PLANE_TEMPERATURE = 8.5833
INST_CMPRS_NAME = "DISCRETE COSINE TRANSFORMATION (DCT)"
INST_CMPRS_RATIO = 11.8698
INST_CMPRS_QUALITY = 0
INST_CMPRS_QUANTZ_TBL_ID = 0
INSTRUMENT_TEMPERATURE = 11.234
LENS_TEMPERATURE = 8.9911
MACROPIXEL_SIZE = 2
MISSING_FRAMES = 0
PIXEL_SUBSAMPLING_FLAG = N
SIGNAL_CHAIN_ID = 1
/* RADIOMETRIC DATA ELEMENTS */
BANDWIDTH = 178.0
CENTER_FILTER_WAVELENGTH = 679.0
RADIANCE_OFFSET = 1.25919
RADIANCE_SCALING_FACTOR = 0.0167132
REFLECTANCE_SCALING_FACTOR = 0.000501987
MEX:REFLECTANCE_OFFSET = 0.0378201
/* IMAGE OBJECT DEFINITIONS */
OBJECT = IMAGE
  INTERCHANGE_FORMAT = BINARY
  LINES = 31321
  LINE_SAMPLES = 4661
  SAMPLE_TYPE = UNSIGNED_INTEGER
  SAMPLE_BITS = 8
  BANDS = 1
  BAND_STORAGE_TYPE = BAND_SEQUENTIAL
  MAXIMUM = 255
  MEAN = 90.67
  MINIMUM = 1
  STANDARD_DEVIATION = 23.8917
END_OBJECT = IMAGE
/* MAP OBJECT DEFINITIONS */
OBJECT = IMAGE_MAP_PROJECTION
  ^DATA_SET_MAP_PROJECTION_CATALOG= "DSMAP.CAT"
  A_AXIS_RADIUS = 3396.0
  B_AXIS_RADIUS = 3396.0
  C_AXIS_RADIUS = 3396.0
  CENTER_LATITUDE = 0.0
  CENTER_LONGITUDE = 0.0
  COORDINATE_SYSTEM_NAME = PLANETOGRAPHIC
  COORDINATE_SYSTEM_TYPE = "BODY-FIXED ROTATING"
  EASTERNMOST_LONGITUDE = 1.107
  FIRST_STANDARD_PARALLEL = "N/A"
  LINE_FIRST_PIXEL = 1
  LINE_LAST_PIXEL = 31321
  LINE_PROJECTION_OFFSET = -15191.25
  MAP_PROJECTION_ROTATION = 0.0
  MAP_PROJECTION_TYPE = SINUSOIDAL
  MAP_RESOLUTION = 2370.85521546667
  MAP_SCALE = 0.025
  MAXIMUM_LATITUDE = -6.40966
  MINIMUM_LATITUDE = -19.6474
  POSITIVE_LONGITUDE_DIRECTION = EAST
  REFERENCE_LATITUDE = "N/A"
  REFERENCE_LONGITUDE = "N/A"
  SAMPLE_FIRST_PIXEL = 1
  SAMPLE_LAST_PIXEL = 4661
  SAMPLE_PROJECTION_OFFSET = 1860.25
  SECOND_STANDARD_PARALLEL = "N/A"
  WESTERNMOST_LONGITUDE = -0.672
END_OBJECT = IMAGE_MAP_PROJECTION
/* The JPEG2000 image data file associated with this label. */
OBJECT = COMPRESSED_FILE
  FILE_NAME = "H8430_0000_S23.JP2"
  RECORD_TYPE = UNDEFINED
  FILE_RECORDS = UNK
  ENCODING_TYPE = "JP2"
  INTERCHANGE_FORMAT = BINARY
  UNCOMPRESSED_FILE_NAME = "H8430_0000_S23.IMG"
  REQUIRED_STORAGE_BYTES = "146015147"
  ^DESCRIPTION = "JP2INFO.TXT"
END_OBJECT = COMPRESSED_FILE
END
