PDS_VERSION_ID = PDS3
/* FILE DATA ELEMENTS */
RECORD_TYPE = STREAM
/* POINTERS TO DATA OBJECTS */
^COMPRESSED_FILE = "H8429_0000_ND3.JP2"
/* IDENTIFICATION DATA ELEMENTS */
DATA_SET_ID = "MEX-M-HRSC-5-REFDR-MAPPROJECTED-V3.0"
DATA_SET_NAME = "MARS EXPRESS HRSC MAP PROJECTED REFDR V3.0"
DETECTOR_ID = MEX_HRSC_NADIR
EVENT_TYPE = "MARS-REGIONAL-MAPPING-Vo-Te"
INSTRUMENT_HOST_ID = MEX
INSTRUMENT_HOST_NAME = "MARS EXPRESS"
INSTRUMENT_ID = HRSC
INSTRUMENT_NAME = "HIGH RESOLUTION STEREO CAMERA"
MISSION_NAME = "MARS EXPRESS"
MISSION_PHASE_NAME = ME_Phase_21
PROCESSING_LEVEL_ID = 3
PRODUCT_CREATION_TIME = 2016-07-13T19:56:48.000Z
PRODUCT_ID = "H8429_0000_ND3.JP2"
RELEASE_ID = 0091
REVISION_ID = 0000
/* QUALITY DATA ELEMENTS */
DATA_QUALITY_ID = 1
DATA_QUALITY_DESC = "Data calculated based on original SPICE kernels"
/* TIME DATA ELEMENTS */
SPACECRAFT_CLOCK_START_COUNT = "1/0228935340.08232"
SPACECRAFT_CLOCK_STOP_COUNT = "1/0228935617.58327"
START_TIME = 2010-08-03T17:09:33.315Z
STOP_TIME = 2010-08-03T17:12:53.307Z
/* ORBITAL DATA ELEMENTS */
ASCENDING_NODE_LONGITUDE = 56.31
MAXIMUM_RESOLUTION = 13.8
FOOTPRINT_POINT_LATITUDE = (-26.6012,-26.6002,-26.5972,-26.3698, -26.1438,-25.9179,-25.6921,-25.4664, -25.2409,-25.0156,-24.7904,-24.5653, -24.3404,-24.1157,-23.6666,-23.2182, -22.7705,-22.5111,-22.2445,-21.9782, -21.712,-21.4462,-21.1806,-20.9152, -20.6502,-20.3854,-20.1209,-19.8567, -19.5927,-19.3291,-19.0657,-18.8026, -18.5399,-18.2774,-18.0152,-17.7534, -17.4918,-17.0929,-16.8251,-16.5577, -16.2906,-16.0179,-15.7445,-15.4715, -15.0591,-14.7801,-14.5014,-14.2232, -13.9236,-13.9219,-13.9186,-13.9161, -13.9121,-14.1972,-14.4758,-14.7548, -15.0342,-15.3111,-15.5843,-15.8579, -16.2682,-16.5356,-16.8034,-17.0716, -17.4714,-17.7333,-17.9955,-18.258, -18.5208,-18.7839,-19.0473,-19.3111, -19.5751,-19.8393,-20.1039,-20.3688, -20.6339,-20.8993,-21.165,-21.4309, -21.6971,-21.9636,-22.2303,-22.4972, -22.7591,-23.2074,-23.6563,-24.1059, -24.3309,-24.5561,-24.7814,-25.0069, -25.2325,-25.4583,-25.6842,-25.9103, -26.1365,-26.3628,-26.5893,-26.6012)
FOOTPRINT_POINT_LONGITUDE = (103.704,103.292,102.75,102.649,102.649 ,102.649,102.649,102.648,102.648, 102.648,102.648,102.647,102.646,102.646 ,102.643,102.641,102.638,102.636, 102.634,102.632,102.63,102.627,102.624, 102.621,102.619,102.616,102.612,102.609 ,102.605,102.602,102.598,102.595, 102.591,102.587,102.582,102.578,102.574 ,102.567,102.562,102.557,102.552, 102.546,102.541,102.535,102.527,102.521 ,102.515,102.508,102.641,102.938,103.39 ,103.672,104.089,104.087,104.085, 104.083,104.082,104.08,104.078,104.076, 104.074,104.072,104.07,104.068,104.066, 104.064,104.062,104.06,104.058,104.057, 104.055,104.053,104.051,104.049,104.047 ,104.045,104.043,104.042,104.04,104.038 ,104.036,104.034,104.032,104.03,104.029 ,104.026,104.022,104.019,104.018, 104.017,104.015,104.014,104.013,104.011 ,104.01,104.008,104.007,104.005,104.004 ,103.704)
ORBIT_NUMBER = 8429
ORBITAL_ECCENTRICITY = 0.579
ORBITAL_INCLINATION = 86.83
ORBITAL_SEMIMAJOR_AXIS = 8823.86
PERIAPSIS_ALTITUDE = 322.96
PERIAPSIS_ARGUMENT_ANGLE = 321.6
PERIAPSIS_TIME = 2010-08-03T17:06:34.000Z
SPACECRAFT_ORIENTATION = (0.0,1.0,0.0)
^MEX_ORIENTATION_DESC = "MEX_ORIENTATION_DESC.TXT"
SPACECRAFT_POINTING_MODE = ACROSSTRACK
^MEX_POINTING_DESC = "MEX_POINTING_DESC.TXT"
RIGHT_ASCENSION = -1e+32
DECLINATION = -1e+32
OFFSET_ANGLE = -0.2
SPACECRAFT_SOLAR_DISTANCE = 2.38198e+08
TARGET_NAME = MARS
/* CAMERA DATA ELEMENTS */
DETECTOR_TEMPERATURE = 18.3705
FOCAL_PLANE_TEMPERATURE = 8.5833
INST_CMPRS_NAME = "DISCRETE COSINE TRANSFORMATION (DCT)"
INST_CMPRS_RATIO = 6.42621
INST_CMPRS_QUALITY = 0
INST_CMPRS_QUANTZ_TBL_ID = 0
INSTRUMENT_TEMPERATURE = 11.234
LENS_TEMPERATURE = 8.7872
MACROPIXEL_SIZE = 1
MISSING_FRAMES = 0
PIXEL_SUBSAMPLING_FLAG = N
SIGNAL_CHAIN_ID = 0
/* RADIOMETRIC DATA ELEMENTS */
BANDWIDTH = 177.0
CENTER_FILTER_WAVELENGTH = 677.5
RADIANCE_OFFSET = 0.361574
RADIANCE_SCALING_FACTOR = 0.0127614
REFLECTANCE_SCALING_FACTOR = 0.000384646
MEX:REFLECTANCE_OFFSET = 0.0108983
/* IMAGE OBJECT DEFINITIONS */
OBJECT = IMAGE
  INTERCHANGE_FORMAT = BINARY
  LINES = 60170
  LINE_SAMPLES = 7689
  SAMPLE_TYPE = UNSIGNED_INTEGER
  SAMPLE_BITS = 8
  BANDS = 1
  BAND_STORAGE_TYPE = BAND_SEQUENTIAL
  MAXIMUM = 255
  MEAN = 92.773
  MINIMUM = 1
  STANDARD_DEVIATION = 20.8344
END_OBJECT = IMAGE
/* MAP OBJECT DEFINITIONS */
OBJECT = IMAGE_MAP_PROJECTION
  ^DATA_SET_MAP_PROJECTION_CATALOG= "DSMAP.CAT"
  A_AXIS_RADIUS = 3396.0
  B_AXIS_RADIUS = 3396.0
  C_AXIS_RADIUS = 3396.0
  CENTER_LATITUDE = 0.0
  CENTER_LONGITUDE = 103.0
  COORDINATE_SYSTEM_NAME = PLANETOGRAPHIC
  COORDINATE_SYSTEM_TYPE = "BODY-FIXED ROTATING"
  EASTERNMOST_LONGITUDE = 104.089
  FIRST_STANDARD_PARALLEL = "N/A"
  LINE_FIRST_PIXEL = 1
  LINE_LAST_PIXEL = 60170
  LINE_PROJECTION_OFFSET = -65967.0
  MAP_PROJECTION_ROTATION = 0.0
  MAP_PROJECTION_TYPE = SINUSOIDAL
  MAP_RESOLUTION = 4741.71043093333
  MAP_SCALE = 0.0125
  MAXIMUM_LATITUDE = -13.9121
  MINIMUM_LATITUDE = -26.6012
  POSITIVE_LONGITUDE_DIRECTION = EAST
  REFERENCE_LATITUDE = "N/A"
  REFERENCE_LONGITUDE = "N/A"
  SAMPLE_FIRST_PIXEL = 1
  SAMPLE_LAST_PIXEL = 7689
  SAMPLE_PROJECTION_OFFSET = 2424.0
  SECOND_STANDARD_PARALLEL = "N/A"
  WESTERNMOST_LONGITUDE = 102.508
END_OBJECT = IMAGE_MAP_PROJECTION
/* The JPEG2000 image data file associated with this label. */
OBJECT = COMPRESSED_FILE
  FILE_NAME = "H8429_0000_ND3.JP2"
  RECORD_TYPE = UNDEFINED
  FILE_RECORDS = UNK
  ENCODING_TYPE = "JP2"
  INTERCHANGE_FORMAT = BINARY
  UNCOMPRESSED_FILE_NAME = "H8429_0000_ND3.IMG"
  REQUIRED_STORAGE_BYTES = "462677886"
  ^DESCRIPTION = "JP2INFO.TXT"
END_OBJECT = COMPRESSED_FILE
END
