PDS_VERSION_ID = PDS3
/* FILE DATA ELEMENTS */
RECORD_TYPE = STREAM
/* POINTERS TO DATA OBJECTS */
^COMPRESSED_FILE = "H8424_0000_S13.JP2"
/* IDENTIFICATION DATA ELEMENTS */
DATA_SET_ID = "MEX-M-HRSC-5-REFDR-MAPPROJECTED-V3.0"
DATA_SET_NAME = "MARS EXPRESS HRSC MAP PROJECTED REFDR V3.0"
DETECTOR_ID = MEX_HRSC_S1
EVENT_TYPE = "MARS-REGIONAL-MAPPING-Vo-Te"
INSTRUMENT_HOST_ID = MEX
INSTRUMENT_HOST_NAME = "MARS EXPRESS"
INSTRUMENT_ID = HRSC
INSTRUMENT_NAME = "HIGH RESOLUTION STEREO CAMERA"
MISSION_NAME = "MARS EXPRESS"
MISSION_PHASE_NAME = ME_Phase_21
PROCESSING_LEVEL_ID = 3
PRODUCT_CREATION_TIME = 2016-07-13T19:56:48.000Z
PRODUCT_ID = "H8424_0000_S13.JP2"
RELEASE_ID = 0091
REVISION_ID = 0000
/* QUALITY DATA ELEMENTS */
DATA_QUALITY_ID = 1
DATA_QUALITY_DESC = "Data calculated based on original SPICE kernels"
/* TIME DATA ELEMENTS */
SPACECRAFT_CLOCK_START_COUNT = "1/0228809788.08231"
SPACECRAFT_CLOCK_STOP_COUNT = "1/0228810137.03136"
START_TIME = 2010-08-02T06:18:27.449Z
STOP_TIME = 2010-08-02T06:22:17.703Z
/* ORBITAL DATA ELEMENTS */
ASCENDING_NODE_LONGITUDE = 56.4
MAXIMUM_RESOLUTION = 52.9
FOOTPRINT_POINT_LATITUDE = (-3.28183,-3.28954,-3.30015,-3.30941, -3.3194,-3.33004,-2.99566,-2.61069, -2.22096,-1.72941,-1.3319,-1.13117, -0.930679,-0.7285,-0.425568,-0.22134, -0.0177209,0.188472,0.4982,0.70579, 0.914673,1.124,1.3354,1.65316,1.86592, 2.07985,2.40251,2.61892,2.83674,3.16452 ,3.49467,3.71587,3.93849,4.16166, 4.38593,4.61131,4.83778,5.06518,5.29427 ,5.63954,5.87004,6.09968,6.32771, 6.55515,6.78122,7.11955,7.34329,7.4345, 7.44607,7.4566,7.47117,7.48467,7.49203, 7.49791,7.50555,7.50839,7.51102,7.17197 ,6.94371,6.7163,6.48852,6.26021,6.03095 ,5.80057,5.56926,5.33876,5.10928, 4.88095,4.65358,4.42703,4.20169,3.97796 ,3.64372,3.42184,3.20131,2.87234, 2.54534,2.32844,2.11315,1.79193,1.57841 ,1.36663,1.05092,0.840494,0.631944, 0.423079,0.216765,0.0101459,-0.194505, -0.399419,-0.602182,-0.80552,-1.00636, -1.30759,-1.70596,-2.10083,-2.49174, -2.78199,-3.16709,-3.28183)
FOOTPRINT_POINT_LONGITUDE = (254.965,254.624,254.197,253.854, 253.511,253.166,253.056,253.037,253.017 ,252.992,252.972,252.961,252.951,252.94 ,252.924,252.913,252.901,252.89,252.872 ,252.86,252.848,252.836,252.824,252.805 ,252.792,252.779,252.759,252.746, 252.733,252.712,252.691,252.676,252.662 ,252.647,252.632,252.617,252.601, 252.586,252.57,252.546,252.53,252.514, 252.497,252.481,252.464,252.439,252.422 ,252.808,253.049,253.26,253.619,254.037 ,254.276,254.515,254.903,255.112, 255.411,255.501,255.495,255.488,255.481 ,255.474,255.467,255.46,255.454,255.447 ,255.441,255.434,255.428,255.422, 255.416,255.41,255.401,255.396,255.39, 255.382,255.374,255.369,255.364,255.356 ,255.351,255.346,255.339,255.334, 255.329,255.325,255.32,255.316,255.312, 255.307,255.303,255.299,255.295,255.289 ,255.281,255.273,255.266,255.26,255.253 ,254.965)
ORBIT_NUMBER = 8424
ORBITAL_ECCENTRICITY = 0.579
ORBITAL_INCLINATION = 86.82
ORBITAL_SEMIMAJOR_AXIS = 8826.72
PERIAPSIS_ALTITUDE = 323.25
PERIAPSIS_ARGUMENT_ANGLE = 322.46
PERIAPSIS_TIME = 2010-08-02T06:08:21.000Z
SPACECRAFT_ORIENTATION = (0.0,1.0,0.0)
^MEX_ORIENTATION_DESC = "MEX_ORIENTATION_DESC.TXT"
SPACECRAFT_POINTING_MODE = ACROSSTRACK
^MEX_POINTING_DESC = "MEX_POINTING_DESC.TXT"
RIGHT_ASCENSION = -1e+32
DECLINATION = -1e+32
OFFSET_ANGLE = 0.25
SPACECRAFT_SOLAR_DISTANCE = 2.38435e+08
TARGET_NAME = MARS
/* CAMERA DATA ELEMENTS */
DETECTOR_TEMPERATURE = 17.351
FOCAL_PLANE_TEMPERATURE = 8.3794
INST_CMPRS_NAME = "DISCRETE COSINE TRANSFORMATION (DCT)"
INST_CMPRS_RATIO = 12.0244
INST_CMPRS_QUALITY = 0
INST_CMPRS_QUANTZ_TBL_ID = 0
INSTRUMENT_TEMPERATURE = 11.0301
LENS_TEMPERATURE = 8.7872
MACROPIXEL_SIZE = 2
MISSING_FRAMES = 0
PIXEL_SUBSAMPLING_FLAG = N
SIGNAL_CHAIN_ID = 1
/* RADIOMETRIC DATA ELEMENTS */
BANDWIDTH = 180.0
CENTER_FILTER_WAVELENGTH = 677.0
RADIANCE_OFFSET = 3.1986
RADIANCE_SCALING_FACTOR = 0.0203832
REFLECTANCE_SCALING_FACTOR = 0.000604579
MEX:REFLECTANCE_OFFSET = 0.0948723
/* IMAGE OBJECT DEFINITIONS */
OBJECT = IMAGE
  INTERCHANGE_FORMAT = BINARY
  LINES = 12754
  LINE_SAMPLES = 3229
  SAMPLE_TYPE = UNSIGNED_INTEGER
  SAMPLE_BITS = 8
  BANDS = 1
  BAND_STORAGE_TYPE = BAND_SEQUENTIAL
  MAXIMUM = 255
  MEAN = 164.562
  MINIMUM = 1
  STANDARD_DEVIATION = 17.4966
END_OBJECT = IMAGE
/* MAP OBJECT DEFINITIONS */
OBJECT = IMAGE_MAP_PROJECTION
  ^DATA_SET_MAP_PROJECTION_CATALOG= "DSMAP.CAT"
  A_AXIS_RADIUS = 3396.0
  B_AXIS_RADIUS = 3396.0
  C_AXIS_RADIUS = 3396.0
  CENTER_LATITUDE = 0.0
  CENTER_LONGITUDE = 254.0
  COORDINATE_SYSTEM_NAME = PLANETOGRAPHIC
  COORDINATE_SYSTEM_TYPE = "BODY-FIXED ROTATING"
  EASTERNMOST_LONGITUDE = 255.501
  FIRST_STANDARD_PARALLEL = "N/A"
  LINE_FIRST_PIXEL = 1
  LINE_LAST_PIXEL = 12754
  LINE_PROJECTION_OFFSET = 8821.25
  MAP_PROJECTION_ROTATION = 0.0
  MAP_PROJECTION_TYPE = SINUSOIDAL
  MAP_RESOLUTION = 1185.42760773333
  MAP_SCALE = 0.05
  MAXIMUM_LATITUDE = 7.51102
  MINIMUM_LATITUDE = -3.33004
  POSITIVE_LONGITUDE_DIRECTION = EAST
  REFERENCE_LATITUDE = "N/A"
  REFERENCE_LONGITUDE = "N/A"
  SAMPLE_FIRST_PIXEL = 1
  SAMPLE_LAST_PIXEL = 3229
  SAMPLE_PROJECTION_OFFSET = 1661.75
  SECOND_STANDARD_PARALLEL = "N/A"
  WESTERNMOST_LONGITUDE = 252.422
END_OBJECT = IMAGE_MAP_PROJECTION
/* The JPEG2000 image data file associated with this label. */
OBJECT = COMPRESSED_FILE
  FILE_NAME = "H8424_0000_S13.JP2"
  RECORD_TYPE = UNDEFINED
  FILE_RECORDS = UNK
  ENCODING_TYPE = "JP2"
  INTERCHANGE_FORMAT = BINARY
  UNCOMPRESSED_FILE_NAME = "H8424_0000_S13.IMG"
  REQUIRED_STORAGE_BYTES = "41205269"
  ^DESCRIPTION = "JP2INFO.TXT"
END_OBJECT = COMPRESSED_FILE
END
