PDS_VERSION_ID = PDS3
/* FILE DATA ELEMENTS */
RECORD_TYPE = STREAM
/* POINTERS TO DATA OBJECTS */
^COMPRESSED_FILE = "H8407_0000_S23.JP2"
/* IDENTIFICATION DATA ELEMENTS */
DATA_SET_ID = "MEX-M-HRSC-5-REFDR-MAPPROJECTED-V3.0"
DATA_SET_NAME = "MARS EXPRESS HRSC MAP PROJECTED REFDR V3.0"
DETECTOR_ID = MEX_HRSC_S2
EVENT_TYPE = "MARS-REGIONAL-MAPPING-Te-Im-La"
INSTRUMENT_HOST_ID = MEX
INSTRUMENT_HOST_NAME = "MARS EXPRESS"
INSTRUMENT_ID = HRSC
INSTRUMENT_NAME = "HIGH RESOLUTION STEREO CAMERA"
MISSION_NAME = "MARS EXPRESS"
MISSION_PHASE_NAME = ME_Phase_21
PROCESSING_LEVEL_ID = 3
PRODUCT_CREATION_TIME = 2016-07-13T19:56:48.000Z
PRODUCT_ID = "H8407_0000_S23.JP2"
RELEASE_ID = 0091
REVISION_ID = 0000
/* QUALITY DATA ELEMENTS */
DATA_QUALITY_ID = 1
DATA_QUALITY_DESC = "Data calculated based on original SPICE kernels"
/* TIME DATA ELEMENTS */
SPACECRAFT_CLOCK_START_COUNT = "1/0228381386.09064"
SPACECRAFT_CLOCK_STOP_COUNT = "1/0228381657.57623"
START_TIME = 2010-07-28T07:16:28.728Z
STOP_TIME = 2010-07-28T07:19:34.076Z
/* ORBITAL DATA ELEMENTS */
ASCENDING_NODE_LONGITUDE = 56.73
MAXIMUM_RESOLUTION = 29
FOOTPRINT_POINT_LATITUDE = (-22.7494,-22.7492,-22.7478,-22.7304, -22.507,-22.2832,-21.9475,-21.7235, -21.4949,-21.1583,-20.9337,-20.7093, -20.4855,-20.1485,-19.9241,-19.5898, -19.3635,-19.1376,-18.9124,-18.689, -18.4645,-18.2367,-18.0127,-17.7884, -17.4525,-17.2278,-17.0042,-16.6155, -16.3507,-16.0805,-15.6798,-15.407, -15.1454,-14.8816,-14.4794,-14.2122, -13.811,-13.5437,-13.2776,-12.8786, -12.6102,-12.3458,-12.0803,-11.814, -11.5481,-11.2827,-11.0123,-10.7397, -10.4674,-10.4316,-10.4306,-10.4277, -10.4234,-10.4187,-10.5521,-10.825, -11.1024,-11.3727,-11.6382,-11.9019, -12.1673,-12.4337,-12.7007,-13.1002, -13.3668,-13.7677,-14.0349,-14.4368, -14.7067,-15.1027,-15.3737,-15.6396, -15.9066,-16.3058,-16.7069,-16.9696, -17.1938,-17.4184,-17.7553,-17.9803, -18.2047,-18.5414,-18.7668,-18.992, -19.2163,-19.5557,-19.7808,-20.1178, -20.4564,-20.6831,-20.9072,-21.1333, -21.3581,-21.5843,-21.8109,-22.0379, -22.2648,-22.4874,-22.7084,-22.7494)
FOOTPRINT_POINT_LONGITUDE = (193.888,193.688,193.338,192.881, 192.881,192.881,192.88,192.88,192.878, 192.877,192.876,192.875,192.874,192.872 ,192.871,192.87,192.868,192.866,192.864 ,192.862,192.86,192.857,192.855,192.853 ,192.85,192.847,192.845,192.841,192.838 ,192.834,192.829,192.823,192.821, 192.818,192.811,192.807,192.8,192.795, 192.791,192.784,192.778,192.774,192.769 ,192.763,192.758,192.752,192.747, 192.741,192.735,193.04,193.243,193.548, 193.738,193.985,194.238,194.237,194.234 ,194.233,194.232,194.231,194.23,194.229 ,194.227,194.226,194.225,194.223, 194.221,194.219,194.217,194.217,194.215 ,194.214,194.213,194.212,194.21,194.209 ,194.208,194.207,194.205,194.204, 194.203,194.202,194.2,194.199,194.198, 194.196,194.195,194.193,194.191,194.19, 194.189,194.187,194.186,194.185,194.183 ,194.181,194.179,194.179,194.179, 193.888)
ORBIT_NUMBER = 8407
ORBITAL_ECCENTRICITY = 0.579
ORBITAL_INCLINATION = 86.83
ORBITAL_SEMIMAJOR_AXIS = 8823.82
PERIAPSIS_ALTITUDE = 324.39
PERIAPSIS_ARGUMENT_ANGLE = 325.39
PERIAPSIS_TIME = 2010-07-28T07:13:59.000Z
SPACECRAFT_ORIENTATION = (0.0,1.0,0.0)
^MEX_ORIENTATION_DESC = "MEX_ORIENTATION_DESC.TXT"
SPACECRAFT_POINTING_MODE = NADIR
^MEX_POINTING_DESC = "MEX_POINTING_DESC.TXT"
RIGHT_ASCENSION = -1e+32
DECLINATION = -1e+32
OFFSET_ANGLE = -1e+32
SPACECRAFT_SOLAR_DISTANCE = 2.39225e+08
TARGET_NAME = MARS
/* CAMERA DATA ELEMENTS */
DETECTOR_TEMPERATURE = 18.3705
FOCAL_PLANE_TEMPERATURE = 7.5638
INST_CMPRS_NAME = "DISCRETE COSINE TRANSFORMATION (DCT)"
INST_CMPRS_RATIO = 6.52649
INST_CMPRS_QUALITY = 0
INST_CMPRS_QUANTZ_TBL_ID = 0
INSTRUMENT_TEMPERATURE = 11.0301
LENS_TEMPERATURE = 8.1755
MACROPIXEL_SIZE = 2
MISSING_FRAMES = 0
PIXEL_SUBSAMPLING_FLAG = N
SIGNAL_CHAIN_ID = 1
/* RADIOMETRIC DATA ELEMENTS */
BANDWIDTH = 178.0
CENTER_FILTER_WAVELENGTH = 679.0
RADIANCE_OFFSET = 0.772949
RADIANCE_SCALING_FACTOR = 0.022654
REFLECTANCE_SCALING_FACTOR = 0.000686578
MEX:REFLECTANCE_OFFSET = 0.0234259
/* IMAGE OBJECT DEFINITIONS */
OBJECT = IMAGE
  INTERCHANGE_FORMAT = BINARY
  LINES = 29163
  LINE_SAMPLES = 3847
  SAMPLE_TYPE = UNSIGNED_INTEGER
  SAMPLE_BITS = 8
  BANDS = 1
  BAND_STORAGE_TYPE = BAND_SEQUENTIAL
  MAXIMUM = 255
  MEAN = 94.4205
  MINIMUM = 1
  STANDARD_DEVIATION = 28.6419
END_OBJECT = IMAGE
/* MAP OBJECT DEFINITIONS */
OBJECT = IMAGE_MAP_PROJECTION
  ^DATA_SET_MAP_PROJECTION_CATALOG= "DSMAP.CAT"
  A_AXIS_RADIUS = 3396.0
  B_AXIS_RADIUS = 3396.0
  C_AXIS_RADIUS = 3396.0
  CENTER_LATITUDE = 0.0
  CENTER_LONGITUDE = 194.0
  COORDINATE_SYSTEM_NAME = PLANETOGRAPHIC
  COORDINATE_SYSTEM_TYPE = "BODY-FIXED ROTATING"
  EASTERNMOST_LONGITUDE = 194.238
  FIRST_STANDARD_PARALLEL = "N/A"
  LINE_FIRST_PIXEL = 1
  LINE_LAST_PIXEL = 29163
  LINE_PROJECTION_OFFSET = -24727.75
  MAP_PROJECTION_ROTATION = 0.0
  MAP_PROJECTION_TYPE = SINUSOIDAL
  MAP_RESOLUTION = 2370.85521546667
  MAP_SCALE = 0.025
  MAXIMUM_LATITUDE = -10.4187
  MINIMUM_LATITUDE = -22.7494
  POSITIVE_LONGITUDE_DIRECTION = EAST
  REFERENCE_LATITUDE = "N/A"
  REFERENCE_LONGITUDE = "N/A"
  SAMPLE_FIRST_PIXEL = 1
  SAMPLE_LAST_PIXEL = 3847
  SAMPLE_PROJECTION_OFFSET = 3120.75
  SECOND_STANDARD_PARALLEL = "N/A"
  WESTERNMOST_LONGITUDE = 192.735
END_OBJECT = IMAGE_MAP_PROJECTION
/* The JPEG2000 image data file associated with this label. */
OBJECT = COMPRESSED_FILE
  FILE_NAME = "H8407_0000_S23.JP2"
  RECORD_TYPE = UNDEFINED
  FILE_RECORDS = UNK
  ENCODING_TYPE = "JP2"
  INTERCHANGE_FORMAT = BINARY
  UNCOMPRESSED_FILE_NAME = "H8407_0000_S23.IMG"
  REQUIRED_STORAGE_BYTES = "112213143"
  ^DESCRIPTION = "JP2INFO.TXT"
END_OBJECT = COMPRESSED_FILE
END
