PDS_VERSION_ID = PDS3
/* FILE DATA ELEMENTS */
RECORD_TYPE = STREAM
/* POINTERS TO DATA OBJECTS */
^COMPRESSED_FILE = "H8404_0000_S13.JP2"
/* IDENTIFICATION DATA ELEMENTS */
DATA_SET_ID = "MEX-M-HRSC-5-REFDR-MAPPROJECTED-V3.0"
DATA_SET_NAME = "MARS EXPRESS HRSC MAP PROJECTED REFDR V3.0"
DETECTOR_ID = MEX_HRSC_S1
EVENT_TYPE = "MARS-REGIONAL-MAPPING-Fl-Mw"
INSTRUMENT_HOST_ID = MEX
INSTRUMENT_HOST_NAME = "MARS EXPRESS"
INSTRUMENT_ID = HRSC
INSTRUMENT_NAME = "HIGH RESOLUTION STEREO CAMERA"
MISSION_NAME = "MARS EXPRESS"
MISSION_PHASE_NAME = ME_Phase_21
PROCESSING_LEVEL_ID = 3
PRODUCT_CREATION_TIME = 2016-07-13T19:56:48.000Z
PRODUCT_ID = "H8404_0000_S13.JP2"
RELEASE_ID = 0091
REVISION_ID = 0000
/* QUALITY DATA ELEMENTS */
DATA_QUALITY_ID = 1
DATA_QUALITY_DESC = "Data calculated based on original SPICE kernels"
/* TIME DATA ELEMENTS */
SPACECRAFT_CLOCK_START_COUNT = "1/0228306010.09045"
SPACECRAFT_CLOCK_STOP_COUNT = "1/0228306256.58763"
START_TIME = 2010-07-27T10:21:35.209Z
STOP_TIME = 2010-07-27T10:24:17.412Z
/* ORBITAL DATA ELEMENTS */
ASCENDING_NODE_LONGITUDE = 56.79
MAXIMUM_RESOLUTION = 38.7
FOOTPRINT_POINT_LATITUDE = (-11.3246,-11.311,-11.2978,-11.2849, -11.2723,-11.2601,-11.0786,-10.8333, -10.5054,-10.3392,-10.0126,-9.84632, -9.67663,-9.50794,-9.33979,-9.17186, -9.00359,-8.83306,-8.66232,-8.49206, -8.32218,-8.14985,-7.97653,-7.71883, -7.4578,-7.28242,-7.10726,-6.93259, -6.75471,-6.57522,-6.39657,-6.22156, -5.95849,-5.68325,-5.49534,-5.3143, -5.13022,-4.86034,-4.67784,-4.48798, -4.30005,-4.02324,-3.8346,-3.64101, -3.45138,-3.26531,-3.07022,-2.87856, -2.69782,-2.50418,-2.38229,-2.38878, -2.39542,-2.40853,-2.42228,-2.43488, -2.44224,-2.45347,-2.65299,-2.9378, -3.12792,-3.31696,-3.60327,-3.79922, -4.07452,-4.26157,-4.44899,-4.63657, -4.82144,-5.00692,-5.18857,-5.37535, -5.55837,-5.73867,-5.92282,-6.10454, -6.36888,-6.54633,-6.72468,-6.99266, -7.16791,-7.34388,-7.52025,-7.69611, -7.86892,-8.04173,-8.21481,-8.38809, -8.64326,-8.81396,-8.98539,-9.2434, -9.41115,-9.66075,-9.99426,-10.2427, -10.6565,-10.9008,-11.1461,-11.3246)
FOOTPRINT_POINT_LONGITUDE = (142.383,142.114,141.849,141.587, 141.328,141.073,140.826,140.818,140.808 ,140.803,140.794,140.789,140.783, 140.778,140.772,140.767,140.761,140.756 ,140.75,140.745,140.739,140.733,140.727 ,140.719,140.71,140.703,140.697,140.691 ,140.685,140.678,140.671,140.665, 140.656,140.645,140.637,140.631,140.623 ,140.613,140.606,140.598,140.59,140.58, 140.572,140.563,140.556,140.548,140.54, 140.531,140.524,140.516,140.727,140.907 ,141.107,141.411,141.658,141.988, 142.175,142.468,142.62,142.613,142.609, 142.604,142.601,142.603,142.595,142.592 ,142.589,142.589,142.586,142.584, 142.581,142.581,142.579,142.576,142.577 ,142.575,142.568,142.565,142.563, 142.561,142.559,142.557,142.556,142.554 ,142.552,142.55,142.548,142.547,142.543 ,142.542,142.54,142.541,142.539,142.534 ,142.53,142.528,142.523,142.521,142.519 ,142.383)
ORBIT_NUMBER = 8404
ORBITAL_ECCENTRICITY = 0.579
ORBITAL_INCLINATION = 86.81
ORBITAL_SEMIMAJOR_AXIS = 8829.06
PERIAPSIS_ALTITUDE = 324.82
PERIAPSIS_ARGUMENT_ANGLE = 325.91
PERIAPSIS_TIME = 2010-07-27T10:14:59.000Z
SPACECRAFT_ORIENTATION = (0.0,1.0,0.0)
^MEX_ORIENTATION_DESC = "MEX_ORIENTATION_DESC.TXT"
SPACECRAFT_POINTING_MODE = ACROSSTRACK
^MEX_POINTING_DESC = "MEX_POINTING_DESC.TXT"
RIGHT_ASCENSION = -1e+32
DECLINATION = -1e+32
OFFSET_ANGLE = -1.25
SPACECRAFT_SOLAR_DISTANCE = 2.39362e+08
TARGET_NAME = MARS
/* CAMERA DATA ELEMENTS */
DETECTOR_TEMPERATURE = 17.7588
FOCAL_PLANE_TEMPERATURE = 7.3599
INST_CMPRS_NAME = "DISCRETE COSINE TRANSFORMATION (DCT)"
INST_CMPRS_RATIO = 6.22555
INST_CMPRS_QUALITY = 0
INST_CMPRS_QUANTZ_TBL_ID = 0
INSTRUMENT_TEMPERATURE = 10.8262
LENS_TEMPERATURE = 7.9716
MACROPIXEL_SIZE = 2
MISSING_FRAMES = 0
PIXEL_SUBSAMPLING_FLAG = N
SIGNAL_CHAIN_ID = 1
/* RADIOMETRIC DATA ELEMENTS */
BANDWIDTH = 180.0
CENTER_FILTER_WAVELENGTH = 677.0
RADIANCE_OFFSET = 1.46089
RADIANCE_SCALING_FACTOR = 0.0184601
REFLECTANCE_SCALING_FACTOR = 0.000551805
MEX:REFLECTANCE_OFFSET = 0.0436687
/* IMAGE OBJECT DEFINITIONS */
OBJECT = IMAGE
  INTERCHANGE_FORMAT = BINARY
  LINES = 21171
  LINE_SAMPLES = 4767
  SAMPLE_TYPE = UNSIGNED_INTEGER
  SAMPLE_BITS = 8
  BANDS = 1
  BAND_STORAGE_TYPE = BAND_SEQUENTIAL
  MAXIMUM = 255
  MEAN = 114.79
  MINIMUM = 1
  STANDARD_DEVIATION = 31.5859
END_OBJECT = IMAGE
/* MAP OBJECT DEFINITIONS */
OBJECT = IMAGE_MAP_PROJECTION
  ^DATA_SET_MAP_PROJECTION_CATALOG= "DSMAP.CAT"
  A_AXIS_RADIUS = 3396.0
  B_AXIS_RADIUS = 3396.0
  C_AXIS_RADIUS = 3396.0
  CENTER_LATITUDE = 0.0
  CENTER_LONGITUDE = 142.0
  COORDINATE_SYSTEM_NAME = PLANETOGRAPHIC
  COORDINATE_SYSTEM_TYPE = "BODY-FIXED ROTATING"
  EASTERNMOST_LONGITUDE = 142.62
  FIRST_STANDARD_PARALLEL = "N/A"
  LINE_FIRST_PIXEL = 1
  LINE_LAST_PIXEL = 21171
  LINE_PROJECTION_OFFSET = -5632.25
  MAP_PROJECTION_ROTATION = 0.0
  MAP_PROJECTION_TYPE = SINUSOIDAL
  MAP_RESOLUTION = 2370.85521546667
  MAP_SCALE = 0.025
  MAXIMUM_LATITUDE = -2.38229
  MINIMUM_LATITUDE = -11.3246
  POSITIVE_LONGITUDE_DIRECTION = EAST
  REFERENCE_LATITUDE = "N/A"
  REFERENCE_LONGITUDE = "N/A"
  SAMPLE_FIRST_PIXEL = 1
  SAMPLE_LAST_PIXEL = 4767
  SAMPLE_PROJECTION_OFFSET = 3345.25
  SECOND_STANDARD_PARALLEL = "N/A"
  WESTERNMOST_LONGITUDE = 140.516
END_OBJECT = IMAGE_MAP_PROJECTION
/* The JPEG2000 image data file associated with this label. */
OBJECT = COMPRESSED_FILE
  FILE_NAME = "H8404_0000_S13.JP2"
  RECORD_TYPE = UNDEFINED
  FILE_RECORDS = UNK
  ENCODING_TYPE = "JP2"
  INTERCHANGE_FORMAT = BINARY
  UNCOMPRESSED_FILE_NAME = "H8404_0000_S13.IMG"
  REQUIRED_STORAGE_BYTES = "100945992"
  ^DESCRIPTION = "JP2INFO.TXT"
END_OBJECT = COMPRESSED_FILE
END
