PDS_VERSION_ID = PDS3
/* FILE DATA ELEMENTS */
RECORD_TYPE = STREAM
/* POINTERS TO DATA OBJECTS */
^COMPRESSED_FILE = "H8400_0000_GR3.JP2"
/* IDENTIFICATION DATA ELEMENTS */
DATA_SET_ID = "MEX-M-HRSC-5-REFDR-MAPPROJECTED-V3.0"
DATA_SET_NAME = "MARS EXPRESS HRSC MAP PROJECTED REFDR V3.0"
DETECTOR_ID = MEX_HRSC_GREEN
EVENT_TYPE = "MARS-REGIONAL-MAPPING-Te-Im"
INSTRUMENT_HOST_ID = MEX
INSTRUMENT_HOST_NAME = "MARS EXPRESS"
INSTRUMENT_ID = HRSC
INSTRUMENT_NAME = "HIGH RESOLUTION STEREO CAMERA"
MISSION_NAME = "MARS EXPRESS"
MISSION_PHASE_NAME = ME_Phase_21
PROCESSING_LEVEL_ID = 3
PRODUCT_CREATION_TIME = 2016-07-13T19:56:48.000Z
PRODUCT_ID = "H8400_0000_GR3.JP2"
RELEASE_ID = 0091
REVISION_ID = 0000
/* QUALITY DATA ELEMENTS */
DATA_QUALITY_ID = 1
DATA_QUALITY_DESC = "Data calculated based on original SPICE kernels"
/* TIME DATA ELEMENTS */
SPACECRAFT_CLOCK_START_COUNT = "1/0228205145.07280"
SPACECRAFT_CLOCK_STOP_COUNT = "1/0228205400.62579"
START_TIME = 2010-07-26T06:19:44.665Z
STOP_TIME = 2010-07-26T06:22:43.252Z
/* ORBITAL DATA ELEMENTS */
ASCENDING_NODE_LONGITUDE = 56.86
MAXIMUM_RESOLUTION = 57.3
FOOTPRINT_POINT_LATITUDE = (-20.1982,-20.1988,-20.1992,-20.1994, -20.1994,-20.0754,-16.2563,-16.111, -15.9658,-15.8209,-15.6759,-15.5311, -15.3863,-15.2417,-15.097,-14.9526, -14.7365,-14.5924,-14.4482,-14.3042, -14.0164,-13.8006,-13.5138,-13.1557, -12.9357,-12.7888,-12.6421,-12.4955, -12.349,-12.2027,-12.0572,-11.9085, -11.7589,-11.6095,-11.4601,-11.3106, -11.1613,-11.0121,-10.8603,-10.7074, -10.5549,-10.3262,-10.174,-10.0218, -9.78949,-9.63381,-9.47823,-9.3228, -9.04535,-9.04321,-9.04062,-9.03859, -9.03541,-9.03182,-9.02871,-9.02707, -9.18366,-9.3395,-9.49354,-9.64926, -9.88292,-10.0371,-10.1892,-10.3417, -10.4941,-10.647,-10.7999,-10.953, -11.1023,-11.2529,-11.4029,-11.6279, -11.7776,-11.9264,-12.1478,-12.368, -12.5149,-12.6619,-12.8825,-13.0296, -13.1755,-13.4623,-13.7498,-14.0377, -14.1818,-14.3981,-14.5423,-14.6868, -14.8317,-14.9756,-15.1203,-15.2653, -15.4102,-15.5551,-15.7001,-15.9177, -16.1354,-16.2806,-20.1009,-20.1982)
FOOTPRINT_POINT_LONGITUDE = (189.357,189.16,188.962,188.762,188.561 ,188.262,188.238,188.236,188.235, 188.233,188.232,188.23,188.228,188.226, 188.225,188.223,188.218,188.216,188.214 ,188.212,188.208,188.206,188.201, 188.195,188.191,188.189,188.186,188.184 ,188.181,188.178,188.173,188.169, 188.165,188.161,188.158,188.154,188.151 ,188.148,188.145,188.142,188.138, 188.133,188.129,188.125,188.12,188.117, 188.113,188.11,188.103,188.315,188.557, 188.738,189.007,189.275,189.511,189.707 ,189.706,189.704,189.702,189.701, 189.698,189.697,189.696,189.694,189.693 ,189.691,189.69,189.688,189.687,189.686 ,189.685,189.683,189.681,189.679, 189.677,189.676,189.674,189.673,189.671 ,189.67,189.668,189.666,189.663,189.661 ,189.659,189.657,189.656,189.655, 189.653,189.652,189.651,189.649,189.648 ,189.647,189.645,189.643,189.641,189.64 ,189.603,189.357)
ORBIT_NUMBER = 8400
ORBITAL_ECCENTRICITY = 0.579
ORBITAL_INCLINATION = 86.83
ORBITAL_SEMIMAJOR_AXIS = 8825.48
PERIAPSIS_ALTITUDE = 324.64
PERIAPSIS_ARGUMENT_ANGLE = 326.58
PERIAPSIS_TIME = 2010-07-26T06:16:18.000Z
SPACECRAFT_ORIENTATION = (0.0,1.0,0.0)
^MEX_ORIENTATION_DESC = "MEX_ORIENTATION_DESC.TXT"
SPACECRAFT_POINTING_MODE = ACROSSTRACK
^MEX_POINTING_DESC = "MEX_POINTING_DESC.TXT"
RIGHT_ASCENSION = -1e+32
DECLINATION = -1e+32
OFFSET_ANGLE = 0.6
SPACECRAFT_SOLAR_DISTANCE = 2.39544e+08
TARGET_NAME = MARS
/* CAMERA DATA ELEMENTS */
DETECTOR_TEMPERATURE = 18.1666
FOCAL_PLANE_TEMPERATURE = 8.7872
INST_CMPRS_NAME = "DISCRETE COSINE TRANSFORMATION (DCT)"
INST_CMPRS_RATIO = 6.36048
INST_CMPRS_QUALITY = 0
INST_CMPRS_QUANTZ_TBL_ID = 0
INSTRUMENT_TEMPERATURE = 11.234
LENS_TEMPERATURE = 8.1755
MACROPIXEL_SIZE = 4
MISSING_FRAMES = 502
PIXEL_SUBSAMPLING_FLAG = N
SIGNAL_CHAIN_ID = 2
/* RADIOMETRIC DATA ELEMENTS */
BANDWIDTH = 88.0
CENTER_FILTER_WAVELENGTH = 538.0
RADIANCE_OFFSET = 0.428064
RADIANCE_SCALING_FACTOR = 0.0056116
REFLECTANCE_SCALING_FACTOR = 0.000277234
MEX:REFLECTANCE_OFFSET = 0.0211479
/* IMAGE OBJECT DEFINITIONS */
OBJECT = IMAGE
  INTERCHANGE_FORMAT = BINARY
  LINES = 13259
  LINE_SAMPLES = 1938
  SAMPLE_TYPE = UNSIGNED_INTEGER
  SAMPLE_BITS = 8
  BANDS = 1
  BAND_STORAGE_TYPE = BAND_SEQUENTIAL
  MAXIMUM = 255
  MEAN = 88.8976
  MINIMUM = 1
  STANDARD_DEVIATION = 29.2586
END_OBJECT = IMAGE
/* MAP OBJECT DEFINITIONS */
OBJECT = IMAGE_MAP_PROJECTION
  ^DATA_SET_MAP_PROJECTION_CATALOG= "DSMAP.CAT"
  A_AXIS_RADIUS = 3396.0
  B_AXIS_RADIUS = 3396.0
  C_AXIS_RADIUS = 3396.0
  CENTER_LATITUDE = 0.0
  CENTER_LONGITUDE = 189.0
  COORDINATE_SYSTEM_NAME = PLANETOGRAPHIC
  COORDINATE_SYSTEM_TYPE = "BODY-FIXED ROTATING"
  EASTERNMOST_LONGITUDE = 189.707
  FIRST_STANDARD_PARALLEL = "N/A"
  LINE_FIRST_PIXEL = 1
  LINE_LAST_PIXEL = 13259
  LINE_PROJECTION_OFFSET = -10688.875
  MAP_PROJECTION_ROTATION = 0.0
  MAP_PROJECTION_TYPE = SINUSOIDAL
  MAP_RESOLUTION = 1185.42760773333
  MAP_SCALE = 0.05
  MAXIMUM_LATITUDE = -9.02707
  MINIMUM_LATITUDE = -20.1994
  POSITIVE_LONGITUDE_DIRECTION = EAST
  REFERENCE_LATITUDE = "N/A"
  REFERENCE_LONGITUDE = "N/A"
  SAMPLE_FIRST_PIXEL = 1
  SAMPLE_LAST_PIXEL = 1938
  SAMPLE_PROJECTION_OFFSET = 1108.625
  SECOND_STANDARD_PARALLEL = "N/A"
  WESTERNMOST_LONGITUDE = 188.103
END_OBJECT = IMAGE_MAP_PROJECTION
/* The JPEG2000 image data file associated with this label. */
OBJECT = COMPRESSED_FILE
  FILE_NAME = "H8400_0000_GR3.JP2"
  RECORD_TYPE = UNDEFINED
  FILE_RECORDS = UNK
  ENCODING_TYPE = "JP2"
  INTERCHANGE_FORMAT = BINARY
  UNCOMPRESSED_FILE_NAME = "H8400_0000_GR3.IMG"
  REQUIRED_STORAGE_BYTES = "25715322"
  ^DESCRIPTION = "JP2INFO.TXT"
END_OBJECT = COMPRESSED_FILE
END
