PDS_VERSION_ID = PDS3
/* FILE DATA ELEMENTS */
RECORD_TYPE = STREAM
/* POINTERS TO DATA OBJECTS */
^COMPRESSED_FILE = "H8363_0000_P23.JP2"
/* IDENTIFICATION DATA ELEMENTS */
DATA_SET_ID = "MEX-M-HRSC-5-REFDR-MAPPROJECTED-V3.0"
DATA_SET_NAME = "MARS EXPRESS HRSC MAP PROJECTED REFDR V3.0"
DETECTOR_ID = MEX_HRSC_P2
EVENT_TYPE = "MARS-REGIONAL-MAPPING-Im-Fl"
INSTRUMENT_HOST_ID = MEX
INSTRUMENT_HOST_NAME = "MARS EXPRESS"
INSTRUMENT_ID = HRSC
INSTRUMENT_NAME = "HIGH RESOLUTION STEREO CAMERA"
MISSION_NAME = "MARS EXPRESS"
MISSION_PHASE_NAME = ME_Phase_21
PROCESSING_LEVEL_ID = 3
PRODUCT_CREATION_TIME = 2016-07-13T19:56:48.000Z
PRODUCT_ID = "H8363_0000_P23.JP2"
RELEASE_ID = 0091
REVISION_ID = 0000
/* QUALITY DATA ELEMENTS */
DATA_QUALITY_ID = 1
DATA_QUALITY_DESC = "Data calculated based on original SPICE kernels"
/* TIME DATA ELEMENTS */
SPACECRAFT_CLOCK_START_COUNT = "1/0227273682.09066"
SPACECRAFT_CLOCK_STOP_COUNT = "1/0227273957.13693"
START_TIME = 2010-07-15T11:34:56.982Z
STOP_TIME = 2010-07-15T11:37:45.184Z
/* ORBITAL DATA ELEMENTS */
ASCENDING_NODE_LONGITUDE = 57.58
MAXIMUM_RESOLUTION = 66.2
FOOTPRINT_POINT_LATITUDE = (-6.18165,-6.18427,-6.18641,-6.18873, -6.19,-6.18625,-5.99343,-5.80082, -5.60839,-5.22376,-4.92974,-4.73326, -4.43899,-4.24264,-4.04537,-3.8442, -3.54246,-3.23995,-3.03862,-2.83547, -2.62906,-2.4225,-2.21629,-2.01068, -1.8037,-1.59242,-1.28018,-1.07129, -0.860342,-0.64318,-0.427827,-0.21174, 0.00347242,0.220972,0.440785,0.770165, 0.989071,1.21244,1.43605,1.6593,1.88272 ,2.11115,2.453,2.68075,2.91204,3.14434, 3.49296,3.72776,3.96401,4.31828,4.55083 ,4.55439,4.5564,4.55948,4.56493,4.57063 ,4.33058,4.09322,3.85726,3.50311,3.2701 ,2.92152,2.68809,2.46023,2.2322,1.88979 ,1.66648,1.44316,1.21885,0.994488, 0.775069,0.5558,0.229655,0.0120433, -0.311564,-0.633213,-0.84808,-1.16396, -1.37466,-1.58521,-1.89998,-2.10577, -2.3121,-2.51844,-2.72496,-2.93022, -3.13196,-3.33359,-3.53581,-3.73746, -4.03968,-4.23647,-4.43358,-4.63055, -4.9268,-5.1244,-5.31738,-5.51276, -5.89896,-6.18165)
FOOTPRINT_POINT_LONGITUDE = (14.5486,14.3124,14.0893,13.7875, 13.5776,13.2964,13.2922,13.288,13.2837, 13.2751,13.2685,13.2643,13.2579,13.2534 ,13.2484,13.2432,13.2361,13.2283, 13.2232,13.2178,13.2123,13.2066,13.201, 13.1956,13.1898,13.1837,13.1765,13.1712 ,13.1648,13.1577,13.1512,13.1443, 13.1376,13.131,13.1241,13.1137,13.1069, 13.0998,13.0927,13.0856,13.0783,13.0706 ,13.0592,13.0515,13.0436,13.0356, 13.0232,13.0152,13.0069,12.9941,13.1514 ,13.4522,13.6692,13.9362,14.3367, 14.6876,14.7747,14.772,14.7701,14.7667, 14.7643,14.7613,14.7584,14.7565,14.7547 ,14.7519,14.7502,14.7487,14.7469, 14.7448,14.7432,14.7417,14.7409,14.7393 ,14.7367,14.7351,14.7339,14.7319, 14.7307,14.7296,14.7277,14.7267,14.7255 ,14.7244,14.7233,14.7222,14.7211, 14.7201,14.719,14.7181,14.7164,14.7156, 14.7148,14.714,14.7127,14.7119,14.7112, 14.7091,14.7073,14.5486)
ORBIT_NUMBER = 8363
ORBITAL_ECCENTRICITY = 0.579
ORBITAL_INCLINATION = 86.83
ORBITAL_SEMIMAJOR_AXIS = 8839.19
PERIAPSIS_ALTITUDE = 326.41
PERIAPSIS_ARGUMENT_ANGLE = 332.95
PERIAPSIS_TIME = 2010-07-15T11:29:59.000Z
SPACECRAFT_ORIENTATION = (0.0,1.0,0.0)
^MEX_ORIENTATION_DESC = "MEX_ORIENTATION_DESC.TXT"
SPACECRAFT_POINTING_MODE = NADIR
^MEX_POINTING_DESC = "MEX_POINTING_DESC.TXT"
RIGHT_ASCENSION = -1e+32
DECLINATION = -1e+32
OFFSET_ANGLE = -1e+32
SPACECRAFT_SOLAR_DISTANCE = 2.41158e+08
TARGET_NAME = MARS
/* CAMERA DATA ELEMENTS */
DETECTOR_TEMPERATURE = 18.3705
FOCAL_PLANE_TEMPERATURE = 7.7677
INST_CMPRS_NAME = "DISCRETE COSINE TRANSFORMATION (DCT)"
INST_CMPRS_RATIO = 6.40255
INST_CMPRS_QUALITY = 0
INST_CMPRS_QUANTZ_TBL_ID = 0
INSTRUMENT_TEMPERATURE = 11.0301
LENS_TEMPERATURE = 8.1755
MACROPIXEL_SIZE = 4
MISSING_FRAMES = 0
PIXEL_SUBSAMPLING_FLAG = N
SIGNAL_CHAIN_ID = 3
/* RADIOMETRIC DATA ELEMENTS */
BANDWIDTH = 177.0
CENTER_FILTER_WAVELENGTH = 676.5
RADIANCE_OFFSET = 1.1954
RADIANCE_SCALING_FACTOR = 0.0170772
REFLECTANCE_SCALING_FACTOR = 0.000526595
MEX:REFLECTANCE_OFFSET = 0.0368616
/* IMAGE OBJECT DEFINITIONS */
OBJECT = IMAGE
  INTERCHANGE_FORMAT = BINARY
  LINES = 12772
  LINE_SAMPLES = 2320
  SAMPLE_TYPE = UNSIGNED_INTEGER
  SAMPLE_BITS = 8
  BANDS = 1
  BAND_STORAGE_TYPE = BAND_SEQUENTIAL
  MAXIMUM = 255
  MEAN = 97.8656
  MINIMUM = 1
  STANDARD_DEVIATION = 27.2517
END_OBJECT = IMAGE
/* MAP OBJECT DEFINITIONS */
OBJECT = IMAGE_MAP_PROJECTION
  ^DATA_SET_MAP_PROJECTION_CATALOG= "DSMAP.CAT"
  A_AXIS_RADIUS = 3396.0
  B_AXIS_RADIUS = 3396.0
  C_AXIS_RADIUS = 3396.0
  CENTER_LATITUDE = 0.0
  CENTER_LONGITUDE = 14.0
  COORDINATE_SYSTEM_NAME = PLANETOGRAPHIC
  COORDINATE_SYSTEM_TYPE = "BODY-FIXED ROTATING"
  EASTERNMOST_LONGITUDE = 14.7747
  FIRST_STANDARD_PARALLEL = "N/A"
  LINE_FIRST_PIXEL = 1
  LINE_LAST_PIXEL = 12772
  LINE_PROJECTION_OFFSET = 5439.125
  MAP_PROJECTION_ROTATION = 0.0
  MAP_PROJECTION_TYPE = SINUSOIDAL
  MAP_RESOLUTION = 1185.42760773333
  MAP_SCALE = 0.05
  MAXIMUM_LATITUDE = 4.57063
  MINIMUM_LATITUDE = -6.19
  POSITIVE_LONGITUDE_DIRECTION = EAST
  REFERENCE_LATITUDE = "N/A"
  REFERENCE_LONGITUDE = "N/A"
  SAMPLE_FIRST_PIXEL = 1
  SAMPLE_LAST_PIXEL = 2320
  SAMPLE_PROJECTION_OFFSET = 1302.125
  SECOND_STANDARD_PARALLEL = "N/A"
  WESTERNMOST_LONGITUDE = 12.9941
END_OBJECT = IMAGE_MAP_PROJECTION
/* The JPEG2000 image data file associated with this label. */
OBJECT = COMPRESSED_FILE
  FILE_NAME = "H8363_0000_P23.JP2"
  RECORD_TYPE = UNDEFINED
  FILE_RECORDS = UNK
  ENCODING_TYPE = "JP2"
  INTERCHANGE_FORMAT = BINARY
  UNCOMPRESSED_FILE_NAME = "H8363_0000_P23.IMG"
  REQUIRED_STORAGE_BYTES = "29654240"
  ^DESCRIPTION = "JP2INFO.TXT"
END_OBJECT = COMPRESSED_FILE
END
