PDS_VERSION_ID = PDS3
/* FILE DATA ELEMENTS */
RECORD_TYPE = STREAM
/* POINTERS TO DATA OBJECTS */
^COMPRESSED_FILE = "H8344_0000_S13.JP2"
/* IDENTIFICATION DATA ELEMENTS */
DATA_SET_ID = "MEX-M-HRSC-5-REFDR-MAPPROJECTED-V3.0"
DATA_SET_NAME = "MARS EXPRESS HRSC MAP PROJECTED REFDR V3.0"
DETECTOR_ID = MEX_HRSC_S1
EVENT_TYPE = "MARS-REGIONAL-MAPPING-Eo-La"
INSTRUMENT_HOST_ID = MEX
INSTRUMENT_HOST_NAME = "MARS EXPRESS"
INSTRUMENT_ID = HRSC
INSTRUMENT_NAME = "HIGH RESOLUTION STEREO CAMERA"
MISSION_NAME = "MARS EXPRESS"
MISSION_PHASE_NAME = ME_Phase_21
PROCESSING_LEVEL_ID = 3
PRODUCT_CREATION_TIME = 2016-07-13T19:56:48.000Z
PRODUCT_ID = "H8344_0000_S13.JP2"
RELEASE_ID = 0091
REVISION_ID = 0000
/* QUALITY DATA ELEMENTS */
DATA_QUALITY_ID = 1
DATA_QUALITY_DESC = "Data calculated based on original SPICE kernels"
/* TIME DATA ELEMENTS */
SPACECRAFT_CLOCK_START_COUNT = "1/0226795304.08275"
SPACECRAFT_CLOCK_STOP_COUNT = "1/0226795509.40809"
START_TIME = 2010-07-09T22:43:02.075Z
STOP_TIME = 2010-07-09T22:45:10.207Z
/* ORBITAL DATA ELEMENTS */
ASCENDING_NODE_LONGITUDE = 57.94
MAXIMUM_RESOLUTION = 36.4
FOOTPRINT_POINT_LATITUDE = (-4.3911,-4.39702,-4.40316,-4.4096, -4.41631,-4.42335,-4.24415,-3.97302, -3.69611,-3.41943,-3.1438,-2.93571, -2.72462,-2.51393,-2.37331,-2.23301, -2.093,-1.94985,-1.80657,-1.66369, -1.52094,-1.37828,-1.2361,-1.01819, -0.872626,-0.726615,-0.582373,-0.43743, -0.216461,-0.0687774,0.0786277,0.225754 ,0.3727,0.522834,0.672902,0.822689, 0.972123,1.12131,1.34914,1.50105,1.6528 ,1.80423,2.03475,2.18893,2.34303, 2.49669,2.65203,2.84024,2.84675,2.85136 ,2.85572,2.85994,2.86406,2.87143, 2.87666,2.88011,2.88523,2.73093,2.57484 ,2.42088,2.26672,2.11232,1.88107, 1.72937,1.57743,1.42528,1.27287,1.12157 ,0.972042,0.82258,0.672592,0.522219, 0.372967,0.225611,0.0781247,-0.0695428, -0.217452,-0.36551,-0.510406,-0.655423, -0.800566,-0.946351,-1.09217,-1.2368, -1.37786,-1.52227,-1.66554,-1.80892, -1.9525,-2.09516,-2.37493,-2.51573, -2.65666,-2.79921,-2.94046,-3.21725, -3.6315,-3.90851,-4.17829,-4.3911)
FOOTPRINT_POINT_LONGITUDE = (157.569,157.338,157.107,156.875, 156.643,156.409,156.156,156.149,156.142 ,156.135,156.127,156.121,156.115, 156.109,156.105,156.101,156.097,156.093 ,156.089,156.085,156.08,156.076,156.072 ,156.065,156.06,156.056,156.051,156.047 ,156.04,156.035,156.03,156.025,156.02, 156.015,156.01,156.005,156.0,155.995, 155.987,155.982,155.976,155.971,155.962 ,155.957,155.951,155.946,155.94,156.039 ,156.234,156.376,156.517,156.658, 156.799,157.063,157.255,157.395,157.622 ,157.749,157.747,157.744,157.742,157.74 ,157.737,157.735,157.734,157.732,157.73 ,157.728,157.726,157.724,157.722, 157.721,157.719,157.717,157.716,157.714 ,157.712,157.711,157.709,157.708, 157.706,157.705,157.703,157.702,157.7, 157.699,157.697,157.696,157.695,157.693 ,157.69,157.689,157.688,157.687,157.685 ,157.683,157.679,157.677,157.674, 157.569)
ORBIT_NUMBER = 8344
ORBITAL_ECCENTRICITY = 0.579
ORBITAL_INCLINATION = 86.82
ORBITAL_SEMIMAJOR_AXIS = 8840.5
PERIAPSIS_ALTITUDE = 327.79
PERIAPSIS_ARGUMENT_ANGLE = 336.27
PERIAPSIS_TIME = 2010-07-09T22:37:24.000Z
SPACECRAFT_ORIENTATION = (0.0,1.0,0.0)
^MEX_ORIENTATION_DESC = "MEX_ORIENTATION_DESC.TXT"
SPACECRAFT_POINTING_MODE = ACROSSTRACK
^MEX_POINTING_DESC = "MEX_POINTING_DESC.TXT"
RIGHT_ASCENSION = -1e+32
DECLINATION = -1e+32
OFFSET_ANGLE = 0.35
SPACECRAFT_SOLAR_DISTANCE = 2.4194e+08
TARGET_NAME = MARS
/* CAMERA DATA ELEMENTS */
DETECTOR_TEMPERATURE = 16.9432
FOCAL_PLANE_TEMPERATURE = 7.5638
INST_CMPRS_NAME = "DISCRETE COSINE TRANSFORMATION (DCT)"
INST_CMPRS_RATIO = 7.63393
INST_CMPRS_QUALITY = 0
INST_CMPRS_QUANTZ_TBL_ID = 0
INSTRUMENT_TEMPERATURE = 10.8262
LENS_TEMPERATURE = 7.9716
MACROPIXEL_SIZE = 2
MISSING_FRAMES = 0
PIXEL_SUBSAMPLING_FLAG = N
SIGNAL_CHAIN_ID = 1
/* RADIOMETRIC DATA ELEMENTS */
BANDWIDTH = 180.0
CENTER_FILTER_WAVELENGTH = 677.0
RADIANCE_OFFSET = 1.49409
RADIANCE_SCALING_FACTOR = 0.0115882
REFLECTANCE_SCALING_FACTOR = 0.000353892
MEX:REFLECTANCE_OFFSET = 0.0456282
/* IMAGE OBJECT DEFINITIONS */
OBJECT = IMAGE
  INTERCHANGE_FORMAT = BINARY
  LINES = 17321
  LINE_SAMPLES = 4110
  SAMPLE_TYPE = UNSIGNED_INTEGER
  SAMPLE_BITS = 8
  BANDS = 1
  BAND_STORAGE_TYPE = BAND_SEQUENTIAL
  MAXIMUM = 255
  MEAN = 105.217
  MINIMUM = 1
  STANDARD_DEVIATION = 24.3182
END_OBJECT = IMAGE
/* MAP OBJECT DEFINITIONS */
OBJECT = IMAGE_MAP_PROJECTION
  ^DATA_SET_MAP_PROJECTION_CATALOG= "DSMAP.CAT"
  A_AXIS_RADIUS = 3396.0
  B_AXIS_RADIUS = 3396.0
  C_AXIS_RADIUS = 3396.0
  CENTER_LATITUDE = 0.0
  CENTER_LONGITUDE = 157.0
  COORDINATE_SYSTEM_NAME = PLANETOGRAPHIC
  COORDINATE_SYSTEM_TYPE = "BODY-FIXED ROTATING"
  EASTERNMOST_LONGITUDE = 157.749
  FIRST_STANDARD_PARALLEL = "N/A"
  LINE_FIRST_PIXEL = 1
  LINE_LAST_PIXEL = 17321
  LINE_PROJECTION_OFFSET = 6840.75
  MAP_PROJECTION_ROTATION = 0.0
  MAP_PROJECTION_TYPE = SINUSOIDAL
  MAP_RESOLUTION = 2370.85521546667
  MAP_SCALE = 0.025
  MAXIMUM_LATITUDE = 2.88523
  MINIMUM_LATITUDE = -4.42335
  POSITIVE_LONGITUDE_DIRECTION = EAST
  REFERENCE_LATITUDE = "N/A"
  REFERENCE_LONGITUDE = "N/A"
  SAMPLE_FIRST_PIXEL = 1
  SAMPLE_LAST_PIXEL = 4110
  SAMPLE_PROJECTION_OFFSET = 2452.75
  SECOND_STANDARD_PARALLEL = "N/A"
  WESTERNMOST_LONGITUDE = 155.94
END_OBJECT = IMAGE_MAP_PROJECTION
/* The JPEG2000 image data file associated with this label. */
OBJECT = COMPRESSED_FILE
  FILE_NAME = "H8344_0000_S13.JP2"
  RECORD_TYPE = UNDEFINED
  FILE_RECORDS = UNK
  ENCODING_TYPE = "JP2"
  INTERCHANGE_FORMAT = BINARY
  UNCOMPRESSED_FILE_NAME = "H8344_0000_S13.IMG"
  REQUIRED_STORAGE_BYTES = "71213970"
  ^DESCRIPTION = "JP2INFO.TXT"
END_OBJECT = COMPRESSED_FILE
END
