PDS_VERSION_ID = PDS3
/* FILE DATA ELEMENTS */
RECORD_TYPE = STREAM
/* POINTERS TO DATA OBJECTS */
^COMPRESSED_FILE = "H8329_0000_IR3.JP2"
/* IDENTIFICATION DATA ELEMENTS */
DATA_SET_ID = "MEX-M-HRSC-5-REFDR-MAPPROJECTED-V3.0"
DATA_SET_NAME = "MARS EXPRESS HRSC MAP PROJECTED REFDR V3.0"
DETECTOR_ID = MEX_HRSC_IR
EVENT_TYPE = "MARS-REGIONAL-MAPPING-Vo-Te-Gl"
INSTRUMENT_HOST_ID = MEX
INSTRUMENT_HOST_NAME = "MARS EXPRESS"
INSTRUMENT_ID = HRSC
INSTRUMENT_NAME = "HIGH RESOLUTION STEREO CAMERA"
MISSION_NAME = "MARS EXPRESS"
MISSION_PHASE_NAME = ME_Phase_21
PROCESSING_LEVEL_ID = 3
PRODUCT_CREATION_TIME = 2016-07-13T19:56:48.000Z
PRODUCT_ID = "H8329_0000_IR3.JP2"
RELEASE_ID = 0091
REVISION_ID = 0000
/* QUALITY DATA ELEMENTS */
DATA_QUALITY_ID = 1
DATA_QUALITY_DESC = "Data calculated based on original SPICE kernels"
/* TIME DATA ELEMENTS */
SPACECRAFT_CLOCK_START_COUNT = "1/0226417836.08246"
SPACECRAFT_CLOCK_STOP_COUNT = "1/0226418161.32725"
START_TIME = 2010-07-05T13:52:24.111Z
STOP_TIME = 2010-07-05T13:55:43.133Z
/* ORBITAL DATA ELEMENTS */
ASCENDING_NODE_LONGITUDE = 58.24
MAXIMUM_RESOLUTION = 103.5
FOOTPRINT_POINT_LATITUDE = (12.7519,12.7502,12.7469,12.7421,12.737 ,12.7321,12.9153,13.2635,13.6157, 13.8803,14.0583,14.3259,14.5057,14.6852 ,14.8668,15.1388,15.4139,15.597,15.7823 ,15.9672,16.2468,16.4334,16.6329, 16.9155,17.1058,17.2957,17.4877,17.6794 ,17.8728,18.066,18.2608,18.4559,18.653, 18.85,19.0488,19.3471,19.5475,19.7489, 19.9505,20.1538,20.4594,20.6641,20.8701 ,21.1801,21.4923,21.7013,21.9112, 22.1221,22.3951,22.4041,22.412,22.418, 22.4205,22.4219,22.4218,22.4198,22.4181 ,22.4159,22.2018,21.9905,21.7799, 21.5709,21.2586,21.0513,20.8454,20.5377 ,20.3334,20.1306,19.9283,19.7269, 19.4265,19.2268,19.0286,18.8309,18.6344 ,18.4379,18.243,17.952,17.6624,17.4707, 17.2793,17.0894,16.8993,16.7111,16.511, 16.3245,16.0443,15.767,15.5819,15.3071, 15.1239,14.9425,14.6706,14.4909,14.2211 ,13.9542,13.6004,13.2483,12.8124, 12.7519)
FOOTPRINT_POINT_LONGITUDE = (252.222,251.911,251.517,251.123, 250.791,250.521,250.346,250.328,250.31, 250.296,250.287,250.273,250.264,250.254 ,250.244,250.23,250.215,250.204,250.194 ,250.184,250.168,250.157,250.146,250.13 ,250.118,250.107,250.096,250.084, 250.073,250.061,250.049,250.037,250.025 ,250.013,250.0,249.981,249.969,249.956, 249.943,249.929,249.909,249.895,249.882 ,249.86,249.839,249.824,249.809,249.794 ,249.774,250.153,250.534,250.944, 251.207,251.441,251.91,252.291,252.526, 252.849,252.907,252.897,252.887,252.878 ,252.864,252.854,252.845,252.832, 252.823,252.814,252.806,252.798,252.786 ,252.778,252.77,252.762,252.755,252.747 ,252.74,252.729,252.719,252.712,252.705 ,252.699,252.692,252.686,252.679, 252.673,252.664,252.655,252.65,252.641, 252.636,252.63,252.622,252.617,252.61, 252.602,252.593,252.584,252.572, 252.222)
ORBIT_NUMBER = 8329
ORBITAL_ECCENTRICITY = 0.58
ORBITAL_INCLINATION = 86.81
ORBITAL_SEMIMAJOR_AXIS = 8856.3
PERIAPSIS_ALTITUDE = 327.52
PERIAPSIS_ARGUMENT_ANGLE = 338.8
PERIAPSIS_TIME = 2010-07-05T13:42:32.000Z
SPACECRAFT_ORIENTATION = (0.0,1.0,0.0)
^MEX_ORIENTATION_DESC = "MEX_ORIENTATION_DESC.TXT"
SPACECRAFT_POINTING_MODE = NADIR
^MEX_POINTING_DESC = "MEX_POINTING_DESC.TXT"
RIGHT_ASCENSION = -1e+32
DECLINATION = -1e+32
OFFSET_ANGLE = -1e+32
SPACECRAFT_SOLAR_DISTANCE = 2.42532e+08
TARGET_NAME = MARS
/* CAMERA DATA ELEMENTS */
DETECTOR_TEMPERATURE = 17.1471
FOCAL_PLANE_TEMPERATURE = 7.7677
INST_CMPRS_NAME = "DISCRETE COSINE TRANSFORMATION (DCT)"
INST_CMPRS_RATIO = 14.7829
INST_CMPRS_QUALITY = 0
INST_CMPRS_QUANTZ_TBL_ID = 0
INSTRUMENT_TEMPERATURE = 10.8262
LENS_TEMPERATURE = 8.1755
MACROPIXEL_SIZE = 4
MISSING_FRAMES = 1
PIXEL_SUBSAMPLING_FLAG = N
SIGNAL_CHAIN_ID = 2
/* RADIOMETRIC DATA ELEMENTS */
BANDWIDTH = 81.0
CENTER_FILTER_WAVELENGTH = 955.5
RADIANCE_OFFSET = 0.46737
RADIANCE_SCALING_FACTOR = 0.00309064
REFLECTANCE_SCALING_FACTOR = 0.000392207
MEX:REFLECTANCE_OFFSET = 0.0593099
/* IMAGE OBJECT DEFINITIONS */
OBJECT = IMAGE
  INTERCHANGE_FORMAT = BINARY
  LINES = 5733
  LINE_SAMPLES = 1576
  SAMPLE_TYPE = UNSIGNED_INTEGER
  SAMPLE_BITS = 8
  BANDS = 1
  BAND_STORAGE_TYPE = BAND_SEQUENTIAL
  MAXIMUM = 255
  MEAN = 136.627
  MINIMUM = 6
  STANDARD_DEVIATION = 26.7072
END_OBJECT = IMAGE
/* MAP OBJECT DEFINITIONS */
OBJECT = IMAGE_MAP_PROJECTION
  ^DATA_SET_MAP_PROJECTION_CATALOG= "DSMAP.CAT"
  A_AXIS_RADIUS = 3396.0
  B_AXIS_RADIUS = 3396.0
  C_AXIS_RADIUS = 3396.0
  CENTER_LATITUDE = 0.0
  CENTER_LONGITUDE = 251.0
  COORDINATE_SYSTEM_NAME = PLANETOGRAPHIC
  COORDINATE_SYSTEM_TYPE = "BODY-FIXED ROTATING"
  EASTERNMOST_LONGITUDE = 252.907
  FIRST_STANDARD_PARALLEL = "N/A"
  LINE_FIRST_PIXEL = 1
  LINE_LAST_PIXEL = 5733
  LINE_PROJECTION_OFFSET = 13280.625
  MAP_PROJECTION_ROTATION = 0.0
  MAP_PROJECTION_TYPE = SINUSOIDAL
  MAP_RESOLUTION = 592.713803866667
  MAP_SCALE = 0.1
  MAXIMUM_LATITUDE = 22.4219
  MINIMUM_LATITUDE = 12.7321
  POSITIVE_LONGITUDE_DIRECTION = EAST
  REFERENCE_LATITUDE = "N/A"
  REFERENCE_LONGITUDE = "N/A"
  SAMPLE_FIRST_PIXEL = 1
  SAMPLE_LAST_PIXEL = 1576
  SAMPLE_PROJECTION_OFFSET = 596.625
  SECOND_STANDARD_PARALLEL = "N/A"
  WESTERNMOST_LONGITUDE = 249.774
END_OBJECT = IMAGE_MAP_PROJECTION
/* The JPEG2000 image data file associated with this label. */
OBJECT = COMPRESSED_FILE
  FILE_NAME = "H8329_0000_IR3.JP2"
  RECORD_TYPE = UNDEFINED
  FILE_RECORDS = UNK
  ENCODING_TYPE = "JP2"
  INTERCHANGE_FORMAT = BINARY
  UNCOMPRESSED_FILE_NAME = "H8329_0000_IR3.IMG"
  REQUIRED_STORAGE_BYTES = "9054120"
  ^DESCRIPTION = "JP2INFO.TXT"
END_OBJECT = COMPRESSED_FILE
END
