PDS_VERSION_ID = PDS3
/* FILE DATA ELEMENTS */
RECORD_TYPE = STREAM
/* POINTERS TO DATA OBJECTS */
^COMPRESSED_FILE = "H8321_0000_S23.JP2"
/* IDENTIFICATION DATA ELEMENTS */
DATA_SET_ID = "MEX-M-HRSC-5-REFDR-MAPPROJECTED-V3.0"
DATA_SET_NAME = "MARS EXPRESS HRSC MAP PROJECTED REFDR V3.0"
DETECTOR_ID = MEX_HRSC_S2
EVENT_TYPE = "MARS-REGIONAL-MAPPING-Im"
INSTRUMENT_HOST_ID = MEX
INSTRUMENT_HOST_NAME = "MARS EXPRESS"
INSTRUMENT_ID = HRSC
INSTRUMENT_NAME = "HIGH RESOLUTION STEREO CAMERA"
MISSION_NAME = "MARS EXPRESS"
MISSION_PHASE_NAME = ME_Phase_21
PROCESSING_LEVEL_ID = 3
PRODUCT_CREATION_TIME = 2016-07-13T19:56:48.000Z
PRODUCT_ID = "H8321_0000_S23.JP2"
RELEASE_ID = 0091
REVISION_ID = 0000
/* QUALITY DATA ELEMENTS */
DATA_QUALITY_ID = 1
DATA_QUALITY_DESC = "Data calculated based on original SPICE kernels"
/* TIME DATA ELEMENTS */
SPACECRAFT_CLOCK_START_COUNT = "1/0226216267.08400"
SPACECRAFT_CLOCK_STOP_COUNT = "1/0226216504.12256"
START_TIME = 2010-07-03T05:51:09.655Z
STOP_TIME = 2010-07-03T05:53:08.325Z
/* ORBITAL DATA ELEMENTS */
ASCENDING_NODE_LONGITUDE = 58.4
MAXIMUM_RESOLUTION = 37.9
FOOTPRINT_POINT_LATITUDE = (6.09217,6.09301,6.09417,6.09569, 6.09755,6.0997,6.11967,6.47625,6.69014, 6.9762,7.33743,7.5566,7.70271,7.84819, 7.99379,8.13923,8.28781,8.43639,8.58527 ,8.73681,8.96184,9.11212,9.26583, 9.41783,9.71394,9.8658,10.0192,10.1746, 10.3298,10.4849,10.6397,10.7944,10.9511 ,11.1089,11.2674,11.4251,11.5824, 11.7414,11.9035,12.0646,12.3063,12.4671 ,12.6298,12.7948,13.042,13.2058,13.3706 ,13.5376,13.7881,13.7931,13.7924,13.79, 13.7883,13.7947,13.8005,13.8024,13.8018 ,13.6349,13.4681,13.2187,13.0473,12.793 ,12.6307,12.4674,12.307,12.1472,11.9848 ,11.8238,11.663,11.504,11.3532,11.1965, 11.034,10.7944,10.6394,10.4922,10.3327, 10.1733,10.0192,9.791,9.63728,9.33943, 9.17922,9.02876,8.88092,8.65663,8.50671 ,8.35739,8.2092,8.06197,7.91609,7.77009 ,7.62441,7.40478,7.25849,6.96899, 6.68285,6.39952,6.11323,6.09217)
FOOTPRINT_POINT_LONGITUDE = (350.168,349.927,349.685,349.442, 349.198,348.954,348.803,348.792,348.786 ,348.777,348.765,348.758,348.754, 348.749,348.744,348.74,348.735,348.73, 348.725,348.719,348.711,348.706,348.7, 348.695,348.688,348.682,348.677,348.671 ,348.666,348.66,348.655,348.649,348.643 ,348.638,348.632,348.626,348.621, 348.615,348.608,348.602,348.593,348.587 ,348.581,348.574,348.564,348.557, 348.551,348.544,348.534,348.872,349.022 ,349.228,349.527,349.712,349.992,350.16 ,350.464,350.461,350.459,350.456, 350.452,350.447,350.445,350.443,350.441 ,350.44,350.437,350.436,350.434,350.432 ,350.431,350.43,350.427,350.424,350.422 ,350.422,350.419,350.417,350.416, 350.413,350.411,350.41,350.407,350.405, 350.404,350.402,350.401,350.399,350.398 ,350.397,350.396,350.394,350.393, 350.391,350.39,350.387,350.385,350.383, 350.381,350.168)
ORBIT_NUMBER = 8321
ORBITAL_ECCENTRICITY = 0.579
ORBITAL_INCLINATION = 86.82
ORBITAL_SEMIMAJOR_AXIS = 8845.6
PERIAPSIS_ALTITUDE = 328.59
PERIAPSIS_ARGUMENT_ANGLE = 340.18
PERIAPSIS_TIME = 2010-07-03T05:45:07.000Z
SPACECRAFT_ORIENTATION = (0.0,1.0,0.0)
^MEX_ORIENTATION_DESC = "MEX_ORIENTATION_DESC.TXT"
SPACECRAFT_POINTING_MODE = ACROSSTRACK
^MEX_POINTING_DESC = "MEX_POINTING_DESC.TXT"
RIGHT_ASCENSION = -1e+32
DECLINATION = -1e+32
OFFSET_ANGLE = 0.3
SPACECRAFT_SOLAR_DISTANCE = 2.42839e+08
TARGET_NAME = MARS
/* CAMERA DATA ELEMENTS */
DETECTOR_TEMPERATURE = 18.3705
FOCAL_PLANE_TEMPERATURE = 8.1755
INST_CMPRS_NAME = "DISCRETE COSINE TRANSFORMATION (DCT)"
INST_CMPRS_RATIO = 9.1865
INST_CMPRS_QUALITY = 0
INST_CMPRS_QUANTZ_TBL_ID = 0
INSTRUMENT_TEMPERATURE = 11.0301
LENS_TEMPERATURE = 8.3794
MACROPIXEL_SIZE = 2
MISSING_FRAMES = 0
PIXEL_SUBSAMPLING_FLAG = N
SIGNAL_CHAIN_ID = 1
/* RADIOMETRIC DATA ELEMENTS */
BANDWIDTH = 178.0
CENTER_FILTER_WAVELENGTH = 679.0
RADIANCE_OFFSET = 1.28574
RADIANCE_SCALING_FACTOR = 0.0104531
REFLECTANCE_SCALING_FACTOR = 0.000326447
MEX:REFLECTANCE_OFFSET = 0.040153
/* IMAGE OBJECT DEFINITIONS */
OBJECT = IMAGE
  INTERCHANGE_FORMAT = BINARY
  LINES = 9101
  LINE_SAMPLES = 2444
  SAMPLE_TYPE = UNSIGNED_INTEGER
  SAMPLE_BITS = 8
  BANDS = 1
  BAND_STORAGE_TYPE = BAND_SEQUENTIAL
  MAXIMUM = 255
  MEAN = 84.5412
  MINIMUM = 1
  STANDARD_DEVIATION = 25.3352
END_OBJECT = IMAGE
/* MAP OBJECT DEFINITIONS */
OBJECT = IMAGE_MAP_PROJECTION
  ^DATA_SET_MAP_PROJECTION_CATALOG= "DSMAP.CAT"
  A_AXIS_RADIUS = 3396.0
  B_AXIS_RADIUS = 3396.0
  C_AXIS_RADIUS = 3396.0
  CENTER_LATITUDE = 0.0
  CENTER_LONGITUDE = 350.0
  COORDINATE_SYSTEM_NAME = PLANETOGRAPHIC
  COORDINATE_SYSTEM_TYPE = "BODY-FIXED ROTATING"
  EASTERNMOST_LONGITUDE = 350.464
  FIRST_STANDARD_PARALLEL = "N/A"
  LINE_FIRST_PIXEL = 1
  LINE_LAST_PIXEL = 9101
  LINE_PROJECTION_OFFSET = 16315.25
  MAP_PROJECTION_ROTATION = 0.0
  MAP_PROJECTION_TYPE = SINUSOIDAL
  MAP_RESOLUTION = 1185.42760773333
  MAP_SCALE = 0.05
  MAXIMUM_LATITUDE = 13.8024
  MINIMUM_LATITUDE = 6.09217
  POSITIVE_LONGITUDE_DIRECTION = EAST
  REFERENCE_LATITUDE = "N/A"
  REFERENCE_LONGITUDE = "N/A"
  SAMPLE_FIRST_PIXEL = 1
  SAMPLE_LAST_PIXEL = 2444
  SAMPLE_PROJECTION_OFFSET = 1803.75
  SECOND_STANDARD_PARALLEL = "N/A"
  WESTERNMOST_LONGITUDE = 348.534
END_OBJECT = IMAGE_MAP_PROJECTION
/* The JPEG2000 image data file associated with this label. */
OBJECT = COMPRESSED_FILE
  FILE_NAME = "H8321_0000_S23.JP2"
  RECORD_TYPE = UNDEFINED
  FILE_RECORDS = UNK
  ENCODING_TYPE = "JP2"
  INTERCHANGE_FORMAT = BINARY
  UNCOMPRESSED_FILE_NAME = "H8321_0000_S23.IMG"
  REQUIRED_STORAGE_BYTES = "22262396"
  ^DESCRIPTION = "JP2INFO.TXT"
END_OBJECT = COMPRESSED_FILE
END
