PDS_VERSION_ID = PDS3
/* FILE DATA ELEMENTS */
RECORD_TYPE = STREAM
/* POINTERS TO DATA OBJECTS */
^COMPRESSED_FILE = "H8319_0000_S23.JP2"
/* IDENTIFICATION DATA ELEMENTS */
DATA_SET_ID = "MEX-M-HRSC-5-REFDR-MAPPROJECTED-V3.0"
DATA_SET_NAME = "MARS EXPRESS HRSC MAP PROJECTED REFDR V3.0"
DETECTOR_ID = MEX_HRSC_S2
EVENT_TYPE = "MARS-REGIONAL-MAPPING-Vo-Im"
INSTRUMENT_HOST_ID = MEX
INSTRUMENT_HOST_NAME = "MARS EXPRESS"
INSTRUMENT_ID = HRSC
INSTRUMENT_NAME = "HIGH RESOLUTION STEREO CAMERA"
MISSION_NAME = "MARS EXPRESS"
MISSION_PHASE_NAME = ME_Phase_21
PROCESSING_LEVEL_ID = 3
PRODUCT_CREATION_TIME = 2016-07-13T19:56:48.000Z
PRODUCT_ID = "H8319_0000_S23.JP2"
RELEASE_ID = 0091
REVISION_ID = 0000
/* QUALITY DATA ELEMENTS */
DATA_QUALITY_ID = 1
DATA_QUALITY_DESC = "Data calculated based on original SPICE kernels"
/* TIME DATA ELEMENTS */
SPACECRAFT_CLOCK_START_COUNT = "1/0226166118.09120"
SPACECRAFT_CLOCK_STOP_COUNT = "1/0226166679.52739"
START_TIME = 2010-07-02T15:55:20.717Z
STOP_TIME = 2010-07-02T15:59:57.108Z
/* ORBITAL DATA ELEMENTS */
ASCENDING_NODE_LONGITUDE = 58.43
MAXIMUM_RESOLUTION = 52.2
FOOTPRINT_POINT_LATITUDE = (19.8929,19.8881,19.8843,19.8808, 19.8774,19.8741,20.1957,20.7512,21.3148 ,21.8851,22.1731,22.4635,22.7551, 23.0494,23.3449,23.6432,23.9425,24.2455 ,24.7028,25.0096,25.32,25.7888,26.2623, 26.7415,27.226,27.5515,27.8805,28.2112, 28.544,28.8804,29.2192,29.5601,29.9037, 30.2505,30.6,30.9518,31.3064,31.6644, 32.0252,32.3888,32.7554,33.1251,33.4976 ,33.8732,34.2521,34.6339,35.0194, 35.4082,35.8006,36.1963,36.4136,36.4187 ,36.4223,36.4261,36.4271,36.4257, 36.0289,35.6353,35.245,34.8584,34.475, 34.0948,33.7176,33.3437,32.9723,32.6041 ,32.2394,31.878,31.5189,31.1625,30.809, 30.4583,30.1107,29.7658,29.4231,29.0829 ,28.746,28.4114,28.0787,27.7496,27.2596 ,26.775,26.296,25.9791,25.6645,25.3531, 25.0426,24.7356,24.4299,24.1267,23.6759 ,23.3773,23.082,22.7873,22.4957,21.9166 ,21.346,20.7827,20.3668,19.8929)
FOOTPRINT_POINT_LONGITUDE = (195.128,194.689,194.338,193.988, 193.637,193.285,193.162,193.135,193.108 ,193.079,193.065,193.05,193.035,193.02, 193.005,192.989,192.973,192.957,192.932 ,192.915,192.898,192.872,192.845, 192.817,192.789,192.77,192.75,192.73, 192.709,192.689,192.668,192.646,192.624 ,192.602,192.579,192.556,192.532, 192.508,192.484,192.459,192.433,192.407 ,192.38,192.353,192.325,192.297,192.268 ,192.239,192.209,192.178,192.825, 193.449,194.073,194.97,195.594,196.194, 196.167,196.14,196.114,196.089,196.065, 196.041,196.018,195.996,195.975,195.954 ,195.934,195.915,195.896,195.878,195.86 ,195.843,195.826,195.81,195.794,195.779 ,195.764,195.749,195.735,195.722, 195.702,195.683,195.665,195.653,195.642 ,195.631,195.62,195.61,195.6,195.59, 195.576,195.566,195.557,195.549,195.54, 195.523,195.508,195.493,195.483, 195.128)
ORBIT_NUMBER = 8319
ORBITAL_ECCENTRICITY = 0.579
ORBITAL_INCLINATION = 86.83
ORBITAL_SEMIMAJOR_AXIS = 8844.3
PERIAPSIS_ALTITUDE = 328.61
PERIAPSIS_ARGUMENT_ANGLE = 340.54
PERIAPSIS_TIME = 2010-07-02T15:45:48.000Z
SPACECRAFT_ORIENTATION = (0.0,1.0,0.0)
^MEX_ORIENTATION_DESC = "MEX_ORIENTATION_DESC.TXT"
SPACECRAFT_POINTING_MODE = NADIR
^MEX_POINTING_DESC = "MEX_POINTING_DESC.TXT"
RIGHT_ASCENSION = -1e+32
DECLINATION = -1e+32
OFFSET_ANGLE = -1e+32
SPACECRAFT_SOLAR_DISTANCE = 2.42915e+08
TARGET_NAME = MARS
/* CAMERA DATA ELEMENTS */
DETECTOR_TEMPERATURE = 18.3705
FOCAL_PLANE_TEMPERATURE = 7.5638
INST_CMPRS_NAME = "DISCRETE COSINE TRANSFORMATION (DCT)"
INST_CMPRS_RATIO = 12.1022
INST_CMPRS_QUALITY = 0
INST_CMPRS_QUANTZ_TBL_ID = 0
INSTRUMENT_TEMPERATURE = 10.8262
LENS_TEMPERATURE = 7.9716
MACROPIXEL_SIZE = 2
MISSING_FRAMES = 0
PIXEL_SUBSAMPLING_FLAG = N
SIGNAL_CHAIN_ID = 1
/* RADIOMETRIC DATA ELEMENTS */
BANDWIDTH = 178.0
CENTER_FILTER_WAVELENGTH = 679.0
RADIANCE_OFFSET = 2.3441
RADIANCE_SCALING_FACTOR = 0.00871503
REFLECTANCE_SCALING_FACTOR = 0.000272336
MEX:REFLECTANCE_OFFSET = 0.0732509
/* IMAGE OBJECT DEFINITIONS */
OBJECT = IMAGE
  INTERCHANGE_FORMAT = BINARY
  LINES = 19569
  LINE_SAMPLES = 4377
  SAMPLE_TYPE = UNSIGNED_INTEGER
  SAMPLE_BITS = 8
  BANDS = 1
  BAND_STORAGE_TYPE = BAND_SEQUENTIAL
  MAXIMUM = 255
  MEAN = 119.219
  MINIMUM = 1
  STANDARD_DEVIATION = 33.0213
END_OBJECT = IMAGE
/* MAP OBJECT DEFINITIONS */
OBJECT = IMAGE_MAP_PROJECTION
  ^DATA_SET_MAP_PROJECTION_CATALOG= "DSMAP.CAT"
  A_AXIS_RADIUS = 3396.0
  B_AXIS_RADIUS = 3396.0
  C_AXIS_RADIUS = 3396.0
  CENTER_LATITUDE = 0.0
  CENTER_LONGITUDE = 194.0
  COORDINATE_SYSTEM_NAME = PLANETOGRAPHIC
  COORDINATE_SYSTEM_TYPE = "BODY-FIXED ROTATING"
  EASTERNMOST_LONGITUDE = 196.194
  FIRST_STANDARD_PARALLEL = "N/A"
  LINE_FIRST_PIXEL = 1
  LINE_LAST_PIXEL = 19569
  LINE_PROJECTION_OFFSET = 43125.25
  MAP_PROJECTION_ROTATION = 0.0
  MAP_PROJECTION_TYPE = SINUSOIDAL
  MAP_RESOLUTION = 1185.42760773333
  MAP_SCALE = 0.05
  MAXIMUM_LATITUDE = 36.4271
  MINIMUM_LATITUDE = 19.8741
  POSITIVE_LONGITUDE_DIRECTION = EAST
  REFERENCE_LATITUDE = "N/A"
  REFERENCE_LONGITUDE = "N/A"
  SAMPLE_FIRST_PIXEL = 1
  SAMPLE_LAST_PIXEL = 4377
  SAMPLE_PROJECTION_OFFSET = 1999.25
  SECOND_STANDARD_PARALLEL = "N/A"
  WESTERNMOST_LONGITUDE = 192.178
END_OBJECT = IMAGE_MAP_PROJECTION
/* The JPEG2000 image data file associated with this label. */
OBJECT = COMPRESSED_FILE
  FILE_NAME = "H8319_0000_S23.JP2"
  RECORD_TYPE = UNDEFINED
  FILE_RECORDS = UNK
  ENCODING_TYPE = "JP2"
  INTERCHANGE_FORMAT = BINARY
  UNCOMPRESSED_FILE_NAME = "H8319_0000_S23.IMG"
  REQUIRED_STORAGE_BYTES = "85679775"
  ^DESCRIPTION = "JP2INFO.TXT"
END_OBJECT = COMPRESSED_FILE
END
