PDS_VERSION_ID = PDS3
/* FILE DATA ELEMENTS */
RECORD_TYPE = STREAM
/* POINTERS TO DATA OBJECTS */
^COMPRESSED_FILE = "H8312_0000_BL3.JP2"
/* IDENTIFICATION DATA ELEMENTS */
DATA_SET_ID = "MEX-M-HRSC-5-REFDR-MAPPROJECTED-V3.0"
DATA_SET_NAME = "MARS EXPRESS HRSC MAP PROJECTED REFDR V3.0"
DETECTOR_ID = MEX_HRSC_BLUE
EVENT_TYPE = "MARS-REGIONAL-MAPPING-Im-Fl"
INSTRUMENT_HOST_ID = MEX
INSTRUMENT_HOST_NAME = "MARS EXPRESS"
INSTRUMENT_ID = HRSC
INSTRUMENT_NAME = "HIGH RESOLUTION STEREO CAMERA"
MISSION_NAME = "MARS EXPRESS"
MISSION_PHASE_NAME = ME_Phase_21
PROCESSING_LEVEL_ID = 3
PRODUCT_CREATION_TIME = 2016-07-13T15:54:20.000Z
PRODUCT_ID = "H8312_0000_BL3.JP2"
RELEASE_ID = 0090
REVISION_ID = 0000
/* QUALITY DATA ELEMENTS */
DATA_QUALITY_ID = 1
DATA_QUALITY_DESC = "Data calculated based on original SPICE kernels"
/* TIME DATA ELEMENTS */
SPACECRAFT_CLOCK_START_COUNT = "1/0225989772.08256"
SPACECRAFT_CLOCK_STOP_COUNT = "1/0225990364.49218"
START_TIME = 2010-06-30T14:56:58.664Z
STOP_TIME = 2010-06-30T15:03:08.139Z
/* ORBITAL DATA ELEMENTS */
ASCENDING_NODE_LONGITUDE = 58.56
MAXIMUM_RESOLUTION = 91.9
FOOTPRINT_POINT_LATITUDE = (15.8154,15.8111,15.8101,16.4572, 16.9482,17.6124,18.1169,18.4563,18.799, 19.3172,19.8416,20.3725,20.9099,21.2708 ,21.6362,22.0043,22.375,22.7487,23.1264 ,23.5069,23.8908,24.2777,24.668,25.0621 ,25.4597,25.861,26.266,26.6745,27.0865, 27.5027,27.9226,28.3466,28.7745,29.2064 ,29.6427,30.0835,30.5283,30.9774, 31.4307,31.8889,32.3517,32.8188,33.2911 ,33.7681,34.25,34.7372,35.229,35.7262, 35.7568,35.7708,35.7774,35.7793,35.7784 ,35.7759,35.2743,34.7825,34.2954, 33.8134,33.3363,32.8638,32.3967,31.9337 ,31.4752,31.0217,30.5724,30.1273, 29.6863,29.2495,28.8174,28.3891,27.9648 ,27.5445,27.128,26.7156,26.3065,25.9012 ,25.4994,25.1014,24.707,24.3165,23.9291 ,23.5448,23.1637,22.7855,22.4116, 22.0404,21.6717,21.3059,20.9446,20.4066 ,19.8751,19.3499,19.003,18.6587,18.3179 ,17.643,16.9781,16.486,15.8385,15.8154)
FOOTPRINT_POINT_LONGITUDE = (190.181,189.567,188.607,188.576, 188.553,188.52,188.495,188.478,188.459, 188.432,188.404,188.375,188.345,188.325 ,188.304,188.282,188.261,188.238, 188.216,188.193,188.169,188.144,188.119 ,188.094,188.068,188.041,188.014, 187.986,187.957,187.928,187.898,187.867 ,187.836,187.803,187.77,187.736,187.702 ,187.666,187.629,187.592,187.553, 187.513,187.473,187.431,187.388,187.343 ,187.298,187.251,187.722,188.669, 189.453,190.077,190.7,191.165,191.416, 191.384,191.353,191.324,191.295,191.268 ,191.242,191.217,191.193,191.17,191.148 ,191.127,191.106,191.087,191.068,191.05 ,191.032,191.015,190.999,190.983, 190.968,190.954,190.94,190.926,190.913, 190.9,190.888,190.876,190.865,190.854, 190.844,190.833,190.823,190.814,190.805 ,190.791,190.779,190.767,190.759, 190.751,190.744,190.73,190.718,190.708, 190.697,190.181)
ORBIT_NUMBER = 8312
ORBITAL_ECCENTRICITY = 0.579
ORBITAL_INCLINATION = 86.83
ORBITAL_SEMIMAJOR_AXIS = 8845.2
PERIAPSIS_ALTITUDE = 329.07
PERIAPSIS_ARGUMENT_ANGLE = 341.74
PERIAPSIS_TIME = 2010-06-30T14:48:06.000Z
SPACECRAFT_ORIENTATION = (0.0,1.0,0.0)
^MEX_ORIENTATION_DESC = "MEX_ORIENTATION_DESC.TXT"
SPACECRAFT_POINTING_MODE = ACROSSTRACK
^MEX_POINTING_DESC = "MEX_POINTING_DESC.TXT"
RIGHT_ASCENSION = -1e+32
DECLINATION = -1e+32
OFFSET_ANGLE = 0.74
SPACECRAFT_SOLAR_DISTANCE = 2.43177e+08
TARGET_NAME = MARS
/* CAMERA DATA ELEMENTS */
DETECTOR_TEMPERATURE = 17.9627
FOCAL_PLANE_TEMPERATURE = 7.5638
INST_CMPRS_NAME = "DISCRETE COSINE TRANSFORMATION (DCT)"
INST_CMPRS_RATIO = 9.26515
INST_CMPRS_QUALITY = 0
INST_CMPRS_QUANTZ_TBL_ID = 0
INSTRUMENT_TEMPERATURE = 10.8262
LENS_TEMPERATURE = 7.9716
MACROPIXEL_SIZE = 4
MISSING_FRAMES = 0
PIXEL_SUBSAMPLING_FLAG = N
SIGNAL_CHAIN_ID = 2
/* RADIOMETRIC DATA ELEMENTS */
BANDWIDTH = 76.0
CENTER_FILTER_WAVELENGTH = 444.0
RADIANCE_OFFSET = 0.329182
RADIANCE_SCALING_FACTOR = 0.00123712
REFLECTANCE_SCALING_FACTOR = 7.51644e-05
MEX:REFLECTANCE_OFFSET = 0.0200003
/* IMAGE OBJECT DEFINITIONS */
OBJECT = IMAGE
  INTERCHANGE_FORMAT = BINARY
  LINES = 11846
  LINE_SAMPLES = 2101
  SAMPLE_TYPE = UNSIGNED_INTEGER
  SAMPLE_BITS = 8
  BANDS = 1
  BAND_STORAGE_TYPE = BAND_SEQUENTIAL
  MAXIMUM = 255
  MEAN = 115.14
  MINIMUM = 1
  STANDARD_DEVIATION = 25.6336
END_OBJECT = IMAGE
/* MAP OBJECT DEFINITIONS */
OBJECT = IMAGE_MAP_PROJECTION
  ^DATA_SET_MAP_PROJECTION_CATALOG= "DSMAP.CAT"
  A_AXIS_RADIUS = 3396.0
  B_AXIS_RADIUS = 3396.0
  C_AXIS_RADIUS = 3396.0
  CENTER_LATITUDE = 0.0
  CENTER_LONGITUDE = 190.0
  COORDINATE_SYSTEM_NAME = PLANETOGRAPHIC
  COORDINATE_SYSTEM_TYPE = "BODY-FIXED ROTATING"
  EASTERNMOST_LONGITUDE = 191.416
  FIRST_STANDARD_PARALLEL = "N/A"
  LINE_FIRST_PIXEL = 1
  LINE_LAST_PIXEL = 11846
  LINE_PROJECTION_OFFSET = 21203.375
  MAP_PROJECTION_ROTATION = 0.0
  MAP_PROJECTION_TYPE = SINUSOIDAL
  MAP_RESOLUTION = 592.713803866667
  MAP_SCALE = 0.1
  MAXIMUM_LATITUDE = 35.7793
  MINIMUM_LATITUDE = 15.8101
  POSITIVE_LONGITUDE_DIRECTION = EAST
  REFERENCE_LATITUDE = "N/A"
  REFERENCE_LONGITUDE = "N/A"
  SAMPLE_FIRST_PIXEL = 1
  SAMPLE_LAST_PIXEL = 2101
  SAMPLE_PROJECTION_OFFSET = 1375.375
  SECOND_STANDARD_PARALLEL = "N/A"
  WESTERNMOST_LONGITUDE = 187.251
END_OBJECT = IMAGE_MAP_PROJECTION
/* The JPEG2000 image data file associated with this label. */
OBJECT = COMPRESSED_FILE
  FILE_NAME = "H8312_0000_BL3.JP2"
  RECORD_TYPE = UNDEFINED
  FILE_RECORDS = UNK
  ENCODING_TYPE = "JP2"
  INTERCHANGE_FORMAT = BINARY
  UNCOMPRESSED_FILE_NAME = "H8312_0000_BL3.IMG"
  REQUIRED_STORAGE_BYTES = "24909456"
  ^DESCRIPTION = "JP2INFO.TXT"
END_OBJECT = COMPRESSED_FILE
END
