PDS_VERSION_ID = PDS3
/* FILE DATA ELEMENTS */
RECORD_TYPE = STREAM
/* POINTERS TO DATA OBJECTS */
^COMPRESSED_FILE = "H8301_0000_S23.JP2"
/* IDENTIFICATION DATA ELEMENTS */
DATA_SET_ID = "MEX-M-HRSC-5-REFDR-MAPPROJECTED-V3.0"
DATA_SET_NAME = "MARS EXPRESS HRSC MAP PROJECTED REFDR V3.0"
DETECTOR_ID = MEX_HRSC_S2
EVENT_TYPE = "MARS-REGIONAL-MAPPING-Vo"
INSTRUMENT_HOST_ID = MEX
INSTRUMENT_HOST_NAME = "MARS EXPRESS"
INSTRUMENT_ID = HRSC
INSTRUMENT_NAME = "HIGH RESOLUTION STEREO CAMERA"
MISSION_NAME = "MARS EXPRESS"
MISSION_PHASE_NAME = ME_Phase_21
PROCESSING_LEVEL_ID = 3
PRODUCT_CREATION_TIME = 2016-07-13T15:54:20.000Z
PRODUCT_ID = "H8301_0000_S23.JP2"
RELEASE_ID = 0090
REVISION_ID = 0000
/* QUALITY DATA ELEMENTS */
DATA_QUALITY_ID = 1
DATA_QUALITY_DESC = "Data calculated based on original SPICE kernels"
/* TIME DATA ELEMENTS */
SPACECRAFT_CLOCK_START_COUNT = "1/0225712790.09128"
SPACECRAFT_CLOCK_STOP_COUNT = "1/0225713200.46876"
START_TIME = 2010-06-27T09:59:52.724Z
STOP_TIME = 2010-06-27T10:03:24.597Z
/* ORBITAL DATA ELEMENTS */
ASCENDING_NODE_LONGITUDE = 58.78
MAXIMUM_RESOLUTION = 45.4
FOOTPRINT_POINT_LATITUDE = (17.5731,17.5696,17.5645,17.5619, 17.5594,17.67,18.1447,18.3844,18.6228, 18.8663,19.2351,19.603,19.8506,20.0979, 20.4748,20.7262,21.1085,21.3638,21.6214 ,21.881,22.1404,22.4039,22.667,23.0664, 23.3332,23.6035,23.8743,24.1476,24.4222 ,24.8335,25.1075,25.3804,25.7891,26.061 ,26.4682,26.7384,27.0088,27.2789,27.684 ,27.9535,28.3572,28.7603,29.0282, 29.4297,29.6963,30.096,30.3621,30.6278, 30.6871,30.6892,30.6905,30.6919,30.693, 30.6936,30.6936,30.4285,30.1628,29.7635 ,29.497,29.2299,28.9625,28.6947,28.4261 ,28.1575,27.7538,27.4843,27.2142, 26.9438,26.5376,26.2667,25.9951,25.7232 ,25.4508,25.1781,24.905,24.6313,24.3572 ,24.0831,23.8115,23.5412,23.1391, 22.7387,22.4757,22.0818,21.8228,21.4346 ,21.0518,20.7967,20.5453,20.2936, 19.9202,19.6725,19.4256,19.1821,18.9384 ,18.6956,18.4562,18.2165,17.9773, 17.5731)
FOOTPRINT_POINT_LONGITUDE = (236.542,236.2,235.667,235.363,235.059, 234.669,234.65,234.64,234.631,234.621, 234.604,234.589,234.579,234.568,234.552 ,234.541,234.524,234.513,234.502,234.49 ,234.478,234.466,234.454,234.436, 234.423,234.411,234.398,234.385,234.372 ,234.351,234.338,234.324,234.304,234.29 ,234.27,234.256,234.242,234.228,234.207 ,234.192,234.17,234.148,234.133,234.111 ,234.096,234.073,234.058,234.042, 234.419,234.858,235.18,235.588,236.173, 236.64,237.06,237.047,237.035,237.016, 237.004,236.992,236.981,236.97,236.958, 236.947,236.931,236.92,236.91,236.9, 236.885,236.875,236.865,236.856,236.847 ,236.837,236.828,236.819,236.811, 236.802,236.794,236.786,236.774,236.762 ,236.755,236.744,236.737,236.726, 236.716,236.71,236.704,236.697,236.689, 236.683,236.677,236.672,236.666,236.661 ,236.656,236.651,236.646,236.542)
ORBIT_NUMBER = 8301
ORBITAL_ECCENTRICITY = 0.58
ORBITAL_INCLINATION = 86.83
ORBITAL_SEMIMAJOR_AXIS = 8859.7
PERIAPSIS_ALTITUDE = 329.13
PERIAPSIS_ARGUMENT_ANGLE = 343.6
PERIAPSIS_TIME = 2010-06-27T09:51:46.000Z
SPACECRAFT_ORIENTATION = (0.0,1.0,0.0)
^MEX_ORIENTATION_DESC = "MEX_ORIENTATION_DESC.TXT"
SPACECRAFT_POINTING_MODE = NADIR
^MEX_POINTING_DESC = "MEX_POINTING_DESC.TXT"
RIGHT_ASCENSION = -1e+32
DECLINATION = -1e+32
OFFSET_ANGLE = -1e+32
SPACECRAFT_SOLAR_DISTANCE = 2.43579e+08
TARGET_NAME = MARS
/* CAMERA DATA ELEMENTS */
DETECTOR_TEMPERATURE = 18.5744
FOCAL_PLANE_TEMPERATURE = 8.1755
INST_CMPRS_NAME = "DISCRETE COSINE TRANSFORMATION (DCT)"
INST_CMPRS_RATIO = 9.14621
INST_CMPRS_QUALITY = 0
INST_CMPRS_QUANTZ_TBL_ID = 0
INSTRUMENT_TEMPERATURE = 11.234
LENS_TEMPERATURE = 8.5833
MACROPIXEL_SIZE = 2
MISSING_FRAMES = 0
PIXEL_SUBSAMPLING_FLAG = N
SIGNAL_CHAIN_ID = 1
/* RADIOMETRIC DATA ELEMENTS */
BANDWIDTH = 178.0
CENTER_FILTER_WAVELENGTH = 679.0
RADIANCE_OFFSET = 1.88237
RADIANCE_SCALING_FACTOR = 0.0165743
REFLECTANCE_SCALING_FACTOR = 0.000520767
MEX:REFLECTANCE_OFFSET = 0.0591443
/* IMAGE OBJECT DEFINITIONS */
OBJECT = IMAGE
  INTERCHANGE_FORMAT = BINARY
  LINES = 15580
  LINE_SAMPLES = 3488
  SAMPLE_TYPE = UNSIGNED_INTEGER
  SAMPLE_BITS = 8
  BANDS = 1
  BAND_STORAGE_TYPE = BAND_SEQUENTIAL
  MAXIMUM = 255
  MEAN = 84.1636
  MINIMUM = 1
  STANDARD_DEVIATION = 18.7646
END_OBJECT = IMAGE
/* MAP OBJECT DEFINITIONS */
OBJECT = IMAGE_MAP_PROJECTION
  ^DATA_SET_MAP_PROJECTION_CATALOG= "DSMAP.CAT"
  A_AXIS_RADIUS = 3396.0
  B_AXIS_RADIUS = 3396.0
  C_AXIS_RADIUS = 3396.0
  CENTER_LATITUDE = 0.0
  CENTER_LONGITUDE = 236.0
  COORDINATE_SYSTEM_NAME = PLANETOGRAPHIC
  COORDINATE_SYSTEM_TYPE = "BODY-FIXED ROTATING"
  EASTERNMOST_LONGITUDE = 237.06
  FIRST_STANDARD_PARALLEL = "N/A"
  LINE_FIRST_PIXEL = 1
  LINE_LAST_PIXEL = 15580
  LINE_PROJECTION_OFFSET = 36398.75
  MAP_PROJECTION_ROTATION = 0.0
  MAP_PROJECTION_TYPE = SINUSOIDAL
  MAP_RESOLUTION = 1185.42760773333
  MAP_SCALE = 0.05
  MAXIMUM_LATITUDE = 30.6936
  MINIMUM_LATITUDE = 17.5594
  POSITIVE_LONGITUDE_DIRECTION = EAST
  REFERENCE_LATITUDE = "N/A"
  REFERENCE_LONGITUDE = "N/A"
  SAMPLE_FIRST_PIXEL = 1
  SAMPLE_LAST_PIXEL = 3488
  SAMPLE_PROJECTION_OFFSET = 2193.25
  SECOND_STANDARD_PARALLEL = "N/A"
  WESTERNMOST_LONGITUDE = 234.042
END_OBJECT = IMAGE_MAP_PROJECTION
/* The JPEG2000 image data file associated with this label. */
OBJECT = COMPRESSED_FILE
  FILE_NAME = "H8301_0000_S23.JP2"
  RECORD_TYPE = UNDEFINED
  FILE_RECORDS = UNK
  ENCODING_TYPE = "JP2"
  INTERCHANGE_FORMAT = BINARY
  UNCOMPRESSED_FILE_NAME = "H8301_0000_S23.IMG"
  REQUIRED_STORAGE_BYTES = "54363968"
  ^DESCRIPTION = "JP2INFO.TXT"
END_OBJECT = COMPRESSED_FILE
END
