PDS_VERSION_ID = PDS3
/* FILE DATA ELEMENTS */
RECORD_TYPE = STREAM
/* POINTERS TO DATA OBJECTS */
^COMPRESSED_FILE = "H8290_0000_IR3.JP2"
/* IDENTIFICATION DATA ELEMENTS */
DATA_SET_ID = "MEX-M-HRSC-5-REFDR-MAPPROJECTED-V3.0"
DATA_SET_NAME = "MARS EXPRESS HRSC MAP PROJECTED REFDR V3.0"
DETECTOR_ID = MEX_HRSC_IR
EVENT_TYPE = "MARS-REGIONAL-MAPPING-Vo-Te"
INSTRUMENT_HOST_ID = MEX
INSTRUMENT_HOST_NAME = "MARS EXPRESS"
INSTRUMENT_ID = HRSC
INSTRUMENT_NAME = "HIGH RESOLUTION STEREO CAMERA"
MISSION_NAME = "MARS EXPRESS"
MISSION_PHASE_NAME = ME_Phase_20
PROCESSING_LEVEL_ID = 3
PRODUCT_CREATION_TIME = 2016-07-13T15:54:20.000Z
PRODUCT_ID = "H8290_0000_IR3.JP2"
RELEASE_ID = 0090
REVISION_ID = 0000
/* QUALITY DATA ELEMENTS */
DATA_QUALITY_ID = 1
DATA_QUALITY_DESC = "Data calculated based on original SPICE kernels"
/* TIME DATA ELEMENTS */
SPACECRAFT_CLOCK_START_COUNT = "1/0225435998.09139"
SPACECRAFT_CLOCK_STOP_COUNT = "1/0225436528.30835"
START_TIME = 2010-06-24T05:09:13.152Z
STOP_TIME = 2010-06-24T05:14:48.418Z
/* ORBITAL DATA ELEMENTS */
ASCENDING_NODE_LONGITUDE = 58.98
MAXIMUM_RESOLUTION = 140.7
FOOTPRINT_POINT_LATITUDE = (29.16,29.1717,29.1804,29.186,29.1886, 29.1881,29.4064,29.8801,30.358,30.963, 31.453,31.8234,32.3197,32.8228,33.2034, 33.5876,33.9732,34.2328,34.4935,34.7549 ,35.1497,35.4145,35.6826,36.0802, 36.3508,36.6212,36.8941,37.1674,37.4425 ,37.7201,38.0003,38.282,38.7017,38.9904 ,39.2762,39.5625,39.8513,40.2873, 40.5803,40.8738,41.1697,41.467,41.7654, 42.0654,42.3668,42.5338,42.5365,42.536, 42.5323,42.5276,42.5175,42.51,42.4944, 42.4785,42.4602,42.442,42.4125,42.2247, 41.9276,41.6319,41.3383,41.0453,40.754, 40.4642,40.1764,39.8891,39.5958,39.3191 ,39.0351,38.7537,38.3315,38.0523, 37.7752,37.5015,37.228,36.8193,36.5488, 36.2796,36.0114,35.745,35.4771,35.2128, 34.8184,34.5548,34.2944,34.0361,33.7789 ,33.5232,33.269,33.016,32.7643,32.5137, 32.016,31.5232,31.0356,30.5526,30.074, 29.5996,29.1307,29.16)
FOOTPRINT_POINT_LONGITUDE = (282.242,281.738,281.236,280.736, 280.268,279.706,279.459,279.426,279.391 ,279.347,279.311,279.282,279.243, 279.203,279.172,279.141,279.108,279.086 ,279.064,279.041,279.005,278.982, 278.958,278.919,278.894,278.867,278.841 ,278.814,278.786,278.759,278.731, 278.702,278.657,278.628,278.598,278.566 ,278.534,278.485,278.451,278.417, 278.382,278.346,278.309,278.272,278.233 ,278.492,278.89,279.515,279.912,280.423 ,280.878,281.276,281.788,282.244,282.7, 283.1,283.671,284.294,284.246,284.198, 284.152,284.107,284.063,284.02,283.977, 283.936,283.9,283.857,283.82,283.783, 283.73,283.695,283.661,283.627,283.594, 283.546,283.515,283.485,283.456,283.427 ,283.4,283.372,283.332,283.308,283.283, 283.258,283.233,283.209,283.186,283.163 ,283.14,283.118,283.076,283.035,282.996 ,282.958,282.922,282.887,282.853, 282.242)
ORBIT_NUMBER = 8290
ORBITAL_ECCENTRICITY = 0.579
ORBITAL_INCLINATION = 86.82
ORBITAL_SEMIMAJOR_AXIS = 8858.5
PERIAPSIS_ALTITUDE = 330.24
PERIAPSIS_ARGUMENT_ANGLE = 345.55
PERIAPSIS_TIME = 2010-06-24T04:55:59.000Z
SPACECRAFT_ORIENTATION = (0.0,1.0,0.0)
^MEX_ORIENTATION_DESC = "MEX_ORIENTATION_DESC.TXT"
SPACECRAFT_POINTING_MODE = ACROSSTRACK
^MEX_POINTING_DESC = "MEX_POINTING_DESC.TXT"
RIGHT_ASCENSION = -1e+32
DECLINATION = -1e+32
OFFSET_ANGLE = -0.43
SPACECRAFT_SOLAR_DISTANCE = 2.43969e+08
TARGET_NAME = MARS
/* CAMERA DATA ELEMENTS */
DETECTOR_TEMPERATURE = 17.351
FOCAL_PLANE_TEMPERATURE = 7.9716
INST_CMPRS_NAME = "DISCRETE COSINE TRANSFORMATION (DCT)"
INST_CMPRS_RATIO = 4.38818
INST_CMPRS_QUALITY = 0
INST_CMPRS_QUANTZ_TBL_ID = 0
INSTRUMENT_TEMPERATURE = 10.6223
LENS_TEMPERATURE = 8.3794
MACROPIXEL_SIZE = 4
MISSING_FRAMES = 0
PIXEL_SUBSAMPLING_FLAG = N
SIGNAL_CHAIN_ID = 2
/* RADIOMETRIC DATA ELEMENTS */
BANDWIDTH = 81.0
CENTER_FILTER_WAVELENGTH = 955.5
RADIANCE_OFFSET = 0.256204
RADIANCE_SCALING_FACTOR = 0.00639116
REFLECTANCE_SCALING_FACTOR = 0.00082068
MEX:REFLECTANCE_OFFSET = 0.0328989
/* IMAGE OBJECT DEFINITIONS */
OBJECT = IMAGE
  INTERCHANGE_FORMAT = BINARY
  LINES = 7920
  LINE_SAMPLES = 2266
  SAMPLE_TYPE = UNSIGNED_INTEGER
  SAMPLE_BITS = 8
  BANDS = 1
  BAND_STORAGE_TYPE = BAND_SEQUENTIAL
  MAXIMUM = 255
  MEAN = 82.6448
  MINIMUM = 1
  STANDARD_DEVIATION = 21.597
END_OBJECT = IMAGE
/* MAP OBJECT DEFINITIONS */
OBJECT = IMAGE_MAP_PROJECTION
  ^DATA_SET_MAP_PROJECTION_CATALOG= "DSMAP.CAT"
  A_AXIS_RADIUS = 3396.0
  B_AXIS_RADIUS = 3396.0
  C_AXIS_RADIUS = 3396.0
  CENTER_LATITUDE = 0.0
  CENTER_LONGITUDE = 281.0
  COORDINATE_SYSTEM_NAME = PLANETOGRAPHIC
  COORDINATE_SYSTEM_TYPE = "BODY-FIXED ROTATING"
  EASTERNMOST_LONGITUDE = 284.294
  FIRST_STANDARD_PARALLEL = "N/A"
  LINE_FIRST_PIXEL = 1
  LINE_LAST_PIXEL = 7920
  LINE_PROJECTION_OFFSET = 25194.625
  MAP_PROJECTION_ROTATION = 0.0
  MAP_PROJECTION_TYPE = SINUSOIDAL
  MAP_RESOLUTION = 592.713803866667
  MAP_SCALE = 0.1
  MAXIMUM_LATITUDE = 42.5365
  MINIMUM_LATITUDE = 29.1307
  POSITIVE_LONGITUDE_DIRECTION = EAST
  REFERENCE_LATITUDE = "N/A"
  REFERENCE_LONGITUDE = "N/A"
  SAMPLE_FIRST_PIXEL = 1
  SAMPLE_LAST_PIXEL = 2266
  SAMPLE_PROJECTION_OFFSET = 1010.125
  SECOND_STANDARD_PARALLEL = "N/A"
  WESTERNMOST_LONGITUDE = 278.233
END_OBJECT = IMAGE_MAP_PROJECTION
/* The JPEG2000 image data file associated with this label. */
OBJECT = COMPRESSED_FILE
  FILE_NAME = "H8290_0000_IR3.JP2"
  RECORD_TYPE = UNDEFINED
  FILE_RECORDS = UNK
  ENCODING_TYPE = "JP2"
  INTERCHANGE_FORMAT = BINARY
  UNCOMPRESSED_FILE_NAME = "H8290_0000_IR3.IMG"
  REQUIRED_STORAGE_BYTES = "17969380"
  ^DESCRIPTION = "JP2INFO.TXT"
END_OBJECT = COMPRESSED_FILE
END
