PDS_VERSION_ID = PDS3
/* FILE DATA ELEMENTS */
RECORD_TYPE = STREAM
/* POINTERS TO DATA OBJECTS */
^COMPRESSED_FILE = "H8272_0000_S13.JP2"
/* IDENTIFICATION DATA ELEMENTS */
DATA_SET_ID = "MEX-M-HRSC-5-REFDR-MAPPROJECTED-V3.0"
DATA_SET_NAME = "MARS EXPRESS HRSC MAP PROJECTED REFDR V3.0"
DETECTOR_ID = MEX_HRSC_S1
EVENT_TYPE = "MARS-REGIONAL-MAPPING-Fl-Eo-Ot"
INSTRUMENT_HOST_ID = MEX
INSTRUMENT_HOST_NAME = "MARS EXPRESS"
INSTRUMENT_ID = HRSC
INSTRUMENT_NAME = "HIGH RESOLUTION STEREO CAMERA"
MISSION_NAME = "MARS EXPRESS"
MISSION_PHASE_NAME = ME_Phase_20
PROCESSING_LEVEL_ID = 3
PRODUCT_CREATION_TIME = 2016-07-13T15:54:20.000Z
PRODUCT_ID = "H8272_0000_S13.JP2"
RELEASE_ID = 0090
REVISION_ID = 0000
/* QUALITY DATA ELEMENTS */
DATA_QUALITY_ID = 1
DATA_QUALITY_DESC = "Data calculated based on original SPICE kernels"
/* TIME DATA ELEMENTS */
SPACECRAFT_CLOCK_START_COUNT = "1/0224982868.08232"
SPACECRAFT_CLOCK_STOP_COUNT = "1/0224983604.63237"
START_TIME = 2010-06-18T23:17:51.250Z
STOP_TIME = 2010-06-18T23:26:45.410Z
/* ORBITAL DATA ELEMENTS */
ASCENDING_NODE_LONGITUDE = 59.34
MAXIMUM_RESOLUTION = 84.1
FOOTPRINT_POINT_LATITUDE = (35.9552,35.9659,35.9729,35.9737, 35.9686,35.8802,36.4899,37.107,37.7344, 38.3681,39.0081,39.6569,40.313,40.9759, 41.6473,41.9857,42.326,42.6679,43.0125, 43.3592,43.7074,44.057,44.4099,44.7638, 45.1201,45.4786,45.8398,46.2012,46.5652 ,46.9313,47.2998,47.6704,48.0431, 48.4173,48.7933,49.1711,49.5483,49.9208 ,50.2889,50.6531,51.0128,51.3684, 51.7198,52.0672,52.4105,52.7495,53.0845 ,53.1539,53.1654,53.169,53.1641,53.1519 ,53.1323,53.1054,53.0657,53.0284, 52.9846,52.9282,52.8635,52.7965,52.1473 ,51.8164,51.4809,51.141,50.7967,50.4481 ,50.0947,49.7384,49.376,49.0089,48.6394 ,48.2719,47.9055,47.541,47.1782,46.8176 ,46.4583,46.0998,45.7436,45.3897, 45.0369,44.6861,44.3363,43.9897,43.6442 ,43.3006,42.9585,42.6183,42.2802, 41.6095,40.9456,40.2883,39.6383,38.9953 ,38.3593,37.7304,37.1083,36.4938, 35.8859,35.9552)
FOOTPRINT_POINT_LONGITUDE = (322.834,322.26,321.563,320.908,320.251 ,319.593,319.533,319.47,319.405,319.337 ,319.266,319.192,319.113,319.031, 318.945,318.901,318.855,318.807,318.759 ,318.71,318.659,318.606,318.553,318.497 ,318.441,318.382,318.322,318.26,318.196 ,318.131,318.063,317.994,317.922, 317.848,317.772,317.693,317.612,317.53, 317.446,317.362,317.276,317.189,317.1, 317.01,316.919,316.826,316.732,317.629, 318.441,319.251,320.06,320.867,321.672, 322.477,323.382,324.085,324.786,325.587 ,326.387,327.122,326.909,326.805, 326.702,326.601,326.501,326.402,326.305 ,326.208,326.114,326.021,325.929, 325.841,325.755,325.672,325.592,325.514 ,325.438,325.365,325.294,325.225, 325.158,325.093,325.03,324.969,324.91, 324.852,324.796,324.741,324.689,324.587 ,324.492,324.402,324.316,324.235, 324.159,324.087,324.018,323.953,323.891 ,322.834)
ORBIT_NUMBER = 8272
ORBITAL_ECCENTRICITY = 0.579
ORBITAL_INCLINATION = 86.84
ORBITAL_SEMIMAJOR_AXIS = 8849.75
PERIAPSIS_ALTITUDE = 331.66
PERIAPSIS_ARGUMENT_ANGLE = 348.67
PERIAPSIS_TIME = 2010-06-18T23:02:48.000Z
SPACECRAFT_ORIENTATION = (0.0,1.0,0.0)
^MEX_ORIENTATION_DESC = "MEX_ORIENTATION_DESC.TXT"
SPACECRAFT_POINTING_MODE = NADIR
^MEX_POINTING_DESC = "MEX_POINTING_DESC.TXT"
RIGHT_ASCENSION = -1e+32
DECLINATION = -1e+32
OFFSET_ANGLE = -1e+32
SPACECRAFT_SOLAR_DISTANCE = 2.44579e+08
TARGET_NAME = MARS
/* CAMERA DATA ELEMENTS */
DETECTOR_TEMPERATURE = 17.1471
FOCAL_PLANE_TEMPERATURE = 7.5638
INST_CMPRS_NAME = "DISCRETE COSINE TRANSFORMATION (DCT)"
INST_CMPRS_RATIO = 10.0191
INST_CMPRS_QUALITY = 0
INST_CMPRS_QUANTZ_TBL_ID = 0
INSTRUMENT_TEMPERATURE = 9.195
LENS_TEMPERATURE = 7.9716
MACROPIXEL_SIZE = 2
MISSING_FRAMES = 0
PIXEL_SUBSAMPLING_FLAG = N
SIGNAL_CHAIN_ID = 1
/* RADIOMETRIC DATA ELEMENTS */
BANDWIDTH = 180.0
CENTER_FILTER_WAVELENGTH = 677.0
RADIANCE_OFFSET = 1.0135
RADIANCE_SCALING_FACTOR = 0.0101674
REFLECTANCE_SCALING_FACTOR = 0.000317311
MEX:REFLECTANCE_OFFSET = 0.0316302
/* IMAGE OBJECT DEFINITIONS */
OBJECT = IMAGE
  INTERCHANGE_FORMAT = BINARY
  LINES = 20488
  LINE_SAMPLES = 5560
  SAMPLE_TYPE = UNSIGNED_INTEGER
  SAMPLE_BITS = 8
  BANDS = 1
  BAND_STORAGE_TYPE = BAND_SEQUENTIAL
  MAXIMUM = 255
  MEAN = 75.9962
  MINIMUM = 1
  STANDARD_DEVIATION = 18.7411
END_OBJECT = IMAGE
/* MAP OBJECT DEFINITIONS */
OBJECT = IMAGE_MAP_PROJECTION
  ^DATA_SET_MAP_PROJECTION_CATALOG= "DSMAP.CAT"
  A_AXIS_RADIUS = 3396.0
  B_AXIS_RADIUS = 3396.0
  C_AXIS_RADIUS = 3396.0
  CENTER_LATITUDE = 0.0
  CENTER_LONGITUDE = 322.0
  COORDINATE_SYSTEM_NAME = PLANETOGRAPHIC
  COORDINATE_SYSTEM_TYPE = "BODY-FIXED ROTATING"
  EASTERNMOST_LONGITUDE = 327.122
  FIRST_STANDARD_PARALLEL = "N/A"
  LINE_FIRST_PIXEL = 1
  LINE_LAST_PIXEL = 20488
  LINE_PROJECTION_OFFSET = 63038.25
  MAP_PROJECTION_ROTATION = 0.0
  MAP_PROJECTION_TYPE = SINUSOIDAL
  MAP_RESOLUTION = 1185.42760773333
  MAP_SCALE = 0.05
  MAXIMUM_LATITUDE = 53.169
  MINIMUM_LATITUDE = 35.8802
  POSITIVE_LONGITUDE_DIRECTION = EAST
  REFERENCE_LATITUDE = "N/A"
  REFERENCE_LONGITUDE = "N/A"
  SAMPLE_FIRST_PIXEL = 1
  SAMPLE_LAST_PIXEL = 5560
  SAMPLE_PROJECTION_OFFSET = 2666.75
  SECOND_STANDARD_PARALLEL = "N/A"
  WESTERNMOST_LONGITUDE = 316.732
END_OBJECT = IMAGE_MAP_PROJECTION
/* The JPEG2000 image data file associated with this label. */
OBJECT = COMPRESSED_FILE
  FILE_NAME = "H8272_0000_S13.JP2"
  RECORD_TYPE = UNDEFINED
  FILE_RECORDS = UNK
  ENCODING_TYPE = "JP2"
  INTERCHANGE_FORMAT = BINARY
  UNCOMPRESSED_FILE_NAME = "H8272_0000_S13.IMG"
  REQUIRED_STORAGE_BYTES = "113941080"
  ^DESCRIPTION = "JP2INFO.TXT"
END_OBJECT = COMPRESSED_FILE
END
