PDS_VERSION_ID = PDS3
/* FILE DATA ELEMENTS */
RECORD_TYPE = STREAM
/* POINTERS TO DATA OBJECTS */
^COMPRESSED_FILE = "H8247_0000_BL3.JP2"
/* IDENTIFICATION DATA ELEMENTS */
DATA_SET_ID = "MEX-M-HRSC-5-REFDR-MAPPROJECTED-V3.0"
DATA_SET_NAME = "MARS EXPRESS HRSC MAP PROJECTED REFDR V3.0"
DETECTOR_ID = MEX_HRSC_BLUE
EVENT_TYPE = "MARS-REGIONAL-MAPPING-Im-Pf-Eo"
INSTRUMENT_HOST_ID = MEX
INSTRUMENT_HOST_NAME = "MARS EXPRESS"
INSTRUMENT_ID = HRSC
INSTRUMENT_NAME = "HIGH RESOLUTION STEREO CAMERA"
MISSION_NAME = "MARS EXPRESS"
MISSION_PHASE_NAME = ME_Phase_20
PROCESSING_LEVEL_ID = 3
PRODUCT_CREATION_TIME = 2016-07-13T15:54:20.000Z
PRODUCT_ID = "H8247_0000_BL3.JP2"
RELEASE_ID = 0090
REVISION_ID = 0000
/* QUALITY DATA ELEMENTS */
DATA_QUALITY_ID = 1
DATA_QUALITY_DESC = "Data calculated based on original SPICE kernels"
/* TIME DATA ELEMENTS */
SPACECRAFT_CLOCK_START_COUNT = "1/0224353456.08274"
SPACECRAFT_CLOCK_STOP_COUNT = "1/0224354086.50188"
START_TIME = 2010-06-11T16:25:29.853Z
STOP_TIME = 2010-06-11T16:30:17.093Z
/* ORBITAL DATA ELEMENTS */
ASCENDING_NODE_LONGITUDE = 59.82
MAXIMUM_RESOLUTION = 130.4
FOOTPRINT_POINT_LATITUDE = (41.225,41.2351,41.2419,41.2485,41.2516 ,41.2513,41.6256,42.1067,42.5928, 43.0847,43.7065,44.21,44.7186,45.2328, 45.7525,46.0146,46.2779,46.5431,46.8101 ,47.0783,47.3479,47.619,47.8915,48.1658 ,48.4414,48.7187,48.9976,49.2783, 49.5606,49.8446,50.1301,50.4173,50.7062 ,50.9969,51.2894,51.5834,51.8791, 52.1766,52.476,52.7772,53.0805,53.3854, 53.6923,54.0007,54.3114,54.624,54.9384, 55.126,55.1244,55.1205,55.1089,55.0894, 55.0769,55.0627,55.0418,55.0149,54.9747 ,54.7946,54.4852,54.1774,53.8713, 53.5673,53.2648,52.9641,52.6648,52.3674 ,52.0717,51.778,51.4859,51.1953,50.9062 ,50.6187,50.3329,50.0487,49.7661,49.485 ,49.2055,48.9275,48.6511,48.3762,48.103 ,47.8311,47.5609,47.2919,47.0242, 46.7583,46.4935,46.2302,45.9688,45.7085 ,45.192,44.6813,44.1758,43.6753,43.0572 ,42.5679,42.084,41.6054,41.249,41.225)
FOOTPRINT_POINT_LONGITUDE = (360.378,359.839,359.372,358.725, 358.151,357.323,356.968,356.936,356.904 ,356.87,356.827,356.791,356.754,356.716 ,356.678,356.658,356.637,356.617, 356.596,356.574,356.553,356.531,356.509 ,356.486,356.463,356.439,356.416, 356.391,356.366,356.341,356.315,356.29, 356.263,356.236,356.208,356.18,356.152, 356.122,356.093,356.062,356.032,356.0, 355.968,355.935,355.902,355.868,355.833 ,356.5,357.194,357.748,358.646,359.611, 360.094,360.577,361.197,361.886,362.781 ,363.175,363.096,363.018,362.943,362.87 ,362.799,362.729,362.662,362.597, 362.533,362.471,362.411,362.353,362.296 ,362.24,362.186,362.133,362.081,362.031 ,361.982,361.935,361.888,361.843, 361.798,361.755,361.713,361.672,361.631 ,361.592,361.554,361.517,361.48,361.444 ,361.375,361.309,361.246,361.185, 361.114,361.059,361.006,360.956,360.919 ,360.378)
ORBIT_NUMBER = 8247
ORBITAL_ECCENTRICITY = 0.579
ORBITAL_INCLINATION = 86.82
ORBITAL_SEMIMAJOR_AXIS = 8856.4
PERIAPSIS_ALTITUDE = 333.69
PERIAPSIS_ARGUMENT_ANGLE = 352.99
PERIAPSIS_TIME = 2010-06-11T16:12:19.000Z
SPACECRAFT_ORIENTATION = (0.0,1.0,0.0)
^MEX_ORIENTATION_DESC = "MEX_ORIENTATION_DESC.TXT"
SPACECRAFT_POINTING_MODE = NADIR
^MEX_POINTING_DESC = "MEX_POINTING_DESC.TXT"
RIGHT_ASCENSION = -1e+32
DECLINATION = -1e+32
OFFSET_ANGLE = -1e+32
SPACECRAFT_SOLAR_DISTANCE = 2.45369e+08
TARGET_NAME = MARS
/* CAMERA DATA ELEMENTS */
DETECTOR_TEMPERATURE = 18.1666
FOCAL_PLANE_TEMPERATURE = 7.7677
INST_CMPRS_NAME = "DISCRETE COSINE TRANSFORMATION (DCT)"
INST_CMPRS_RATIO = 11.0928
INST_CMPRS_QUALITY = 0
INST_CMPRS_QUANTZ_TBL_ID = 0
INSTRUMENT_TEMPERATURE = 12.0496
LENS_TEMPERATURE = 8.1755
MACROPIXEL_SIZE = 4
MISSING_FRAMES = 0
PIXEL_SUBSAMPLING_FLAG = N
SIGNAL_CHAIN_ID = 2
/* RADIOMETRIC DATA ELEMENTS */
BANDWIDTH = 76.0
CENTER_FILTER_WAVELENGTH = 444.0
RADIANCE_OFFSET = 0.201096
RADIANCE_SCALING_FACTOR = 0.0011702
REFLECTANCE_SCALING_FACTOR = 7.23856e-05
MEX:REFLECTANCE_OFFSET = 0.0124393
/* IMAGE OBJECT DEFINITIONS */
OBJECT = IMAGE
  INTERCHANGE_FORMAT = BINARY
  LINES = 8244
  LINE_SAMPLES = 2596
  SAMPLE_TYPE = UNSIGNED_INTEGER
  SAMPLE_BITS = 8
  BANDS = 1
  BAND_STORAGE_TYPE = BAND_SEQUENTIAL
  MAXIMUM = 255
  MEAN = 99.9911
  MINIMUM = 1
  STANDARD_DEVIATION = 19.5109
END_OBJECT = IMAGE
/* MAP OBJECT DEFINITIONS */
OBJECT = IMAGE_MAP_PROJECTION
  ^DATA_SET_MAP_PROJECTION_CATALOG= "DSMAP.CAT"
  A_AXIS_RADIUS = 3396.0
  B_AXIS_RADIUS = 3396.0
  C_AXIS_RADIUS = 3396.0
  CENTER_LATITUDE = 0.0
  CENTER_LONGITUDE = 359.0
  COORDINATE_SYSTEM_NAME = PLANETOGRAPHIC
  COORDINATE_SYSTEM_TYPE = "BODY-FIXED ROTATING"
  EASTERNMOST_LONGITUDE = 3.175
  FIRST_STANDARD_PARALLEL = "N/A"
  LINE_FIRST_PIXEL = 1
  LINE_LAST_PIXEL = 8244
  LINE_PROJECTION_OFFSET = 32666.375
  MAP_PROJECTION_ROTATION = 0.0
  MAP_PROJECTION_TYPE = SINUSOIDAL
  MAP_RESOLUTION = 592.713803866667
  MAP_SCALE = 0.1
  MAXIMUM_LATITUDE = 55.126
  MINIMUM_LATITUDE = 41.225
  POSITIVE_LONGITUDE_DIRECTION = EAST
  REFERENCE_LATITUDE = "N/A"
  REFERENCE_LONGITUDE = "N/A"
  SAMPLE_FIRST_PIXEL = 1
  SAMPLE_LAST_PIXEL = 2596
  SAMPLE_PROJECTION_OFFSET = 1137.875
  SECOND_STANDARD_PARALLEL = "N/A"
  WESTERNMOST_LONGITUDE = -4.167
END_OBJECT = IMAGE_MAP_PROJECTION
/* The JPEG2000 image data file associated with this label. */
OBJECT = COMPRESSED_FILE
  FILE_NAME = "H8247_0000_BL3.JP2"
  RECORD_TYPE = UNDEFINED
  FILE_RECORDS = UNK
  ENCODING_TYPE = "JP2"
  INTERCHANGE_FORMAT = BINARY
  UNCOMPRESSED_FILE_NAME = "H8247_0000_BL3.IMG"
  REQUIRED_STORAGE_BYTES = "21422192"
  ^DESCRIPTION = "JP2INFO.TXT"
END_OBJECT = COMPRESSED_FILE
END
