PDS_VERSION_ID = PDS3
/* FILE DATA ELEMENTS */
RECORD_TYPE = STREAM
/* POINTERS TO DATA OBJECTS */
^COMPRESSED_FILE = "H8241_0000_S23.JP2"
/* IDENTIFICATION DATA ELEMENTS */
DATA_SET_ID = "MEX-M-HRSC-5-REFDR-MAPPROJECTED-V3.0"
DATA_SET_NAME = "MARS EXPRESS HRSC MAP PROJECTED REFDR V3.0"
DETECTOR_ID = MEX_HRSC_S2
EVENT_TYPE = "MARS-REGIONAL-MAPPING-Vo-Te-Fl"
INSTRUMENT_HOST_ID = MEX
INSTRUMENT_HOST_NAME = "MARS EXPRESS"
INSTRUMENT_ID = HRSC
INSTRUMENT_NAME = "HIGH RESOLUTION STEREO CAMERA"
MISSION_NAME = "MARS EXPRESS"
MISSION_PHASE_NAME = ME_Phase_20
PROCESSING_LEVEL_ID = 3
PRODUCT_CREATION_TIME = 2016-07-13T15:54:20.000Z
PRODUCT_ID = "H8241_0000_S23.JP2"
RELEASE_ID = 0090
REVISION_ID = 0000
/* QUALITY DATA ELEMENTS */
DATA_QUALITY_ID = 1
DATA_QUALITY_DESC = "Data calculated based on original SPICE kernels"
/* TIME DATA ELEMENTS */
SPACECRAFT_CLOCK_START_COUNT = "1/0224202413.07299"
SPACECRAFT_CLOCK_STOP_COUNT = "1/0224203208.61825"
START_TIME = 2010-06-09T22:26:55.613Z
STOP_TIME = 2010-06-09T22:32:00.913Z
/* ORBITAL DATA ELEMENTS */
ASCENDING_NODE_LONGITUDE = 59.94
MAXIMUM_RESOLUTION = 68.3
FOOTPRINT_POINT_LATITUDE = (44.1148,44.1217,44.1302,44.136,44.1402 ,44.1426,44.3128,44.8846,45.6188, 46.3634,46.8174,47.4305,48.0487,48.8295 ,49.3053,49.6228,49.943,50.2658,50.5907 ,50.9183,51.2482,51.5799,51.9135,52.25, 52.589,52.9305,53.2747,53.6211,53.9698, 54.3214,54.6753,55.0322,55.392,55.7544, 56.119,56.4864,56.8571,57.2304,57.6066, 57.9862,58.3678,58.7536,59.1419,59.5328 ,59.9275,60.3245,60.7253,61.1294, 61.1685,61.163,61.1534,61.1424,61.1151, 61.0973,61.0769,61.0445,60.9966,60.9622 ,60.5658,60.1722,59.7817,59.3931, 59.0081,58.6254,58.245,57.8692,57.4958, 57.1243,56.7555,56.3894,56.0259,55.6641 ,55.3064,54.9508,54.5975,54.2468, 53.8981,53.5528,53.2097,52.8684,52.5295 ,52.1932,51.8591,51.5284,51.1998, 50.8734,50.5485,50.2261,49.9052,49.5871 ,49.2716,48.6448,48.0253,47.4132,46.81, 46.0637,45.4721,44.8913,44.3166, 44.1148)
FOOTPRINT_POINT_LONGITUDE = (254.309,253.855,253.175,252.57,251.966 ,251.361,250.76,250.726,250.678,250.629 ,250.598,250.555,250.512,250.457, 250.423,250.401,250.378,250.354,250.33, 250.306,250.281,250.256,250.23,250.204, 250.177,250.149,250.121,250.093,250.063 ,250.034,250.003,249.972,249.94,249.907 ,249.874,249.839,249.804,249.768, 249.732,249.693,249.655,249.615,249.574 ,249.532,249.489,249.445,249.399, 249.352,250.547,251.232,252.002,252.684 ,253.962,254.644,255.325,256.26,257.45, 258.159,258.016,257.879,257.748,257.621 ,257.499,257.382,257.268,257.16,257.056 ,256.955,256.858,256.764,256.673, 256.585,256.501,256.419,256.34,256.264, 256.189,256.118,256.049,255.982,255.917 ,255.853,255.792,255.733,255.676, 255.621,255.567,255.514,255.463,255.414 ,255.366,255.273,255.185,255.101, 255.022,254.928,254.855,254.788,254.723 ,254.309)
ORBIT_NUMBER = 8241
ORBITAL_ECCENTRICITY = 0.58
ORBITAL_INCLINATION = 86.81
ORBITAL_SEMIMAJOR_AXIS = 8872.64
PERIAPSIS_ALTITUDE = 333.45
PERIAPSIS_ARGUMENT_ANGLE = 354.03
PERIAPSIS_TIME = 2010-06-09T22:14:23.000Z
SPACECRAFT_ORIENTATION = (0.0,1.0,0.0)
^MEX_ORIENTATION_DESC = "MEX_ORIENTATION_DESC.TXT"
SPACECRAFT_POINTING_MODE = NADIR
^MEX_POINTING_DESC = "MEX_POINTING_DESC.TXT"
RIGHT_ASCENSION = -1e+32
DECLINATION = -1e+32
OFFSET_ANGLE = -1e+32
SPACECRAFT_SOLAR_DISTANCE = 2.45548e+08
TARGET_NAME = MARS
/* CAMERA DATA ELEMENTS */
DETECTOR_TEMPERATURE = 18.5744
FOCAL_PLANE_TEMPERATURE = 6.7482
INST_CMPRS_NAME = "DISCRETE COSINE TRANSFORMATION (DCT)"
INST_CMPRS_RATIO = 9.52672
INST_CMPRS_QUALITY = 0
INST_CMPRS_QUANTZ_TBL_ID = 0
INSTRUMENT_TEMPERATURE = 11.0301
LENS_TEMPERATURE = 8.1755
MACROPIXEL_SIZE = 2
MISSING_FRAMES = 0
PIXEL_SUBSAMPLING_FLAG = N
SIGNAL_CHAIN_ID = 1
/* RADIOMETRIC DATA ELEMENTS */
BANDWIDTH = 178.0
CENTER_FILTER_WAVELENGTH = 679.0
RADIANCE_OFFSET = 0.880799
RADIANCE_SCALING_FACTOR = 0.017764
REFLECTANCE_SCALING_FACTOR = 0.000567208
MEX:REFLECTANCE_OFFSET = 0.028124
/* IMAGE OBJECT DEFINITIONS */
OBJECT = IMAGE
  INTERCHANGE_FORMAT = BINARY
  LINES = 20148
  LINE_SAMPLES = 5903
  SAMPLE_TYPE = UNSIGNED_INTEGER
  SAMPLE_BITS = 8
  BANDS = 1
  BAND_STORAGE_TYPE = BAND_SEQUENTIAL
  MAXIMUM = 255
  MEAN = 97.8333
  MINIMUM = 1
  STANDARD_DEVIATION = 15.5665
END_OBJECT = IMAGE
/* MAP OBJECT DEFINITIONS */
OBJECT = IMAGE_MAP_PROJECTION
  ^DATA_SET_MAP_PROJECTION_CATALOG= "DSMAP.CAT"
  A_AXIS_RADIUS = 3396.0
  B_AXIS_RADIUS = 3396.0
  C_AXIS_RADIUS = 3396.0
  CENTER_LATITUDE = 0.0
  CENTER_LONGITUDE = 253.0
  COORDINATE_SYSTEM_NAME = PLANETOGRAPHIC
  COORDINATE_SYSTEM_TYPE = "BODY-FIXED ROTATING"
  EASTERNMOST_LONGITUDE = 258.159
  FIRST_STANDARD_PARALLEL = "N/A"
  LINE_FIRST_PIXEL = 1
  LINE_LAST_PIXEL = 20148
  LINE_PROJECTION_OFFSET = 72499.25
  MAP_PROJECTION_ROTATION = 0.0
  MAP_PROJECTION_TYPE = SINUSOIDAL
  MAP_RESOLUTION = 1185.42760773333
  MAP_SCALE = 0.05
  MAXIMUM_LATITUDE = 61.1685
  MINIMUM_LATITUDE = 44.1148
  POSITIVE_LONGITUDE_DIRECTION = EAST
  REFERENCE_LATITUDE = "N/A"
  REFERENCE_LONGITUDE = "N/A"
  SAMPLE_FIRST_PIXEL = 1
  SAMPLE_LAST_PIXEL = 5903
  SAMPLE_PROJECTION_OFFSET = 2467.25
  SECOND_STANDARD_PARALLEL = "N/A"
  WESTERNMOST_LONGITUDE = 249.352
END_OBJECT = IMAGE_MAP_PROJECTION
/* The JPEG2000 image data file associated with this label. */
OBJECT = COMPRESSED_FILE
  FILE_NAME = "H8241_0000_S23.JP2"
  RECORD_TYPE = UNDEFINED
  FILE_RECORDS = UNK
  ENCODING_TYPE = "JP2"
  INTERCHANGE_FORMAT = BINARY
  UNCOMPRESSED_FILE_NAME = "H8241_0000_S23.IMG"
  REQUIRED_STORAGE_BYTES = "118963159"
  ^DESCRIPTION = "JP2INFO.TXT"
END_OBJECT = COMPRESSED_FILE
END
