PDS_VERSION_ID = PDS3
/* FILE DATA ELEMENTS */
RECORD_TYPE = STREAM
/* POINTERS TO DATA OBJECTS */
^COMPRESSED_FILE = "H8241_0000_S13.JP2"
/* IDENTIFICATION DATA ELEMENTS */
DATA_SET_ID = "MEX-M-HRSC-5-REFDR-MAPPROJECTED-V3.0"
DATA_SET_NAME = "MARS EXPRESS HRSC MAP PROJECTED REFDR V3.0"
DETECTOR_ID = MEX_HRSC_S1
EVENT_TYPE = "MARS-REGIONAL-MAPPING-Vo-Te-Fl"
INSTRUMENT_HOST_ID = MEX
INSTRUMENT_HOST_NAME = "MARS EXPRESS"
INSTRUMENT_ID = HRSC
INSTRUMENT_NAME = "HIGH RESOLUTION STEREO CAMERA"
MISSION_NAME = "MARS EXPRESS"
MISSION_PHASE_NAME = ME_Phase_20
PROCESSING_LEVEL_ID = 3
PRODUCT_CREATION_TIME = 2016-07-13T15:54:20.000Z
PRODUCT_ID = "H8241_0000_S13.JP2"
RELEASE_ID = 0090
REVISION_ID = 0000
/* QUALITY DATA ELEMENTS */
DATA_QUALITY_ID = 1
DATA_QUALITY_DESC = "Data calculated based on original SPICE kernels"
/* TIME DATA ELEMENTS */
SPACECRAFT_CLOCK_START_COUNT = "1/0224202413.07299"
SPACECRAFT_CLOCK_STOP_COUNT = "1/0224203208.61825"
START_TIME = 2010-06-09T22:30:42.907Z
STOP_TIME = 2010-06-09T22:40:09.626Z
/* ORBITAL DATA ELEMENTS */
ASCENDING_NODE_LONGITUDE = 59.94
MAXIMUM_RESOLUTION = 92
FOOTPRINT_POINT_LATITUDE = (44.239,44.268,44.2922,44.302,44.3032, 44.27,44.6378,45.0061,45.3732,45.7424, 46.1157,46.4901,46.8684,47.2485,47.6326 ,48.0192,48.4092,48.8006,49.1893, 49.5737,49.9557,50.3331,50.7076,51.0781 ,51.4451,51.8083,52.1675,52.5236, 52.8763,53.2251,53.5703,53.9124,54.2509 ,54.5865,54.918,55.2463,55.5713,55.8926 ,56.5261,57.1473,57.755,58.3502,58.933, 59.5036,60.0627,60.6105,61.1469,61.1764 ,61.1842,61.1805,61.1652,61.1374, 61.0986,61.0403,60.9767,60.9017,60.8143 ,60.7114,60.6498,60.5481,60.1516, 59.6392,59.1145,58.577,58.0261,57.4622, 56.8846,56.294,55.688,55.069,54.7539, 54.4357,54.1138,53.7884,53.4588,53.1253 ,52.7883,52.4476,52.1033,51.7548, 51.4028,51.046,50.6855,50.3212,49.9532, 49.5809,49.2053,48.8256,48.2495,47.8653 ,47.4832,47.1037,46.7259,46.3518,45.979 ,45.611,45.0611,44.699,44.3368,44.239)
FOOTPRINT_POINT_LONGITUDE = (254.338,253.521,252.5,251.683,250.863, 250.066,250.024,249.98,249.934,249.885, 249.836,249.785,249.733,249.68,249.625, 249.568,249.511,249.451,249.391,249.33, 249.269,249.206,249.142,249.078,249.012 ,248.945,248.877,248.809,248.739, 248.668,248.595,248.522,248.447,248.371 ,248.294,248.216,248.136,248.055, 247.889,247.717,247.54,247.356,247.167, 246.971,246.768,246.559,246.343,247.587 ,248.698,249.806,250.911,252.012, 253.109,254.34,255.431,256.516,257.596, 258.672,259.34,260.274,260.245,259.97, 259.702,259.44,259.184,258.934,258.691, 258.453,258.222,257.997,257.887,257.779 ,257.672,257.566,257.462,257.36,257.259 ,257.16,257.062,256.966,256.871,256.778 ,256.687,256.597,256.508,256.421, 256.335,256.251,256.127,256.047,255.97, 255.896,255.823,255.753,255.686,255.619 ,255.524,255.463,255.404,254.338)
ORBIT_NUMBER = 8241
ORBITAL_ECCENTRICITY = 0.58
ORBITAL_INCLINATION = 86.81
ORBITAL_SEMIMAJOR_AXIS = 8872.64
PERIAPSIS_ALTITUDE = 333.45
PERIAPSIS_ARGUMENT_ANGLE = 354.03
PERIAPSIS_TIME = 2010-06-09T22:14:23.000Z
SPACECRAFT_ORIENTATION = (0.0,1.0,0.0)
^MEX_ORIENTATION_DESC = "MEX_ORIENTATION_DESC.TXT"
SPACECRAFT_POINTING_MODE = NADIR
^MEX_POINTING_DESC = "MEX_POINTING_DESC.TXT"
RIGHT_ASCENSION = -1e+32
DECLINATION = -1e+32
OFFSET_ANGLE = -1e+32
SPACECRAFT_SOLAR_DISTANCE = 2.45548e+08
TARGET_NAME = MARS
/* CAMERA DATA ELEMENTS */
DETECTOR_TEMPERATURE = 17.1471
FOCAL_PLANE_TEMPERATURE = 6.7482
INST_CMPRS_NAME = "DISCRETE COSINE TRANSFORMATION (DCT)"
INST_CMPRS_RATIO = 9.54111
INST_CMPRS_QUALITY = 0
INST_CMPRS_QUANTZ_TBL_ID = 0
INSTRUMENT_TEMPERATURE = 11.0301
LENS_TEMPERATURE = 8.1755
MACROPIXEL_SIZE = 2
MISSING_FRAMES = 0
PIXEL_SUBSAMPLING_FLAG = N
SIGNAL_CHAIN_ID = 1
/* RADIOMETRIC DATA ELEMENTS */
BANDWIDTH = 180.0
CENTER_FILTER_WAVELENGTH = 677.0
RADIANCE_OFFSET = 1.00656
RADIANCE_SCALING_FACTOR = 0.0177031
REFLECTANCE_SCALING_FACTOR = 0.000556878
MEX:REFLECTANCE_OFFSET = 0.031663
/* IMAGE OBJECT DEFINITIONS */
OBJECT = IMAGE
  INTERCHANGE_FORMAT = BINARY
  LINES = 20148
  LINE_SAMPLES = 5903
  SAMPLE_TYPE = UNSIGNED_INTEGER
  SAMPLE_BITS = 8
  BANDS = 1
  BAND_STORAGE_TYPE = BAND_SEQUENTIAL
  MAXIMUM = 255
  MEAN = 93.9481
  MINIMUM = 1
  STANDARD_DEVIATION = 16.663
END_OBJECT = IMAGE
/* MAP OBJECT DEFINITIONS */
OBJECT = IMAGE_MAP_PROJECTION
  ^DATA_SET_MAP_PROJECTION_CATALOG= "DSMAP.CAT"
  A_AXIS_RADIUS = 3396.0
  B_AXIS_RADIUS = 3396.0
  C_AXIS_RADIUS = 3396.0
  CENTER_LATITUDE = 0.0
  CENTER_LONGITUDE = 253.0
  COORDINATE_SYSTEM_NAME = PLANETOGRAPHIC
  COORDINATE_SYSTEM_TYPE = "BODY-FIXED ROTATING"
  EASTERNMOST_LONGITUDE = 260.274
  FIRST_STANDARD_PARALLEL = "N/A"
  LINE_FIRST_PIXEL = 1
  LINE_LAST_PIXEL = 20148
  LINE_PROJECTION_OFFSET = 72499.25
  MAP_PROJECTION_ROTATION = 0.0
  MAP_PROJECTION_TYPE = SINUSOIDAL
  MAP_RESOLUTION = 1185.42760773333
  MAP_SCALE = 0.05
  MAXIMUM_LATITUDE = 61.1842
  MINIMUM_LATITUDE = 44.239
  POSITIVE_LONGITUDE_DIRECTION = EAST
  REFERENCE_LATITUDE = "N/A"
  REFERENCE_LONGITUDE = "N/A"
  SAMPLE_FIRST_PIXEL = 1
  SAMPLE_LAST_PIXEL = 5903
  SAMPLE_PROJECTION_OFFSET = 2467.25
  SECOND_STANDARD_PARALLEL = "N/A"
  WESTERNMOST_LONGITUDE = 246.343
END_OBJECT = IMAGE_MAP_PROJECTION
/* The JPEG2000 image data file associated with this label. */
OBJECT = COMPRESSED_FILE
  FILE_NAME = "H8241_0000_S13.JP2"
  RECORD_TYPE = UNDEFINED
  FILE_RECORDS = UNK
  ENCODING_TYPE = "JP2"
  INTERCHANGE_FORMAT = BINARY
  UNCOMPRESSED_FILE_NAME = "H8241_0000_S13.IMG"
  REQUIRED_STORAGE_BYTES = "118963159"
  ^DESCRIPTION = "JP2INFO.TXT"
END_OBJECT = COMPRESSED_FILE
END
