PDS_VERSION_ID = PDS3
/* FILE DATA ELEMENTS */
RECORD_TYPE = STREAM
/* POINTERS TO DATA OBJECTS */
^COMPRESSED_FILE = "H8233_0000_S23.JP2"
/* IDENTIFICATION DATA ELEMENTS */
DATA_SET_ID = "MEX-M-HRSC-5-REFDR-MAPPROJECTED-V3.0"
DATA_SET_NAME = "MARS EXPRESS HRSC MAP PROJECTED REFDR V3.0"
DETECTOR_ID = MEX_HRSC_S2
EVENT_TYPE = "MARS-REGIONAL-MAPPING-Im-Pf-Eo"
INSTRUMENT_HOST_ID = MEX
INSTRUMENT_HOST_NAME = "MARS EXPRESS"
INSTRUMENT_ID = HRSC
INSTRUMENT_NAME = "HIGH RESOLUTION STEREO CAMERA"
MISSION_NAME = "MARS EXPRESS"
MISSION_PHASE_NAME = ME_Phase_20
PROCESSING_LEVEL_ID = 3
PRODUCT_CREATION_TIME = 2016-07-13T15:54:20.000Z
PRODUCT_ID = "H8233_0000_S23.JP2"
RELEASE_ID = 0090
REVISION_ID = 0000
/* QUALITY DATA ELEMENTS */
DATA_QUALITY_ID = 1
DATA_QUALITY_DESC = "Data calculated based on original SPICE kernels"
/* TIME DATA ELEMENTS */
SPACECRAFT_CLOCK_START_COUNT = "1/0224001117.07289"
SPACECRAFT_CLOCK_STOP_COUNT = "1/0224001727.63816"
START_TIME = 2010-06-07T14:31:59.670Z
STOP_TIME = 2010-06-07T14:34:19.599Z
/* ORBITAL DATA ELEMENTS */
ASCENDING_NODE_LONGITUDE = 60.1
MAXIMUM_RESOLUTION = 84.8
FOOTPRINT_POINT_LATITUDE = (53.8163,53.8345,53.8478,53.8599, 53.8709,53.8809,53.8897,53.8974,53.9041 ,53.9097,53.9141,53.9174,53.9195, 53.9203,54.1953,54.4056,54.6863,55.1129 ,55.3975,55.6859,55.9758,56.2666, 56.7073,57.0018,57.2993,57.5996,57.9008 ,58.2035,58.5084,58.8149,58.969,59.1242 ,59.2794,59.4352,59.5909,59.7478, 59.9047,60.0628,60.3004,60.4591,60.6188 ,60.7783,60.9391,61.1808,61.3424, 61.5045,61.6164,61.6154,61.6126,61.6073 ,61.6034,61.5977,61.5909,61.5843, 61.5726,61.5646,61.5563,61.545,61.5299, 61.5188,61.5048,61.49,61.4773,61.4535, 61.4314,61.4157,61.3968,61.2376,60.9991 ,60.7618,60.6042,60.4473,60.2909, 60.1353,59.9791,59.8233,59.6686,59.5147 ,59.3607,59.2075,58.9783,58.7498, 58.5982,58.296,57.9961,57.7722,57.401, 57.1058,56.8126,56.5937,56.3037,56.0146 ,55.6564,55.3718,55.0885,54.807,54.5273 ,54.3181,54.1103,53.8163)
FOOTPRINT_POINT_LONGITUDE = (354.442,353.877,353.426,352.975, 352.524,352.073,351.621,351.17,350.719, 350.268,349.816,349.363,348.909,348.625 ,348.526,348.509,348.487,348.452, 348.429,348.405,348.38,348.356,348.317, 348.292,348.265,348.238,348.21,348.182, 348.154,348.124,348.109,348.094,348.079 ,348.064,348.048,348.032,348.017,348.0, 347.976,347.959,347.943,347.926,347.909 ,347.883,347.865,347.848,348.089, 348.432,348.946,349.545,349.886,350.313 ,350.739,351.079,351.674,352.013, 352.353,352.778,353.287,353.626,354.05, 354.474,354.813,355.406,355.914,356.252 ,356.621,356.562,356.474,356.389, 356.333,356.278,356.225,356.172,356.12, 356.068,356.017,355.968,355.919,355.87, 355.8,355.73,355.685,355.596,355.51, 355.447,355.345,355.266,355.189,355.133 ,355.06,354.989,354.903,354.837,354.772 ,354.709,354.648,354.602,354.558, 354.442)
ORBIT_NUMBER = 8233
ORBITAL_ECCENTRICITY = 0.579
ORBITAL_INCLINATION = 86.82
ORBITAL_SEMIMAJOR_AXIS = 8856.09
PERIAPSIS_ALTITUDE = 334.75
PERIAPSIS_ARGUMENT_ANGLE = 355.4
PERIAPSIS_TIME = 2010-06-07T14:16:59.000Z
SPACECRAFT_ORIENTATION = (0.0,1.0,0.0)
^MEX_ORIENTATION_DESC = "MEX_ORIENTATION_DESC.TXT"
SPACECRAFT_POINTING_MODE = NADIR
^MEX_POINTING_DESC = "MEX_POINTING_DESC.TXT"
RIGHT_ASCENSION = -1e+32
DECLINATION = -1e+32
OFFSET_ANGLE = -1e+32
SPACECRAFT_SOLAR_DISTANCE = 2.45781e+08
TARGET_NAME = MARS
/* CAMERA DATA ELEMENTS */
DETECTOR_TEMPERATURE = 18.3705
FOCAL_PLANE_TEMPERATURE = 7.5638
INST_CMPRS_NAME = "DISCRETE COSINE TRANSFORMATION (DCT)"
INST_CMPRS_RATIO = 13.8652
INST_CMPRS_QUALITY = 0
INST_CMPRS_QUANTZ_TBL_ID = 0
INSTRUMENT_TEMPERATURE = 10.8262
LENS_TEMPERATURE = 7.9716
MACROPIXEL_SIZE = 2
MISSING_FRAMES = 0
PIXEL_SUBSAMPLING_FLAG = N
SIGNAL_CHAIN_ID = 1
/* RADIOMETRIC DATA ELEMENTS */
BANDWIDTH = 178.0
CENTER_FILTER_WAVELENGTH = 679.0
RADIANCE_OFFSET = 1.2479
RADIANCE_SCALING_FACTOR = 0.0102768
REFLECTANCE_SCALING_FACTOR = 0.00032876
MEX:REFLECTANCE_OFFSET = 0.0399209
/* IMAGE OBJECT DEFINITIONS */
OBJECT = IMAGE
  INTERCHANGE_FORMAT = BINARY
  LINES = 4579
  LINE_SAMPLES = 2893
  SAMPLE_TYPE = UNSIGNED_INTEGER
  SAMPLE_BITS = 8
  BANDS = 1
  BAND_STORAGE_TYPE = BAND_SEQUENTIAL
  MAXIMUM = 255
  MEAN = 90.5032
  MINIMUM = 1
  STANDARD_DEVIATION = 21.8434
END_OBJECT = IMAGE
/* MAP OBJECT DEFINITIONS */
OBJECT = IMAGE_MAP_PROJECTION
  ^DATA_SET_MAP_PROJECTION_CATALOG= "DSMAP.CAT"
  A_AXIS_RADIUS = 3396.0
  B_AXIS_RADIUS = 3396.0
  C_AXIS_RADIUS = 3396.0
  CENTER_LATITUDE = 0.0
  CENTER_LONGITUDE = 352.0
  COORDINATE_SYSTEM_NAME = PLANETOGRAPHIC
  COORDINATE_SYSTEM_TYPE = "BODY-FIXED ROTATING"
  EASTERNMOST_LONGITUDE = 356.621
  FIRST_STANDARD_PARALLEL = "N/A"
  LINE_FIRST_PIXEL = 1
  LINE_LAST_PIXEL = 4579
  LINE_PROJECTION_OFFSET = 36511.75
  MAP_PROJECTION_ROTATION = 0.0
  MAP_PROJECTION_TYPE = SINUSOIDAL
  MAP_RESOLUTION = 592.713803866667
  MAP_SCALE = 0.1
  MAXIMUM_LATITUDE = 61.6164
  MINIMUM_LATITUDE = 53.8163
  POSITIVE_LONGITUDE_DIRECTION = EAST
  REFERENCE_LATITUDE = "N/A"
  REFERENCE_LONGITUDE = "N/A"
  SAMPLE_FIRST_PIXEL = 1
  SAMPLE_LAST_PIXEL = 2893
  SAMPLE_PROJECTION_OFFSET = 1356.25
  SECOND_STANDARD_PARALLEL = "N/A"
  WESTERNMOST_LONGITUDE = 347.848
END_OBJECT = IMAGE_MAP_PROJECTION
/* The JPEG2000 image data file associated with this label. */
OBJECT = COMPRESSED_FILE
  FILE_NAME = "H8233_0000_S23.JP2"
  RECORD_TYPE = UNDEFINED
  FILE_RECORDS = UNK
  ENCODING_TYPE = "JP2"
  INTERCHANGE_FORMAT = BINARY
  UNCOMPRESSED_FILE_NAME = "H8233_0000_S23.IMG"
  REQUIRED_STORAGE_BYTES = "13270191"
  ^DESCRIPTION = "JP2INFO.TXT"
END_OBJECT = COMPRESSED_FILE
END
