PDS_VERSION_ID = PDS3
/* FILE DATA ELEMENTS */
RECORD_TYPE = STREAM
/* POINTERS TO DATA OBJECTS */
^COMPRESSED_FILE = "H8218_0000_S23.JP2"
/* IDENTIFICATION DATA ELEMENTS */
DATA_SET_ID = "MEX-M-HRSC-5-REFDR-MAPPROJECTED-V3.0"
DATA_SET_NAME = "MARS EXPRESS HRSC MAP PROJECTED REFDR V3.0"
DETECTOR_ID = MEX_HRSC_S2
EVENT_TYPE = "MARS-LOCAL-COLOR-Pf-Ts"
INSTRUMENT_HOST_ID = MEX
INSTRUMENT_HOST_NAME = "MARS EXPRESS"
INSTRUMENT_ID = HRSC
INSTRUMENT_NAME = "HIGH RESOLUTION STEREO CAMERA"
MISSION_NAME = "MARS EXPRESS"
MISSION_PHASE_NAME = ME_Phase_20
PROCESSING_LEVEL_ID = 3
PRODUCT_CREATION_TIME = 2016-07-13T15:54:20.000Z
PRODUCT_ID = "H8218_0000_S23.JP2"
RELEASE_ID = 0090
REVISION_ID = 0000
/* QUALITY DATA ELEMENTS */
DATA_QUALITY_ID = 1
DATA_QUALITY_DESC = "Data calculated based on original SPICE kernels"
/* TIME DATA ELEMENTS */
SPACECRAFT_CLOCK_START_COUNT = "1/0223623161.07295"
SPACECRAFT_CLOCK_STOP_COUNT = "1/0223623617.06331"
START_TIME = 2010-06-03T05:32:43.634Z
STOP_TIME = 2010-06-03T05:35:43.261Z
/* ORBITAL DATA ELEMENTS */
ASCENDING_NODE_LONGITUDE = 60.38
MAXIMUM_RESOLUTION = 59.3
FOOTPRINT_POINT_LATITUDE = (41.6504,41.6583,41.6645,41.6702, 41.6742,41.6771,41.6782,41.7619,42.2334 ,42.7109,43.2901,43.6801,43.8773, 44.0739,44.372,44.5713,44.8728,45.074, 45.3793,45.686,45.892,46.2023,46.4104, 46.6191,46.8293,47.146,47.358,47.5713, 47.7859,48.1104,48.327,48.5457,48.7643, 48.9854,49.3171,49.5395,49.7643,49.9896 ,50.2162,50.5578,50.7867,51.0174, 51.2482,51.4813,51.8322,52.0676,52.3729 ,52.3689,52.3653,52.3617,52.3563, 52.3503,52.3433,52.3355,52.3267,52.3181 ,52.3078,52.2966,52.1649,51.9302, 51.6971,51.3493,51.1185,50.8892,50.5472 ,50.3205,50.0952,49.8706,49.6472, 49.3141,49.0926,48.8737,48.6553,48.4383 ,48.2217,48.0067,47.6849,47.4717, 47.2593,47.0479,46.8378,46.6291,46.3171 ,46.1101,45.9045,45.6997,45.4953, 45.2926,45.0898,44.7888,44.5879,44.3897 ,44.1912,43.7981,43.4077,43.0206, 42.7333,42.2574,41.8806,41.6504)
FOOTPRINT_POINT_LONGITUDE = (87.0884,86.5586,86.0603,85.4997,85.002 ,84.5037,84.2228,83.8356,83.8142,83.792 ,83.7649,83.7463,83.7368,83.7274,83.713 ,83.7032,83.6883,83.6784,83.663,83.6474 ,83.6368,83.6207,83.6099,83.599,83.588, 83.5711,83.5599,83.5485,83.5368,83.5188 ,83.5068,83.4946,83.4824,83.4699, 83.4511,83.4385,83.4254,83.4121,83.3988 ,83.3785,83.3648,83.3509,83.337,83.3227 ,83.301,83.2861,83.4164,84.1234,84.5265 ,84.8788,85.281,85.683,86.0851,86.4874, 86.8897,87.2416,87.644,88.0465,88.4459, 88.4045,88.3641,88.305,88.2665,88.229, 88.1741,88.1385,88.1036,88.0693,88.0358 ,87.9867,87.9545,87.9235,87.8931, 87.8633,87.8339,87.8052,87.7627,87.7352 ,87.7079,87.6813,87.6553,87.6299, 87.5925,87.5681,87.5443,87.5208,87.4977 ,87.4751,87.4528,87.4203,87.3989, 87.3781,87.3576,87.3179,87.2792,87.242, 87.215,87.1714,87.1379,87.0884)
ORBIT_NUMBER = 8218
ORBITAL_ECCENTRICITY = 0.579
ORBITAL_INCLINATION = 86.83
ORBITAL_SEMIMAJOR_AXIS = 8863.71
PERIAPSIS_ALTITUDE = 335.2
PERIAPSIS_ARGUMENT_ANGLE = 357.98
PERIAPSIS_TIME = 2010-06-03T05:21:58.000Z
SPACECRAFT_ORIENTATION = (0.0,1.0,0.0)
^MEX_ORIENTATION_DESC = "MEX_ORIENTATION_DESC.TXT"
SPACECRAFT_POINTING_MODE = NADIR
^MEX_POINTING_DESC = "MEX_POINTING_DESC.TXT"
RIGHT_ASCENSION = -1e+32
DECLINATION = -1e+32
OFFSET_ANGLE = -1e+32
SPACECRAFT_SOLAR_DISTANCE = 2.46198e+08
TARGET_NAME = MARS
/* CAMERA DATA ELEMENTS */
DETECTOR_TEMPERATURE = 18.5744
FOCAL_PLANE_TEMPERATURE = 8.1755
INST_CMPRS_NAME = "DISCRETE COSINE TRANSFORMATION (DCT)"
INST_CMPRS_RATIO = 14.0754
INST_CMPRS_QUALITY = 0
INST_CMPRS_QUANTZ_TBL_ID = 0
INSTRUMENT_TEMPERATURE = 11.234
LENS_TEMPERATURE = 8.5833
MACROPIXEL_SIZE = 2
MISSING_FRAMES = 0
PIXEL_SUBSAMPLING_FLAG = N
SIGNAL_CHAIN_ID = 1
/* RADIOMETRIC DATA ELEMENTS */
BANDWIDTH = 178.0
CENTER_FILTER_WAVELENGTH = 679.0
RADIANCE_OFFSET = 1.03887
RADIANCE_SCALING_FACTOR = 0.00835693
REFLECTANCE_SCALING_FACTOR = 0.000268252
MEX:REFLECTANCE_OFFSET = 0.0333471
/* IMAGE OBJECT DEFINITIONS */
OBJECT = IMAGE
  INTERCHANGE_FORMAT = BINARY
  LINES = 12637
  LINE_SAMPLES = 4259
  SAMPLE_TYPE = UNSIGNED_INTEGER
  SAMPLE_BITS = 8
  BANDS = 1
  BAND_STORAGE_TYPE = BAND_SEQUENTIAL
  MAXIMUM = 255
  MEAN = 67.2535
  MINIMUM = 1
  STANDARD_DEVIATION = 22.1606
END_OBJECT = IMAGE
/* MAP OBJECT DEFINITIONS */
OBJECT = IMAGE_MAP_PROJECTION
  ^DATA_SET_MAP_PROJECTION_CATALOG= "DSMAP.CAT"
  A_AXIS_RADIUS = 3396.0
  B_AXIS_RADIUS = 3396.0
  C_AXIS_RADIUS = 3396.0
  CENTER_LATITUDE = 0.0
  CENTER_LONGITUDE = 86.0
  COORDINATE_SYSTEM_NAME = PLANETOGRAPHIC
  COORDINATE_SYSTEM_TYPE = "BODY-FIXED ROTATING"
  EASTERNMOST_LONGITUDE = 88.44589999999999
  FIRST_STANDARD_PARALLEL = "N/A"
  LINE_FIRST_PIXEL = 1
  LINE_LAST_PIXEL = 12637
  LINE_PROJECTION_OFFSET = 62084.75
  MAP_PROJECTION_ROTATION = 0.0
  MAP_PROJECTION_TYPE = SINUSOIDAL
  MAP_RESOLUTION = 1185.42760773333
  MAP_SCALE = 0.05
  MAXIMUM_LATITUDE = 52.3729
  MINIMUM_LATITUDE = 41.6504
  POSITIVE_LONGITUDE_DIRECTION = EAST
  REFERENCE_LATITUDE = "N/A"
  REFERENCE_LONGITUDE = "N/A"
  SAMPLE_FIRST_PIXEL = 1
  SAMPLE_LAST_PIXEL = 4259
  SAMPLE_PROJECTION_OFFSET = 2203.75
  SECOND_STANDARD_PARALLEL = "N/A"
  WESTERNMOST_LONGITUDE = 83.2861
END_OBJECT = IMAGE_MAP_PROJECTION
/* The JPEG2000 image data file associated with this label. */
OBJECT = COMPRESSED_FILE
  FILE_NAME = "H8218_0000_S23.JP2"
  RECORD_TYPE = UNDEFINED
  FILE_RECORDS = UNK
  ENCODING_TYPE = "JP2"
  INTERCHANGE_FORMAT = BINARY
  UNCOMPRESSED_FILE_NAME = "H8218_0000_S23.IMG"
  REQUIRED_STORAGE_BYTES = "53846537"
  ^DESCRIPTION = "JP2INFO.TXT"
END_OBJECT = COMPRESSED_FILE
END
