PDS_VERSION_ID = PDS3
/* FILE DATA ELEMENTS */
RECORD_TYPE = STREAM
/* POINTERS TO DATA OBJECTS */
^COMPRESSED_FILE = "H8203_0000_S23.JP2"
/* IDENTIFICATION DATA ELEMENTS */
DATA_SET_ID = "MEX-M-HRSC-5-REFDR-MAPPROJECTED-V3.0"
DATA_SET_NAME = "MARS EXPRESS HRSC MAP PROJECTED REFDR V3.0"
DETECTOR_ID = MEX_HRSC_S2
EVENT_TYPE = "MARS-REGIONAL-MAPPING-Vo-Im-Pf"
INSTRUMENT_HOST_ID = MEX
INSTRUMENT_HOST_NAME = "MARS EXPRESS"
INSTRUMENT_ID = HRSC
INSTRUMENT_NAME = "HIGH RESOLUTION STEREO CAMERA"
MISSION_NAME = "MARS EXPRESS"
MISSION_PHASE_NAME = ME_Phase_20
PROCESSING_LEVEL_ID = 3
PRODUCT_CREATION_TIME = 2016-07-13T15:54:20.000Z
PRODUCT_ID = "H8203_0000_S23.JP2"
RELEASE_ID = 0090
REVISION_ID = 0000
/* QUALITY DATA ELEMENTS */
DATA_QUALITY_ID = 1
DATA_QUALITY_DESC = "Data calculated based on original SPICE kernels"
/* TIME DATA ELEMENTS */
SPACECRAFT_CLOCK_START_COUNT = "1/0223245598.09061"
SPACECRAFT_CLOCK_STOP_COUNT = "1/0223246510.25257"
START_TIME = 2010-05-29T20:40:00.704Z
STOP_TIME = 2010-05-29T20:45:51.019Z
/* ORBITAL DATA ELEMENTS */
ASCENDING_NODE_LONGITUDE = 60.67
MAXIMUM_RESOLUTION = 70.1
FOOTPRINT_POINT_LATITUDE = (50.9039,50.927,50.9476,50.9657,50.9813 ,50.9943,51.004,51.5968,52.2368,53.0489 ,53.7093,54.3794,55.0591,55.7488, 56.4491,56.8018,57.1599,57.5196,57.8818 ,58.2465,58.6143,58.9853,59.3592, 59.7357,60.1152,60.4983,60.8839,61.2727 ,61.6649,62.06,62.4585,62.8602,63.265, 63.6729,64.0848,64.4999,64.919,65.3418, 65.7684,66.1981,66.6316,67.0686,67.5096 ,67.9543,68.4028,68.8555,69.3127, 69.7733,70.2381,70.321,70.3114,70.2891, 70.2672,70.2265,70.1545,70.0636,69.9569 ,69.505,69.0566,68.6109,68.1691,67.7306 ,67.2947,66.863,66.4335,66.0082,65.5858 ,65.1665,64.7511,64.3387,63.9293, 63.5223,63.119,62.7184,62.3221,61.9281, 61.5376,61.1498,60.7653,60.3834,60.0043 ,59.6277,59.2544,58.8842,58.5166, 58.1513,57.789,57.4293,57.072,56.7176, 56.3658,56.0163,55.3256,54.6448,53.9734 ,53.3109,52.6587,52.0143,51.3796, 50.9039)
FOOTPRINT_POINT_LONGITUDE = (180.546,179.854,179.159,178.458, 177.754,177.043,176.37,176.217,176.16, 176.085,176.022,175.957,175.888,175.816 ,175.741,175.703,175.661,175.62,175.577 ,175.534,175.49,175.443,175.396,175.347 ,175.297,175.245,175.193,175.138, 175.081,175.023,174.963,174.901,174.837 ,174.771,174.703,174.632,174.557,174.48 ,174.4,174.317,174.231,174.141,174.048, 173.95,173.848,173.741,173.628,173.511, 173.388,175.629,176.689,178.137,179.183 ,180.743,182.807,184.848,186.785, 186.484,186.201,185.933,185.68,185.441, 185.214,184.999,184.795,184.601,184.416 ,184.24,184.073,183.913,183.761,183.615 ,183.476,183.343,183.216,183.094, 182.977,182.865,182.758,182.655,182.556 ,182.461,182.369,182.282,182.197, 182.115,182.037,181.961,181.888,181.818 ,181.75,181.684,181.56,181.443,181.335, 181.233,181.137,181.047,180.963, 180.546)
ORBIT_NUMBER = 8203
ORBITAL_ECCENTRICITY = 0.578
ORBITAL_INCLINATION = 86.84
ORBITAL_SEMIMAJOR_AXIS = 8853.13
PERIAPSIS_ALTITUDE = 337.52
PERIAPSIS_ARGUMENT_ANGLE = 0.62
PERIAPSIS_TIME = 2010-05-29T20:27:23.000Z
SPACECRAFT_ORIENTATION = (0.0,1.0,0.0)
^MEX_ORIENTATION_DESC = "MEX_ORIENTATION_DESC.TXT"
SPACECRAFT_POINTING_MODE = ACROSSTRACK
^MEX_POINTING_DESC = "MEX_POINTING_DESC.TXT"
RIGHT_ASCENSION = -1e+32
DECLINATION = -1e+32
OFFSET_ANGLE = 0.916
SPACECRAFT_SOLAR_DISTANCE = 2.4659e+08
TARGET_NAME = MARS
/* CAMERA DATA ELEMENTS */
DETECTOR_TEMPERATURE = 19.7978
FOCAL_PLANE_TEMPERATURE = 7.5638
INST_CMPRS_NAME = "DISCRETE COSINE TRANSFORMATION (DCT)"
INST_CMPRS_RATIO = 15.3204
INST_CMPRS_QUALITY = 0
INST_CMPRS_QUANTZ_TBL_ID = 0
INSTRUMENT_TEMPERATURE = 11.0301
LENS_TEMPERATURE = 7.9716
MACROPIXEL_SIZE = 2
MISSING_FRAMES = 0
PIXEL_SUBSAMPLING_FLAG = N
SIGNAL_CHAIN_ID = 1
/* RADIOMETRIC DATA ELEMENTS */
BANDWIDTH = 178.0
CENTER_FILTER_WAVELENGTH = 679.0
RADIANCE_OFFSET = 1.51765
RADIANCE_SCALING_FACTOR = 0.00983829
REFLECTANCE_SCALING_FACTOR = 0.000316808
MEX:REFLECTANCE_OFFSET = 0.0488706
/* IMAGE OBJECT DEFINITIONS */
OBJECT = IMAGE
  INTERCHANGE_FORMAT = BINARY
  LINES = 22856
  LINE_SAMPLES = 6358
  SAMPLE_TYPE = UNSIGNED_INTEGER
  SAMPLE_BITS = 8
  BANDS = 1
  BAND_STORAGE_TYPE = BAND_SEQUENTIAL
  MAXIMUM = 255
  MEAN = 132.623
  MINIMUM = 1
  STANDARD_DEVIATION = 47.6193
END_OBJECT = IMAGE
/* MAP OBJECT DEFINITIONS */
OBJECT = IMAGE_MAP_PROJECTION
  ^DATA_SET_MAP_PROJECTION_CATALOG= "DSMAP.CAT"
  A_AXIS_RADIUS = 3396.0
  B_AXIS_RADIUS = 3396.0
  C_AXIS_RADIUS = 3396.0
  CENTER_LATITUDE = 0.0
  CENTER_LONGITUDE = 179.0
  COORDINATE_SYSTEM_NAME = PLANETOGRAPHIC
  COORDINATE_SYSTEM_TYPE = "BODY-FIXED ROTATING"
  EASTERNMOST_LONGITUDE = 186.785
  FIRST_STANDARD_PARALLEL = "N/A"
  LINE_FIRST_PIXEL = 1
  LINE_LAST_PIXEL = 22856
  LINE_PROJECTION_OFFSET = 83319.25
  MAP_PROJECTION_ROTATION = 0.0
  MAP_PROJECTION_TYPE = SINUSOIDAL
  MAP_RESOLUTION = 1185.42760773333
  MAP_SCALE = 0.05
  MAXIMUM_LATITUDE = 70.321
  MINIMUM_LATITUDE = 50.9039
  POSITIVE_LONGITUDE_DIRECTION = EAST
  REFERENCE_LATITUDE = "N/A"
  REFERENCE_LONGITUDE = "N/A"
  SAMPLE_FIRST_PIXEL = 1
  SAMPLE_LAST_PIXEL = 6358
  SAMPLE_PROJECTION_OFFSET = 2616.25
  SECOND_STANDARD_PARALLEL = "N/A"
  WESTERNMOST_LONGITUDE = 173.388
END_OBJECT = IMAGE_MAP_PROJECTION
/* The JPEG2000 image data file associated with this label. */
OBJECT = COMPRESSED_FILE
  FILE_NAME = "H8203_0000_S23.JP2"
  RECORD_TYPE = UNDEFINED
  FILE_RECORDS = UNK
  ENCODING_TYPE = "JP2"
  INTERCHANGE_FORMAT = BINARY
  UNCOMPRESSED_FILE_NAME = "H8203_0000_S23.IMG"
  REQUIRED_STORAGE_BYTES = "145350238"
  ^DESCRIPTION = "JP2INFO.TXT"
END_OBJECT = COMPRESSED_FILE
END
